BEGIN:VCALENDAR
VERSION:2.0
PRODID:-//8. März - ECPv6.15.20//NONSGML v1.0//EN
CALSCALE:GREGORIAN
METHOD:PUBLISH
X-WR-CALNAME:8. März
X-ORIGINAL-URL:https://8maerz.at
X-WR-CALDESC:Veranstaltungen für 8. März
REFRESH-INTERVAL;VALUE=DURATION:PT1H
X-Robots-Tag:noindex
X-PUBLISHED-TTL:PT1H
BEGIN:VTIMEZONE
TZID:Europe/Vienna
BEGIN:DAYLIGHT
TZOFFSETFROM:+0100
TZOFFSETTO:+0200
TZNAME:CEST
DTSTART:20190331T010000
END:DAYLIGHT
BEGIN:STANDARD
TZOFFSETFROM:+0200
TZOFFSETTO:+0100
TZNAME:CET
DTSTART:20191027T010000
END:STANDARD
BEGIN:DAYLIGHT
TZOFFSETFROM:+0100
TZOFFSETTO:+0200
TZNAME:CEST
DTSTART:20200329T010000
END:DAYLIGHT
BEGIN:STANDARD
TZOFFSETFROM:+0200
TZOFFSETTO:+0100
TZNAME:CET
DTSTART:20201025T010000
END:STANDARD
BEGIN:DAYLIGHT
TZOFFSETFROM:+0100
TZOFFSETTO:+0200
TZNAME:CEST
DTSTART:20210328T010000
END:DAYLIGHT
BEGIN:STANDARD
TZOFFSETFROM:+0200
TZOFFSETTO:+0100
TZNAME:CET
DTSTART:20211031T010000
END:STANDARD
END:VTIMEZONE
BEGIN:VEVENT
DTSTART;TZID=Europe/Vienna:20200127T180000
DTEND;TZID=Europe/Vienna:20200127T200000
DTSTAMP:20260425T173446
CREATED:20200108T204256Z
LAST-MODIFIED:20200108T205818Z
UID:10003595-1580148000-1580155200@8maerz.at
SUMMARY:Türkisgrünes Regierungsprogramm –  was bringt's den Frauen?
DESCRIPTION:Türkisgrünes Regierungsprogramm – was bringt’s den Frauen?\nSemi­nar­raum­ge­spräch – Den­ken in Präsenz\nMon­tag\, 27. Jän­ner 2020\, 18:00–20:00 Uhr \nMit Andrea Brun­ner\, Poli­tik­wis­sen­schaf­te­rin\, SPÖ-Bun­des­frau­en­ge­schäfts­füh­re­rin\, davor 5 Jah­re Mit­ar­bei­te­rin im Frauenministerium. \nIn den Frau­en­hetz-Semi­nar­raum­ge­sprä­chen kann lei­den­schaft­lich und mit Muße in Prä­senz über Gegen­wär­ti­ges nach­ge­dacht werden. \nKura­tiert und mode­riert von Bir­ge Krondorfer\nSnacks und Geträn­ke wer­den gereicht. Ein­tritt frei\, Spen­den willkommen\nOrt: Frau­en­bil­dungs­stät­te Frau­en­hetz\, Unte­re Weiß­ger­ber­str. 41\, 1030 Wien \nVer­an­stal­tung für Frauen.
URL:https://8maerz.at/veranstaltung/turkisgrunes-regierungsprogramm-was-bringts-den-frauen/
LOCATION:Frauenhetz\, Untere Weißgerberstraße 41\, Wien\, 1030
ORGANIZER;CN="Frauenhetz - feministische Bildung%2C Kultur und Politik":MAILTO:office@frauenhetz.at
GEO:48.2084854;16.3946163
X-APPLE-STRUCTURED-LOCATION;VALUE=URI;X-ADDRESS=Frauenhetz Untere Weißgerberstraße 41 Wien 1030;X-APPLE-RADIUS=500;X-TITLE=Untere Weißgerberstraße 41:geo:16.3946163,48.2084854
END:VEVENT
BEGIN:VEVENT
DTSTART;TZID=Europe/Vienna:20200129T190000
DTEND;TZID=Europe/Vienna:20200129T210000
DTSTAMP:20260425T173446
CREATED:20200108T203109Z
LAST-MODIFIED:20200108T203134Z
UID:10003594-1580324400-1580331600@8maerz.at
SUMMARY:feminismen diskutieren: Empowerment und Intersektionalität
DESCRIPTION:feminismen diskutieren: Empowerment & Intersektionalität\nWie kön­nen zwei so umkämpf­te\, schwer fass­ba­re und ver­meint­lich dif­fu­se Kon­zep­te wie Empower­ment und Inter­sek­tio­na­li­tät zusam­men gedacht wer­den? Wel­che Aus­wir­kun­gen hat die­ses Zusam­men­den­ken auf femi­nis­ti­sche Theo­rie und Pra­xis? Wie kön­nen die­se Fra­gen dif­fe­ren­ziert und kon­tex­tua­li­siert wer­den? Ein ana­ly­ti­sches Modell am Bei­spiel macht­kri­ti­scher Bil­dungs­ar­beit kann vor­läu­fi­ge Ant­wor­ten bringen. \nMiša Krenčey­o­vá\, Afri­ka­nis­tin\, Wien/Bratislava\nMode­ra­ti­on: Sabi­ne Prokop (VfW) \nIn Koope­ra­ti­on mit dem Ver­band femi­nis­ti­scher Wissenschafter*innen
URL:https://8maerz.at/veranstaltung/feminismen-diskutieren-empowerment-intersektionalitat/
LOCATION:Depot – Kunst und Diskussion\, Breite Gasse 3\, Wien\, 1070
GEO:48.2031754;16.3568226
X-APPLE-STRUCTURED-LOCATION;VALUE=URI;X-ADDRESS=Depot – Kunst und Diskussion Breite Gasse 3 Wien 1070;X-APPLE-RADIUS=500;X-TITLE=Breite Gasse 3:geo:16.3568226,48.2031754
END:VEVENT
END:VCALENDAR