BEGIN:VCALENDAR
VERSION:2.0
PRODID:-//8. März - ECPv6.15.20//NONSGML v1.0//EN
CALSCALE:GREGORIAN
METHOD:PUBLISH
X-ORIGINAL-URL:https://8maerz.at
X-WR-CALDESC:Veranstaltungen für 8. März
REFRESH-INTERVAL;VALUE=DURATION:PT1H
X-Robots-Tag:noindex
X-PUBLISHED-TTL:PT1H
BEGIN:VTIMEZONE
TZID:Europe/Vienna
BEGIN:DAYLIGHT
TZOFFSETFROM:+0100
TZOFFSETTO:+0200
TZNAME:CEST
DTSTART:20190331T010000
END:DAYLIGHT
BEGIN:STANDARD
TZOFFSETFROM:+0200
TZOFFSETTO:+0100
TZNAME:CET
DTSTART:20191027T010000
END:STANDARD
BEGIN:DAYLIGHT
TZOFFSETFROM:+0100
TZOFFSETTO:+0200
TZNAME:CEST
DTSTART:20200329T010000
END:DAYLIGHT
BEGIN:STANDARD
TZOFFSETFROM:+0200
TZOFFSETTO:+0100
TZNAME:CET
DTSTART:20201025T010000
END:STANDARD
BEGIN:DAYLIGHT
TZOFFSETFROM:+0100
TZOFFSETTO:+0200
TZNAME:CEST
DTSTART:20210328T010000
END:DAYLIGHT
BEGIN:STANDARD
TZOFFSETFROM:+0200
TZOFFSETTO:+0100
TZNAME:CET
DTSTART:20211031T010000
END:STANDARD
END:VTIMEZONE
BEGIN:VEVENT
DTSTART;TZID=Europe/Vienna:20200111T100000
DTEND;TZID=Europe/Vienna:20200111T120000
DTSTAMP:20260425T172303
CREATED:20200107T131528Z
LAST-MODIFIED:20200107T131807Z
UID:10003576-1578736800-1578744000@8maerz.at
SUMMARY:Frauen*frühstück: Kulturförderung und Gender
DESCRIPTION:Frauen*frühstück zum Thema Kulturförderung und Gender\nSams­tag\, 11. Jän­ner 2020 von 10 bis 12 Uhr\nGrün­raum 4\, 1040\, Favo­ri­ten­stra­ße 22\nbar­rie­re­frei\, direkt beim U1-Lif­t/ Taubstummengasse \nExper­tin­nen:\nUrsu­la Ber­ner\, Gemeinderätin\nhttps://wien.gruene.at/ursula-berner\nTali­ta Simek\, Theaterprinzipalin\nhttps://www.ateliertheater.net/das-theater/ \nUrsu­la Ber­ner\, Abge­ord­ne­te zum Wie­ner Gemein­de­rat und Land­tag\, und Tali­ta Simek\, Thea­ter­prin­zi­pa­lin\, eine der bei­den Obfrau­en vom Ate­lier­thea­ter\, wer­den über Kul­tur­för­de­rung und Gen­der spre­chen. Natür­lich kön­nen auch ande­re The­men ange­spro­chen wer­den. Plau­dern bei Kaf­fee\, Tee und Kuchen. \nAnmel­dun­gen und Rück­fra­gen per Mail an wieden@gruene.at
URL:https://8maerz.at/veranstaltung/frauenfruehstueck-kulturfoerderung-und-gender/
LOCATION:Grünraum 4\, Favoritenstraße 22\, Wien\, Wien\, 1040\, Österreich
END:VEVENT
END:VCALENDAR