BEGIN:VCALENDAR
VERSION:2.0
PRODID:-//8. März - ECPv6.15.17.1//NONSGML v1.0//EN
CALSCALE:GREGORIAN
METHOD:PUBLISH
X-ORIGINAL-URL:https://8maerz.at
X-WR-CALDESC:Veranstaltungen für 8. März
REFRESH-INTERVAL;VALUE=DURATION:PT1H
X-Robots-Tag:noindex
X-PUBLISHED-TTL:PT1H
BEGIN:VTIMEZONE
TZID:Europe/Vienna
BEGIN:DAYLIGHT
TZOFFSETFROM:+0100
TZOFFSETTO:+0200
TZNAME:CEST
DTSTART:20230326T010000
END:DAYLIGHT
BEGIN:STANDARD
TZOFFSETFROM:+0200
TZOFFSETTO:+0100
TZNAME:CET
DTSTART:20231029T010000
END:STANDARD
BEGIN:DAYLIGHT
TZOFFSETFROM:+0100
TZOFFSETTO:+0200
TZNAME:CEST
DTSTART:20240331T010000
END:DAYLIGHT
BEGIN:STANDARD
TZOFFSETFROM:+0200
TZOFFSETTO:+0100
TZNAME:CET
DTSTART:20241027T010000
END:STANDARD
BEGIN:DAYLIGHT
TZOFFSETFROM:+0100
TZOFFSETTO:+0200
TZNAME:CEST
DTSTART:20250330T010000
END:DAYLIGHT
BEGIN:STANDARD
TZOFFSETFROM:+0200
TZOFFSETTO:+0100
TZNAME:CET
DTSTART:20251026T010000
END:STANDARD
END:VTIMEZONE
BEGIN:VEVENT
DTSTART;TZID=Europe/Vienna:20240219T200000
DTEND;TZID=Europe/Vienna:20240219T220000
DTSTAMP:20260422T065444
CREATED:20240121T203232Z
LAST-MODIFIED:20240121T203232Z
UID:10004059-1708372800-1708380000@8maerz.at
SUMMARY:Lesung: Femizide und Patriarchale Belastungsstörung
DESCRIPTION:mit Yvonne Wid­ler & Bea­tri­ce Frasl | Lesung & Gespräch\nFEM*EXCHANGE – Femi­nis­ti­scher Diskurs\nBeginn: Mo\, 19. Feb. 2024 | 20:00 \nKar­ten: Der Vor­ver­kauf star­tet regu­lär 4 Wochen vor dem ers­ten Vorstellungstermin. \nFrau­en sind in patri­ar­cha­len Ver­hält­nis­sen einer Rei­he von Belas­tun­gen aus­ge­setzt\, die ihre psy­chi­sche Gesund­heit gefähr­den und beein­träch­ti­gen: sie haben signi­fi­kant weni­ger finan­zi­el­le Res­sour­cen zur Ver­fü­gung\, sind öfter von Armut und Aus­gren­zung betrof­fen\, wer­den durch ein­engen­de Schön­heits­nor­men ein­ge­schränkt\, tra­gen den Groß­teil der unbe­zahl­ten Repro­duk­ti­ons­ar­beit und: Sie sind in grö­ße­rem Aus­maß von sexua­li­sier­ter Gewalt und Gewalt in Intim­be­zie­hun­gen betrof­fen. Femi­zi­de sind ein glo­ba­les Ver­bre­chen\, denn über­all auf der Welt ist das eige­ne Zuhau­se einer der gefähr­lichs­ten Orte für Frauen. \nDas Patri­ar­chat wirkt nicht nur bis in tie­fe pri­va­te Sphä­ren\, son­dern auch aus ihnen her­aus. Das Pri­va­te ist also auch immer poli­tisch. Die Autorin­nen Yvonne Wid­ler und Bea­tri­ce Frasl schrei­ben über die Aus­wir­kun­gen patri­ar­cha­ler Geschlech­ter­ver­hält­nis­se\, Hier­ar­chien und Geschlech­ter­rol­len in die­sen pri­va­ten Sphä­ren. Wid­ler beschäf­tigt sich seit Jah­ren mit männ­li­cher Gewalt gegen Frau­en\, Frasl mit den viel­fäl­ti­gen\, vor allem psy­chi­schen Belas­tun­gen\, die Frau­en in patri­ar­cha­len Ver­hält­nis­sen erlei­den. In einer gemein­sa­men Lesung wer­den sie bei­de The­men zusammenführen. \nHEIMAT BIST DU TOTER TÖCHTER von Yvonne Wid­ler ist im Kre­mayr & Sche­ri­au Ver­lag erschie­nen\, PATRIARCHALE BELASTUNGSSTÖRUNG von Bea­tri­ce Frasl im Hay­mon Verlag.
URL:https://8maerz.at/veranstaltung/lesung-femizide-und-patriarchale-belastungsstoerung/
LOCATION:KosmosTheater\, Siebensterngasse 42\, Wien\, 1070
GEO:48.2023843;16.3514542
X-APPLE-STRUCTURED-LOCATION;VALUE=URI;X-ADDRESS=KosmosTheater Siebensterngasse 42 Wien 1070;X-APPLE-RADIUS=500;X-TITLE=Siebensterngasse 42:geo:16.3514542,48.2023843
END:VEVENT
BEGIN:VEVENT
DTSTART;TZID=Europe/Vienna:20240224T100000
DTEND;TZID=Europe/Vienna:20240224T180000
DTSTAMP:20260422T065444
CREATED:20240210T220921Z
LAST-MODIFIED:20240210T220921Z
UID:10004127-1708768800-1708797600@8maerz.at
SUMMARY:Geschlechtergerechte Sprache. Ein Dauerbrenner – warum?
DESCRIPTION:Wird Spra­che als „Haus des Seins“ ver­stan­den\, so ist ersicht­lich\, wie wesent­lich sie für unse­re Exis­ten­z­wei­sen ist: Ver­ste­hen von Ande­ren und des eige­nen Selbst; Welt­erschlie­ßung und ‑gestal­tung zugleich. Des­halb ist es essen­zi­ell\, dar­über zu spre­chen\, wie geschlecht­li­che\, nach wie vor hier­ar­chisch struk­tu­rier­te Unter­schie­de sprach­lich reprä­sen­tiert wer­den. Es wer­den die diver­sen femi­nis­ti­schen Per­spek­ti­ven der letz­ten Jahr­zehn­te zu die­sem umstrit­te­nen The­ma erar­bei­tet und dis­ku­tiert. Der Work­shop ist lek­tü­re­ba­siert\, teil­neh­me­rin­nen­ori­en­tiert und selbst­re­fle­xiv. Vor­kennt­nis­se nicht nötig. \nMit Bir­ge Kron­dor­fer\, poli­ti­sche Phi­lo­so­phin und femi­nis­tisch enga­giert\, Uni­ver­si­tä­re Lehr­be­auf­trag­te und in der Frau­en­bil­dung tätig. \nUnkos­ten­bei­trag: € 20\,- (Text­ko­pien\, Geträn­ke und Snacks)\nZahl­bar vor Ort. \nTeil­neh­me­rin­nen­zahl: mind. 6 – max. 15\nOrt: Frau­en­bil­dungs­stät­te Frau­en­hetz\, Unte­re Weiß­ger­ber­stras­se 41\, 1030 Wien  \nAnmel­dung bis spä­tes­tens Mon­tag\, 19. Febru­ar 2024\, an pr@frauenhetz.at\nDer Work­shop ist für Frauen. 
URL:https://8maerz.at/veranstaltung/geschlechtergerechte-sprache-ein-dauerbrenner-warum/
LOCATION:Frauenhetz\, Untere Weißgerberstraße 41\, Wien\, 1030
ORGANIZER;CN="Frauenhetz - feministische Bildung%2C Kultur und Politik":MAILTO:office@frauenhetz.at
GEO:48.2084854;16.3946163
X-APPLE-STRUCTURED-LOCATION;VALUE=URI;X-ADDRESS=Frauenhetz Untere Weißgerberstraße 41 Wien 1030;X-APPLE-RADIUS=500;X-TITLE=Untere Weißgerberstraße 41:geo:16.3946163,48.2084854
END:VEVENT
END:VCALENDAR