BEGIN:VCALENDAR
VERSION:2.0
PRODID:-//8. März - ECPv6.15.17.1//NONSGML v1.0//EN
CALSCALE:GREGORIAN
METHOD:PUBLISH
X-WR-CALNAME:8. März
X-ORIGINAL-URL:https://8maerz.at
X-WR-CALDESC:Veranstaltungen für 8. März
REFRESH-INTERVAL;VALUE=DURATION:PT1H
X-Robots-Tag:noindex
X-PUBLISHED-TTL:PT1H
BEGIN:VTIMEZONE
TZID:Europe/Vienna
BEGIN:DAYLIGHT
TZOFFSETFROM:+0100
TZOFFSETTO:+0200
TZNAME:CEST
DTSTART:20190331T010000
END:DAYLIGHT
BEGIN:STANDARD
TZOFFSETFROM:+0200
TZOFFSETTO:+0100
TZNAME:CET
DTSTART:20191027T010000
END:STANDARD
BEGIN:DAYLIGHT
TZOFFSETFROM:+0100
TZOFFSETTO:+0200
TZNAME:CEST
DTSTART:20200329T010000
END:DAYLIGHT
BEGIN:STANDARD
TZOFFSETFROM:+0200
TZOFFSETTO:+0100
TZNAME:CET
DTSTART:20201025T010000
END:STANDARD
BEGIN:DAYLIGHT
TZOFFSETFROM:+0100
TZOFFSETTO:+0200
TZNAME:CEST
DTSTART:20210328T010000
END:DAYLIGHT
BEGIN:STANDARD
TZOFFSETFROM:+0200
TZOFFSETTO:+0100
TZNAME:CET
DTSTART:20211031T010000
END:STANDARD
END:VTIMEZONE
BEGIN:VEVENT
DTSTART;TZID=Europe/Vienna:20200210T180000
DTEND;TZID=Europe/Vienna:20200210T210000
DTSTAMP:20260423T021149
CREATED:20200111T215754Z
LAST-MODIFIED:20200114T195859Z
UID:10003604-1581357600-1581368400@8maerz.at
SUMMARY:One Billion Rising-Tanzworkshop mit DanceAbility
DESCRIPTION:One Billion Rising-Tanzworkshop mit DanceAbility\nTer­mi­ne: \nMo 20.1.2020\, 18–21:00 Uhr\, Albert-Schweitzer-Haus\nMo 3.2.2020\, 18–21:00 Uhr\, Albert-Schweitzer-Haus\nMo 10.2.2020\, 18–21:00 Uhr\,Albert-Schweitzer-Haus \nCho­reo­gra­fin und künst­le­ri­schen Lei­te­rin: Aiko Kazu­ko Kurosaki \nFür OBR-Vien­na 2020 pro­ben wir in Koope­ra­ti­on mit DanceA­bi­li­ty eine neue künst­le­ri­sche Inter­ven­ti­on und die AllA­bi­li­ty Ver­si­on von Break the Chain! Auch die Ori­gi­nal­ver­si­on kann kann hier gelernt wer­den! Alle sind herz­lichst will­kom­men\, auch neue Interessierte! \nEin­tritt frei! \nTan­ze mit für ein Ende der Gewalt an Frau­en* und Mädchen*! \nOne Bil­li­on Rising („Eine Mil­li­ar­de erhebt sich“) ist eine welt­wei­te Bewe­gung für ein Ende der Gewalt an Frau­en* und Mäd­chen*. Sta­tis­tisch erfasst ist in Öster­reich jede 5. Frau* von Gewalt betrof­fen\, welt­weit jede Drit­te\, die Dun­kel­zif­fer ist jedoch weit höher und die Femi­zid­ra­te steigt erschre­ckend an. Jähr­lich tan­zen am 14. Febru­ar\, dem soge­nann­ten V‑Day\, welt­weit zig­tau­sen­de Men­schen um Frau­en* um zu empowern und Bewusst­seins­bil­dung und Sen­si­bi­li­sie­rungs­ar­beit vor­an­zu­trei­ben. OBRA\, One Bil­li­on Rising Aus­tria\, hat die­se Kam­pa­gne in Öster­reich eigen­stän­dig und künst­le­risch aufgegriffen. \nIn den Vor­be­rei­tungs-Tanz­work­shops wird die Cho­reo­gra­fie zu dem Song „Break the Chain“ unter­rich­tet\, wobei es nicht um tän­ze­ri­sche Per­fek­ti­on geht\, son­dern um das „Wofür“ und „War­um“. \nMehr Infos über OBRA unter: https://1billionrising.at/
URL:https://8maerz.at/veranstaltung/one-billion-rising-tanzworkshop-mit-danceability/2020-02-10/
LOCATION:Albert-Schweitzer-Haus\, Schwarzspanierstraße 13\, Wien\, Wien\, 1090\, Österreich
GEO:48.2167532;16.3568228
X-APPLE-STRUCTURED-LOCATION;VALUE=URI;X-ADDRESS=Albert-Schweitzer-Haus Schwarzspanierstraße 13 Wien Wien 1090 Österreich;X-APPLE-RADIUS=500;X-TITLE=Schwarzspanierstraße 13:geo:16.3568228,48.2167532
END:VEVENT
BEGIN:VEVENT
DTSTART;TZID=Europe/Vienna:20200211T180000
DTEND;TZID=Europe/Vienna:20200211T220000
DTSTAMP:20260423T021149
CREATED:20200205T203737Z
LAST-MODIFIED:20200210T193630Z
UID:10003625-1581444000-1581458400@8maerz.at
SUMMARY:OBRA-Auftaktveranstaltung: Vernissage "Stop Violence against Women"
DESCRIPTION:Vernissage: Stop Violence against Women\nAuf­takt­ver­an­stal­tung zu One Bil­li­on Rising Vien­na 2020 \nAus­stel­lung: Ophi­ra AVISAR • Ewa ERNST-DZIEDZIC • Anne­lie­se ERDEMGIL-BRANDSTÄTTER • Sarah FELLNER • Susan­ne HAJDU | Gise­la THEISEN – RAUM­spie­le • Bian­ca ION • Aiko Kazu­ko KUROSAKI • Petra PAUL • Valery VILLENA \n18:00 Uhr\nBegrü­ßung: Mag.a Nico­le BERGER-KROTSCH Abge­ord­ne­te zum Wie­ner Land­tag und Gemeinderätin \nEröff­nung: Aiko Kazu­ko Kur­o­sa­ki\, Obfrau und künst­le­ri­sche Lei­tung OBRA\nMag.a Petra M. SPRINGER\, Kura­to­rin der Ausstellung \nAb ca. 19 Uhr Scree­ning der Kurz­ver­si­on des Films Abandoned\nvon Patri­cia ­Jose­fi­ne MARCHART\, im Anschluss ein Open Talk\nmit der Regis­seu­rin\, Aiko Kazu­ko Kur­o­sa­ki & Han­nah Püh­rin­ger\, Frau­en­spre­che­rin der SJ Wien \nAus­stel­lungs­dau­er: 12.02.–28.02.2020 \nOne Bil­li­on Rising Aus­tria – Tan­ze für ein Ende der Gewalt an Frau­en* und Mädchen*\nwww.1billionrising.at \nMit der Teil­nah­me an der Ver­an­stal­tung stimmst du der Ver­öf­fent­li­chung von Fotos\, die im Rah­men der Ver­an­stal­tung ent­ste­hen\, zu.
URL:https://8maerz.at/veranstaltung/obra-auftaktveranstaltung-vernissage-stop-violence-against-women/
LOCATION:ega: frauen im zentrum\, Windmühlgasse 26\, Wien\, 1060
GEO:48.1985968;16.3556358
X-APPLE-STRUCTURED-LOCATION;VALUE=URI;X-ADDRESS=ega: frauen im zentrum Windmühlgasse 26 Wien 1060;X-APPLE-RADIUS=500;X-TITLE=Windmühlgasse 26:geo:16.3556358,48.1985968
END:VEVENT
BEGIN:VEVENT
DTSTART;TZID=Europe/Vienna:20200212T100000
DTEND;TZID=Europe/Vienna:20200212T110000
DTSTAMP:20260423T021149
CREATED:20200208T193742Z
LAST-MODIFIED:20200208T222754Z
UID:10003482-1581501600-1581505200@8maerz.at
SUMMARY:Pressekonferenz One Billion Rising Vienna 2020
DESCRIPTION:Pressekonferenz One Billion Rising Vienna 2020\nMitt­woch\, 12.12.2020\, 10:00\nPres­se­club Con­cor­dia\, Bank­gas­se 8\, 1010 Wien \nIm Rah­men der Pres­se­kon­fe­renz ruft One Bil­li­on Rising Aus­tria bereits zum 8. Mal zu einer getanz­ten Kund­ge­bung auf\, die sich für ein Ende der Gewalt an Frau­en* und Mäd­chen* ein­setzt. Das The­ma ist nach wie vor bri­sant und jede Form von Gewalt­prä­ven­ti­on\, Bewusst­seins­bil­dung und Sen­si­bi­li­sie­rungs­ar­beit ist des­halb wichtig. \nAm Podi­um:\nAiko Kazu­ko Kur­o­sa­ki\, Künst­le­ri­sche Lei­tung / Obfrau\, One Bil­li­on Rising Austria\nEwa Ernst-Dzied­zic\, Natio­nal­rats­ab­ge­ord­ne­te (Die Grü­nen) und Grün­dungs­mit­glied von OBRA\nHei­de­ma­rie Ambrosch\, Platt­form 20000 Frauen\nGabrie­le Hei­nisch-Hosek\, SPÖ-Frau­en- und Gleich­be­hand­lungs­spre­che­rin\, SPÖ-Frauenvorsitzende\nKlau­dia Frie­ben\, Vor­sit­zen­de\, Öster­rei­chi­scher Frauenring\nLena Jäger\, Pro­jekt­lei­te­rin / Spre­che­rin\, Frauen*Volksbegehren 2.0\nSophie Han­sal\, Koor­di­na­to­rin der Alli­anz Gewalt­FREI leben
URL:https://8maerz.at/veranstaltung/pressekonferenz-one-billion-rising-vienna-2020/
LOCATION:Presseclub Concordia\, Bankgasse 8\, Wien\, Wien\, 1010\, Österreich
GEO:48.2103086;16.3629261
X-APPLE-STRUCTURED-LOCATION;VALUE=URI;X-ADDRESS=Presseclub Concordia Bankgasse 8 Wien Wien 1010 Österreich;X-APPLE-RADIUS=500;X-TITLE=Bankgasse 8:geo:16.3629261,48.2103086
END:VEVENT
BEGIN:VEVENT
DTSTART;TZID=Europe/Vienna:20200213T173000
DTEND;TZID=Europe/Vienna:20200213T183000
DTSTAMP:20260423T021149
CREATED:20200114T194329Z
LAST-MODIFIED:20200114T195727Z
UID:10003611-1581615000-1581618600@8maerz.at
SUMMARY:One Billion Rising-Tanzworkshop mit DanceAbility
DESCRIPTION:One Billion Rising-Tanzworkshop mit DanceAbility\nTer­min: \nDo 13.2.2020\, 17.30–18.30 Uhr\, Brun­nen­pas­sa­ge \nCho­reo­gra­fin und künst­le­ri­schen Lei­te­rin: Aiko Kazu­ko Kurosaki \nFür OBR-Vien­na 2020 pro­ben wir in Koope­ra­ti­on mit DanceA­bi­li­ty eine neue künst­le­ri­sche Inter­ven­ti­on und die AllA­bi­li­ty Ver­si­on von Break the Chain! Auch die Ori­gi­nal­ver­si­on kann kann hier gelernt wer­den! Alle sind herz­lichst will­kom­men\, auch neue Interessierte! \nEin­tritt frei! \nTan­ze mit für ein Ende der Gewalt an Frau­en* und Mädchen*! \nOne Bil­li­on Rising („Eine Mil­li­ar­de erhebt sich“) ist eine welt­wei­te Bewe­gung für ein Ende der Gewalt an Frau­en* und Mäd­chen*. Sta­tis­tisch erfasst ist in Öster­reich jede 5. Frau* von Gewalt betrof­fen\, welt­weit jede Drit­te\, die Dun­kel­zif­fer ist jedoch weit höher und die Femi­zid­ra­te steigt erschre­ckend an. Jähr­lich tan­zen am 14. Febru­ar\, dem soge­nann­ten V‑Day\, welt­weit zig­tau­sen­de Men­schen um Frau­en* um zu empowern und Bewusst­seins­bil­dung und Sen­si­bi­li­sie­rungs­ar­beit vor­an­zu­trei­ben. OBRA\, One Bil­li­on Rising Aus­tria\, hat die­se Kam­pa­gne in Öster­reich eigen­stän­dig und künst­le­risch aufgegriffen. \nIn den Vor­be­rei­tungs-Tanz­work­shops wird die Cho­reo­gra­fie zu dem Song „Break the Chain“ unter­rich­tet\, wobei es nicht um tän­ze­ri­sche Per­fek­ti­on geht\, son­dern um das „Wofür“ und „War­um“. \nMehr Infos über OBRA unter: https://1billionrising.at/
URL:https://8maerz.at/veranstaltung/one-billion-rising-tanzworkshop-mit-danceability-2/
LOCATION:Brunnenpassage\, Brunnengasse 71/Yppenplatz\, Wien\, Wien\, 1160\, Österreich
GEO:48.2136085;16.3366155
X-APPLE-STRUCTURED-LOCATION;VALUE=URI;X-ADDRESS=Brunnenpassage Brunnengasse 71/Yppenplatz Wien Wien 1160 Österreich;X-APPLE-RADIUS=500;X-TITLE=Brunnengasse 71/Yppenplatz:geo:16.3366155,48.2136085
END:VEVENT
BEGIN:VEVENT
DTSTART;TZID=Europe/Vienna:20200214T170000
DTEND;TZID=Europe/Vienna:20200214T220000
DTSTAMP:20260423T021149
CREATED:20200114T174357Z
LAST-MODIFIED:20200114T212551Z
UID:10003610-1581699600-1581717600@8maerz.at
SUMMARY:One Billion Rising Vienna 2020
DESCRIPTION:One Billion Rising Vienna 2020\nTanz mit für ein Ende der Gewalt an Frau­en* und Mädchen*!\nAuch 2020 ist das The­ma hoch­ak­tu­ell – die Femi­zid­ra­te steigt auch in Öster­reich. Heu­er fin­det One Bil­li­on Rising Vien­na 2020 zum 1. Mal im Yppen­park am Yppen­platz statt\, im Anschluss fin­det um 18:30\, in Koope­ra­ti­on mit der Brun­nen­pas­sa­ge\, das Bene­fiz für OBRA 2020 und danach die After­par­ty\, eben­falls in der Brun­nen­pas­sa­ge am Yppen­platz\, statt. \n17:00–18.00 Uhr OBR-Vien­na 2020\, Yppen­park am Yppen­platz\, 1160 Wien \nIm Anschluss\, um 18:30 Uhr\, in Koope­ra­ti­on mit der Brun­nen­pas­sa­ge: Bene­fiz für OBRA 2020 und After­par­ty in der Brun­nen­gas­se 71\, Yppen­platz\, 1160 Wien. \nOne Bil­li­on Rising („Eine Mil­li­ar­de erhebt sich“) ist eine welt­wei­te Bewe­gung für ein Ende der Gewalt an Frau­en* und Mäd­chen*. Sta­tis­tisch erfasst ist in Öster­reich jede 5. Frau* von Gewalt betrof­fen\, welt­weit jede Drit­te\, die Dun­kel­zif­fer jedoch ist weit höher und die Femi­zid­ra­te erschre­ckend im Anstei­gen. Jähr­lich am 14. Febru­ar\, dem soge­nann­ten V‑Day\, tan­zen welt­weit zig­tau­sen­de Men­schen um Frau­en* zu empowern und Bewusst­seins­bil­dung und Sen­si­bi­li­sie­rungs­ar­beit voranzutreiben. \nProgramm:\n17:00–18:00 Uhr OBR-Vien­na 2020 (Ort: Yppen­park\, 1160 Wien)\nmit Laris­sa Brei­ten­eg­ger\, DanceA­bi­li­ty und OBRA-Aktivist*innen\, Mara­ca­tu Nos­sa Luz\, Maren Rah­mann\, sowie allen Inter­es­sier­ten\, die mit­tan­zen möchten \n18:30–20:00 Uhr Bene­fiz für OBRA (Ort: Brunnenpassage)\nmit Arge Blu­men / Moni­ka Bau­er + Eva Lepold\, Eva Can­to (Nata­lia Hurst)\, DanceA­bi­li­ty und OBRA-Aktivist*innen\, fungke*kunstkollektiv\, Karin Yoko Jochum\, Mara­ca­tu Nos­sa Luz\, Mila­gros Pine­ra\, Moenani Sis­ters unter Daf­ne Moreno\, Maren Rahmann \n20:00–22.00 Uhr After­par­ty (Ort: Brunnenpassage)\nmit DJa­ne Sweet Susie und Cate­ring von Deni­se Narick (Gale­rie Werk­statt NUU) \nEvent auf Facebook
URL:https://8maerz.at/veranstaltung/one-billion-rising-vienna-2020/
LOCATION:Brunnenpassage\, Brunnengasse 71/Yppenplatz\, Wien\, Wien\, 1160\, Österreich
GEO:48.2136085;16.3366155
X-APPLE-STRUCTURED-LOCATION;VALUE=URI;X-ADDRESS=Brunnenpassage Brunnengasse 71/Yppenplatz Wien Wien 1160 Österreich;X-APPLE-RADIUS=500;X-TITLE=Brunnengasse 71/Yppenplatz:geo:16.3366155,48.2136085
END:VEVENT
END:VCALENDAR