BEGIN:VCALENDAR
VERSION:2.0
PRODID:-//8. März - ECPv6.15.20//NONSGML v1.0//EN
CALSCALE:GREGORIAN
METHOD:PUBLISH
X-WR-CALNAME:8. März
X-ORIGINAL-URL:https://8maerz.at
X-WR-CALDESC:Veranstaltungen für 8. März
REFRESH-INTERVAL;VALUE=DURATION:PT1H
X-Robots-Tag:noindex
X-PUBLISHED-TTL:PT1H
BEGIN:VTIMEZONE
TZID:UTC
BEGIN:STANDARD
TZOFFSETFROM:+0000
TZOFFSETTO:+0000
TZNAME:UTC
DTSTART:20180101T000000
END:STANDARD
END:VTIMEZONE
BEGIN:VEVENT
DTSTART;TZID=UTC:20190304T183000
DTEND;TZID=UTC:20190304T213000
DTSTAMP:20260423T194722
CREATED:20190303T183127Z
LAST-MODIFIED:20190303T183235Z
UID:10003366-1551724200-1551735000@8maerz.at
SUMMARY:Vortrag: Letzte Rettung Frauenhaus
DESCRIPTION:Seit Ende 2018 wur­de in den Medi­en über sehr viel extre­me Gewalt gegen Frau­en und Frau­en­mor­de berich­tet. Noch immer scheint die­se stei­gen­de Ten­denz nicht zu enden.\nJede 5. Frau in Öster­reich ist von Gewalt in der Bezie­hung betrof­fen. Frau­en­mor­de sind der Gip­fel der Gewalt. Dabei ist der gefähr­lichs­te Ort für Frau­en die eige­ne Woh­nung. Wenn das eige­ne Zuhau­se nicht mehr sicher ist\, wer­den Frau­en­häu­ser Zufluchts­or­te für Frau­en\, die dort der Gewalt ent­kom­men können. \nWomit sind Frau­en­häu­ser in der all­täg­li­chen Arbeit kon­fron­tiert? Wie wer­den Frau­en dort unter­stützt? Und wie sind die Stei­ne\, die die schwarz-blaue Regie­rung den Frau­en­häu­sern durch Kür­zun­gen in den Weg legt\, schon zu spüren?\nÜber die­se und wei­te­re Fra­gen spricht Maria Rösslhu­mer\, Geschäfts­füh­re­rin der auto­no­men öster­rei­chi­schen Frauenhäuser. \nVor­trag und Dis­kus­si­on mit Maria Rösslhumer\nMo.\, 04.03.\, 18:30 Uhr\, trans­form euro­pe\, Guss­haus­stra­ße 14\, 1040 Wien \nKon­takt: Julia Prassl\, julia.prassl@jungelinke.at\, 0699 18008426
URL:https://8maerz.at/veranstaltung/vortrag-letzte-rettung-frauenhaus/
LOCATION:transform!\, Gusshausstraße 14\, Wien\, Wien\, 1040\, Österreich
GEO:48.197314;16.3713643
X-APPLE-STRUCTURED-LOCATION;VALUE=URI;X-ADDRESS=transform! Gusshausstraße 14 Wien Wien 1040 Österreich;X-APPLE-RADIUS=500;X-TITLE=Gusshausstraße 14:geo:16.3713643,48.197314
END:VEVENT
BEGIN:VEVENT
DTSTART;TZID=UTC:20190304T190000
DTEND;TZID=UTC:20190304T210000
DTSTAMP:20260423T194722
CREATED:20190303T144132Z
LAST-MODIFIED:20190303T144132Z
UID:10003494-1551726000-1551733200@8maerz.at
SUMMARY:Probe für OBRA am Frauentag
DESCRIPTION:Die All-Abili­ty-Ver­si­on von „Break the Chain“ für OBR-Vien­na 2019 am 14.2.ist begeis­tert auf­ge­nom­men worden.\nPro­be für Inter­ven­ti­on am Inter­na­tio­na­len Frau­en­tag am 8.3.2019. \nAlle* sind herz­lichst ein­ge­la­den mit­zu­ma­chen! Mit oder ohne Vor­kennt­nis­se / mit oder ohne Behinderung!\nAlle Tanz­work­shops sind kostenlos. \nMit Aiko Kazu­ko Kur­o­sa­ki\, künst­le­ri­sche Lei­tung OBR-Vienna
URL:https://8maerz.at/veranstaltung/probe-fuer-obra-am-frauentag/
LOCATION:Albert-Schweitzer-Haus\, Schwarzspanierstraße 13\, Wien\, Wien\, 1090\, Österreich
GEO:48.2167532;16.3568228
X-APPLE-STRUCTURED-LOCATION;VALUE=URI;X-ADDRESS=Albert-Schweitzer-Haus Schwarzspanierstraße 13 Wien Wien 1090 Österreich;X-APPLE-RADIUS=500;X-TITLE=Schwarzspanierstraße 13:geo:16.3568228,48.2167532
END:VEVENT
BEGIN:VEVENT
DTSTART;TZID=UTC:20190304T193000
DTEND;TZID=UTC:20190304T220000
DTSTAMP:20260423T194722
CREATED:20190303T144832Z
LAST-MODIFIED:20190303T144832Z
UID:10003495-1551727800-1551736800@8maerz.at
SUMMARY:Lesung: Wilde Mädchen\, Resche Frauen
DESCRIPTION:Wilde Mädchen\, resche Frauen\nLesung von Doris Nußbaumer\nMo\, 4. März 2019 – 19:30 c. t.\, Café Ama­de­us\, 1150 Wien\, März­stra­ße 4 \nEs geht um sub­ti­le und offen­sicht­li­che Tabu­brü­che. Es geht um ver­steck­te\, gesell­schaft­lich akzep­tier­te und offen­sicht­lich wei­ter­ge­tra­ge­ne Sug­ges­ti­on von Gen­der­un­ter­schie­den\, Herr­schaft und Gewalt\, mit denen Mäd­chen\, Frau­en und Les­ben kon­fron­tiert sind. \n„Du bist zu klein\, zu schwach und zu sanft­mü­tig\, um XY zu tun.“\n„Du als Frau musst\, brauchst nicht\, kanns/sollst/darfst nicht\, musst schon\, du kannst ja nicht – ja bist nar­risch\, wennst so tust\, kriegst ja kei­nen Mann nicht!“ \nMehr im Face­book-Event.
URL:https://8maerz.at/veranstaltung/lesung-wilde-maedchen-resche-frauen/
LOCATION:Café Amadeus\, Märzstraße 4\, Wien\, Wien\, 1150\, Österreich
GEO:48.2007414;16.3365409
X-APPLE-STRUCTURED-LOCATION;VALUE=URI;X-ADDRESS=Café Amadeus Märzstraße 4 Wien Wien 1150 Österreich;X-APPLE-RADIUS=500;X-TITLE=Märzstraße 4:geo:16.3365409,48.2007414
END:VEVENT
BEGIN:VEVENT
DTSTART;TZID=UTC:20190306T190000
DTEND;TZID=UTC:20190306T210000
DTSTAMP:20260423T194722
CREATED:20190224T203416Z
LAST-MODIFIED:20190224T203731Z
UID:10003468-1551898800-1551906000@8maerz.at
SUMMARY:5. Frauentagslesung: Frauen und ihre Körper
DESCRIPTION:Frauen und ihre Körper\n5. Femi­nis­ti­sche Lesung zum Frau­en­tag. Mit Ger­traud Klemm\, Petra Unger\, Nunu Kal­ler und Hel­ga Pregesbauer.\nAnschlie­ßend Publikumsgespräch. \nEine Ver­an­stal­tung der Gra­zer Autorin­nen Autoren­ver­samm­lung im Rah­men des Rrri­ot Festivals. \nEin­tritt frei. \nMacht macht Ohn­macht oder macht Ohn­macht Macht? \nWur­de My Body My Rights zu My Body Sha­ping Problem? \nBach­mann­preis­trä­ge­rin Ger­traud Klemm liest aktu­el­le Roman­aus­zü­ge\, wel­che die Poli­ti­sie­rung des weib­li­chen Kör­pers the­ma­ti­sie­ren. Nunu Kal­ler liest aus “Fuck Beau­ty” und die Grün­de­rin der Frau­en­spa­zier­gän­ge Petra Unger setzt sich mit Frau­en­kör­pern in der Kunst\, der Kunst­pro­duk­ti­on und deren Bewer­tung aus­ein­an­der. The­ma­ti­siert wer­den Frau­en­ma­ga­zi­ne\, Body Sha­ping Zwän­ge\, die Fol­gen der Stadt- und Kul­tur­po­li­tik auf den weib­li­chen Kör­per und Gegen­stra­te­gien aller Art. \nWer ent­schei­det über Frau­en­kör­per\, über Bauch\, Vagi­na\, Sexua­li­tät und über die Wör­ter die unse­re Kör­per beschrei­ben\, wer über Gebär­fä­hig­keit\, Gewicht\, Fal­ten­an­zahl? Wir wer­fen uns auf die Fra­ge\, wer über­haupt regle­men­tiert\, was wir davon zei­gen und neu­er­dings sogar lie­ben dür­fen und müs­sen. Und: Hat der Femi­nis­mus ein Gegen­kon­zept gegen all die­se nagel­neu­en und uralten Pro­ble­me? Wir spre­chen im Anschluss mit dem Publi­kum über das Thema.
URL:https://8maerz.at/veranstaltung/5-frauentagslesung-frauen-und-ihre-koerper/
LOCATION:Amerlinghaus\, Stiftgasse 8\, Wien\, 1070\, Österreich
GEO:48.2031259;16.3543246
X-APPLE-STRUCTURED-LOCATION;VALUE=URI;X-ADDRESS=Amerlinghaus Stiftgasse 8 Wien 1070 Österreich;X-APPLE-RADIUS=500;X-TITLE=Stiftgasse 8:geo:16.3543246,48.2031259
END:VEVENT
BEGIN:VEVENT
DTSTART;TZID=UTC:20190307T183000
DTEND;TZID=UTC:20190307T210000
DTSTAMP:20260423T194722
CREATED:20190303T151212Z
LAST-MODIFIED:20190303T151246Z
UID:10003498-1551983400-1551992400@8maerz.at
SUMMARY:Dokumentarfilm #FemalePleasure
DESCRIPTION:Anläss­lich des Inter­na­tio­na­len Frau­en­ta­ges ver­an­stal­tet das UN Women Natio­nal­ko­mi­tee Öster­reich gemein­sam mit dem Öster­rei­chi­schen Film­in­sti­tut und FC Glo­ria eine Son­der­vor­füh­rung des Doku­men­tar­fil­mes #Fema­le­P­lea­su­re mit anschlie­ßen­der Sky­pe-Podi­ums­dis­kus­si­on mit Regis­seu­rin Bar­ba­ra Miller. \nDer Film zeigt fünf muti­ge Frau­en (Debo­rah Feld­man\, Ley­la Hus­sein\, Roku­den­a­shi­ko\, Doris Wag­ner und Vithi­ka Yadav) aus fünf ver­schie­de­nen Kul­tu­ren\, die das Tabu des Schwei­gens bre­chen. Sie kämp­fen gegen die Unter­drü­ckung und Fremd­be­stim­mung von Frau­en und ihrer Sexua­li­tät durch kul­tu­rel­le und reli­giö­se Traditionen. \nBegrü­ßung: Desi­rée Schweit­zer\, Prä­si­den­tin UN Women Natio­nal­ko­mi­tee Öster­reich / Iris Zap­pe-Hel­ler\, Stv. Direk­to­rin Öster­rei­chi­sches Filminstitut\nMode­ra­ti­on: Fat­ma Uysal \nAnmel­dung bis 3. März 2019 an info@unwomen-nc.at\nKos­ten: Bit­te um eine Spen­de von 15 Euro zuguns­ten der UN Women Pro­jek­te im Flücht­lings­camp Za’atari\, Jordanien.
URL:https://8maerz.at/veranstaltung/dokumentarfilm-femalepleasure/
LOCATION:Admiralkino\, Burggasse 119\, Wien\, Wien\, 1070\, Österreich
GEO:48.2041565;16.338749
X-APPLE-STRUCTURED-LOCATION;VALUE=URI;X-ADDRESS=Admiralkino Burggasse 119 Wien Wien 1070 Österreich;X-APPLE-RADIUS=500;X-TITLE=Burggasse 119:geo:16.338749,48.2041565
END:VEVENT
BEGIN:VEVENT
DTSTART;TZID=UTC:20190308T130000
DTEND;TZID=UTC:20190308T140000
DTSTAMP:20260423T194722
CREATED:20190302T130116Z
LAST-MODIFIED:20190302T130131Z
UID:10003493-1552050000-1552053600@8maerz.at
SUMMARY:OBRA am Weltfrauen*tag 2019
DESCRIPTION:Die Kunst­in­stal­la­ti­on als Per­for­man­ce­raum für OBRA in Koope­ra­ti­on mit DanceA­bi­li­ty mit der inklu­si­ven Ver­si­on vom „Break the Chain“\, wel­ches in einer Work­shop­s­rei­he mit DanceA­bi­li­ty unter der künst­le­ri­schen Lei­tung von Aiko Kazu­ko Kur­o­sa­ki spe­zi­ell für OBR-Vien­na 2019 ent­wi­ckelt wur­de wird als Bei­trag von OBRA zum Weltfrauen*tag noch­mals am Platz der Men­schen­rech­te gezeigt und per­formt werden. \nOBRA am Weltfrauen*tag ist auch in Soli­da­ri­tät mit dem Frau­en­streik Wien.\nMit: OBRA-Aktivist*innen\, DanceA­bi­li­ty und Maren Rahmann\nunter der Lei­tung von Aiko Kazu­ko Kurosaki \nDank an CARLA für die gro­ße Schuh­spen­de und Dan­ke an Anna Rita Cedro­ni für das Prä­pa­rie­ren der Schuhe!
URL:https://8maerz.at/veranstaltung/obra-am-weltfrauentag-2019/
LOCATION:Platz der Menschenrechte\, Mariahilfer Straße 1\, Wien\, 1070\, Österreich
GEO:48.2014399;16.3602568
X-APPLE-STRUCTURED-LOCATION;VALUE=URI;X-ADDRESS=Platz der Menschenrechte Mariahilfer Straße 1 Wien 1070 Österreich;X-APPLE-RADIUS=500;X-TITLE=Mariahilfer Straße 1:geo:16.3602568,48.2014399
END:VEVENT
BEGIN:VEVENT
DTSTART;TZID=UTC:20190308T163000
DTEND;TZID=UTC:20190308T210000
DTSTAMP:20260423T194722
CREATED:20190301T164841Z
LAST-MODIFIED:20190301T165759Z
UID:10003488-1552062600-1552078800@8maerz.at
SUMMARY:FrauenLesbenMigrantinnen-Demo
DESCRIPTION:Treff­punkt: 16.30 Uhr Chris­ti­an-Bro­da-Plat­z/­Ma­ria­hil­fer­stra­ße\nAuf­takt­kund­ge­bung ab 16.30 Uhr mit Berich­ten zum Frau­en­streik\, und Rede­bei­trä­gen und Per­for­man­ces zum 8. März.\nDemo ab 18 Uhr über die Maria­hil­fer­stra­ße bis zum Platz der Menschenrechte. \nab 11 Uhr: Frauenstreik-Aktionen\nAktio­nen: lila Tuch aus dem Fens­ter hän­gen\, Lärm\, Musik mit Tril­ler­pfei­fen\, Deckeln\, Töp­fen machen\, Streik-T-Shirts tra­gen – zu bezie­hen  im FZ für einen Soli­preis von 15 Euro (für Mate­ri­al­kos­ten und Streikkassa)\nKon­takt: Frau­en­streik­te­le­fon: 0664–4710116 \nab 14 Uhr: Streikküche\nim Amer­ling­haus\, Stift­gas­se 8\, 1070 \n16 bis 20 Uhr: Streik-Kindergarten\nwäh­rend der Demo\, im Amer­ling­haus\, Stift­gas­se 8\, im gro­ßen Saal\, im Hof links. \nNach der Demo: Frau­en­streik- und Frauendemofest\nmit Drinks und Tanz im Kom­mu­ni­ka­ti­ons­raum „FZ-Bar“\, FZ\, Wäh­rin­ger­str. 59/Stiege 6\, 1090\, Ein­gang ums Eck (Precht­l­gas­se)\, rote Tür. \nFür (Cis-)FrauenLesben.
URL:https://8maerz.at/veranstaltung/frauen-lesben-migrantinnen-demo-2019/
LOCATION:Christian-Broda-Platz\, Christian-Broda-Platz\, Wien\, 1060
GEO:48.1958018;16.3405358
X-APPLE-STRUCTURED-LOCATION;VALUE=URI;X-ADDRESS=Christian-Broda-Platz Christian-Broda-Platz Wien 1060;X-APPLE-RADIUS=500;X-TITLE=Christian-Broda-Platz:geo:16.3405358,48.1958018
END:VEVENT
BEGIN:VEVENT
DTSTART;TZID=UTC:20190308T170000
DTEND;TZID=UTC:20190308T210000
DTSTAMP:20260423T194722
CREATED:20190301T163408Z
LAST-MODIFIED:20190301T171839Z
UID:10003486-1552064400-1552078800@8maerz.at
SUMMARY:Demo - Internationaler feministischer Kampftag 2019
DESCRIPTION:Treff­punkt ist am 8.3.2019 um 17 Uhr bei Wien Mitte-Landstraße. \nEine Grup­pe auto­no­mer Aktivist_innen\, hat sich auch die­ses Jahr als Take Back The Streets zusam­men­ge­fun­den\, um anläss­lich des Inter­na­tio­na­len Femi­nis­ti­schen Kampf­tags am 8. März 2019 eine Demo zu orga­ni­sie­ren. Lasst uns nach einem Jahr tür­kis-blau­er Regie­rung gemein­sam auf die Stra­ße gehen und kol­lek­tiv ein femi­nis­ti­sches Zei­chen gegen Sexis­mus\, Ras­sis­mus\, Rechts­extre­mis­mus und Kapi­ta­lis­mus setzen. \n** Kin­der­be­treu­ung vor Ort **\n** Die Demo ist offen für alle Geschlechter ** \nMehr Infor­ma­tio­nen sie­he https://www.facebook.com/takestreets/ und im Face­book-Event.
URL:https://8maerz.at/veranstaltung/demo-internationaler-feministischer-kampftag-2019/
LOCATION:Wien-Mitte Landstraße\, Wien-Mitte Landstraße\, Wien\, Wien\, 1030\, Österreich
GEO:48.2061449;16.3852368
X-APPLE-STRUCTURED-LOCATION;VALUE=URI;X-ADDRESS=Wien-Mitte Landstraße Wien-Mitte Landstraße Wien Wien 1030 Österreich;X-APPLE-RADIUS=500;X-TITLE=Wien-Mitte Landstraße:geo:16.3852368,48.2061449
END:VEVENT
BEGIN:VEVENT
DTSTART;TZID=UTC:20190308T180000
DTEND;TZID=UTC:20190308T210000
DTSTAMP:20260423T194722
CREATED:20190222T195338Z
LAST-MODIFIED:20190222T195510Z
UID:10003463-1552068000-1552078800@8maerz.at
SUMMARY:Die Vagina Monologe - Szenische Lesung und Diskussion
DESCRIPTION:Die Vagina Monologe – Szenische Lesung & Diskussion\nThea­ter am Markt\, Fr\, 8.3.2019\, 18 Uhr \nSeit 20 Jah­ren rüt­telt Eve Ens­lers Stück „The Vagi­na Mono­lo­gues“ an Tabus. ”The Vagi­na Mono­lo­gues” haben V‑Day her­vor­ge­bracht\, eine glo­ba­le Aktivist*innenbewegung zur Been­di­gung der Gewalt gegen alle Frau­en*\, Mäd­chen* und Per­so­nen aller Geschlechts­iden­ti­tä­ten mit Vagi­nas. Die Vagi­na Mono­lo­ge\, bis­her uner­zähl­te Geschich­ten von Frau­en*\, wer­den an die­sem Abend in der Brun­nen­pas­sa­ge als sze­ni­sche Lesung präsentiert. \nDie Teil­nah­me an allen Ver­an­stal­tun­gen in der Brun­nen­pas­sa­ge ist kostenlos.
URL:https://8maerz.at/veranstaltung/die-vagina-monologe-szenische-lesung-diskussion/
LOCATION:Brunnenpassage\, Brunnengasse 71/Yppenplatz\, Wien\, Wien\, 1160\, Österreich
GEO:48.2136085;16.3366155
X-APPLE-STRUCTURED-LOCATION;VALUE=URI;X-ADDRESS=Brunnenpassage Brunnengasse 71/Yppenplatz Wien Wien 1160 Österreich;X-APPLE-RADIUS=500;X-TITLE=Brunnengasse 71/Yppenplatz:geo:16.3366155,48.2136085
END:VEVENT
END:VCALENDAR