BEGIN:VCALENDAR
VERSION:2.0
PRODID:-//8. März - ECPv6.15.17.1//NONSGML v1.0//EN
CALSCALE:GREGORIAN
METHOD:PUBLISH
X-ORIGINAL-URL:https://8maerz.at
X-WR-CALDESC:Veranstaltungen für 8. März
REFRESH-INTERVAL;VALUE=DURATION:PT1H
X-Robots-Tag:noindex
X-PUBLISHED-TTL:PT1H
BEGIN:VTIMEZONE
TZID:Europe/Vienna
BEGIN:DAYLIGHT
TZOFFSETFROM:+0100
TZOFFSETTO:+0200
TZNAME:CEST
DTSTART:20210328T010000
END:DAYLIGHT
BEGIN:STANDARD
TZOFFSETFROM:+0200
TZOFFSETTO:+0100
TZNAME:CET
DTSTART:20211031T010000
END:STANDARD
BEGIN:DAYLIGHT
TZOFFSETFROM:+0100
TZOFFSETTO:+0200
TZNAME:CEST
DTSTART:20220327T010000
END:DAYLIGHT
BEGIN:STANDARD
TZOFFSETFROM:+0200
TZOFFSETTO:+0100
TZNAME:CET
DTSTART:20221030T010000
END:STANDARD
BEGIN:DAYLIGHT
TZOFFSETFROM:+0100
TZOFFSETTO:+0200
TZNAME:CEST
DTSTART:20230326T010000
END:DAYLIGHT
BEGIN:STANDARD
TZOFFSETFROM:+0200
TZOFFSETTO:+0100
TZNAME:CET
DTSTART:20231029T010000
END:STANDARD
END:VTIMEZONE
BEGIN:VEVENT
DTSTART;VALUE=DATE:20220101
DTEND;VALUE=DATE:20220331
DTSTAMP:20260420T224040
CREATED:20220221T235014Z
LAST-MODIFIED:20220221T235512Z
UID:10003898-1640995200-1648684799@8maerz.at
SUMMARY:Ausstellung:  »...Vor Schand und Noth gerettet«?!
DESCRIPTION:Son­der­aus­stel­lung: »…Vor Schand und Noth gerettet«?!\nFin­del­haus\, Gebär­an­stalt und die Matri­ken der Alser Vorstadt \n6. Mai 2021 bis 30. März 2022 \nVide­os zur Ausstellung \nWo heu­te die Lan­ge Gas­se in die Alser Stra­ße mün­det\, befand sich von 1788 bis 1910 ein stark fre­quen­tier­tes Gebäu­de: Das Wie­ner Fin­del­haus. Die Ein­rich­tung von Fin­del­häu­sern in vie­len euro­päi­schen Städ­ten soll­te dazu bei­tra­gen\, Kinds­mor­de zu ver­hin­dern und die Kin­der­sterb­lich­keit zu redu­zie­ren. Gleich­zei­tig wur­den damit bevöl­ke­rungs­po­li­ti­sche Inten­tio­nen ver­folgt – so auch in der Wie­ner Alser Vor­stadt. Im Lau­fe sei­nes Bestehens von 1784 bis 1910 nahm das Fin­del­haus\, ab 1788 in der Alser­stra­ße 23 gele­gen\, ca. 750.000 Kin­der auf und ver­mit­tel­te sie zu Pfle­ge­plät­zen am Land. Der Groß­teil die­ser Kin­der kam in der Gebär­an­stalt\, wel­che sich auf dem Are­al des ehe­ma­li­gen AKH befand\, zur Welt und wur­de dann in der Pfar­re Alser Vor­stadt getauft. \nAnhand von über 100 Expo­na­ten aus mehr als 20 wis­sen­schaft­li­chen Insti­tu­tio­nen setzt sich die Aus­stel­lung mit den ehe­ma­li­gen Ein­rich­tun­gen im heu­ti­gen 8. und 9. Bezirk aus­ein­an­der. Lebens­si­tua­tio­nen von Frau­en\, die unge­wollt Mut­ter wur­den oder kei­ne Mög­lich­keit hat­ten\, ihr Kind selbst groß­zu­zie­hen\, wer­den eben­so in einem sozi­al- und gesell­schafts­his­to­ri­schen Kon­text the­ma­ti­siert\, wie Bio­gra­fien von soge­nann­ten Fin­del­kin­dern. Besucher*innen kön­nen selbst in den umfang­rei­chen Matri­ken der Pfar­re Alser­vor­stadt nach mög­li­chen Vor­fah­ren suchen. Für eine Audio-Sta­ti­on inter­pre­tier­ten die Musiker*innen Mar­tin Speng­ler und Manue­la Diem his­to­ri­sche Wie­ner „Fin­del­kind-Lie­der“ neu. \nMitarbeiter*innen:\nMaria Ettl (Muse­ums­lei­te­rin)\nAnna Jung­mayr (Cura­to­ri­al Fel­low in der Stab­stel­le Bezirks­mu­se­en im Wien Museum)\nHel­mut Pokor­nig (Gra­fik und Gestaltung)\nGre­ta Hubin­ger\, Rebec­ca Mur­sec\, Leo­pold Strenn (Inhalt\, Recher­che\, Texte)\nCorin­na Beran\, Peter Pich­ler\, Natal­ja Schau­dinn\, Lea Maria Struck (Assis­tenz) \nWis­sen­schaft­li­che Bera­tung: Vere­na Pawlowsky\nIdee: Maria Ettl\, Leo­pold Strenn\nKura­to­ri­sches Kon­zept: Anna Jungmayr \nÖff­nungs­zei­ten:\nSonn­tag 10.00 bis 12.00 Uhr\nMitt­woch 18.00 bis 20.00 Uhr\nNach Vereinbarung\nGeschlos­sen: Schul­fe­ri­en und Feiertage \nFrei­er Eintritt
URL:https://8maerz.at/veranstaltung/ausstellung-vor-schand-und-noth-gerettet/
LOCATION:Bezirksmuseum Josefstadt\, Schmidgasse 18\, Wien\, Wien\, 1080\, Österreich
END:VEVENT
BEGIN:VEVENT
DTSTART;TZID=Europe/Vienna:20220204T170000
DTEND;TZID=Europe/Vienna:20220204T183000
DTSTAMP:20260420T224040
CREATED:20220129T151822Z
LAST-MODIFIED:20220129T151844Z
UID:10003613-1643994000-1643999400@8maerz.at
SUMMARY:Workshop: Mentale und verbale Selbstverteidigung gegen sexuelle Belästigung im öffentlichen Raum
DESCRIPTION:Work­shop zum The­ma Men­ta­le und ver­ba­le Selbst­ver­tei­di­gung gegen sexu­el­le Beläs­ti­gung im öffent­li­chen Raum\nver­an­stal­tet vom Que­er­Ref der ÖH Uni Wien \nIn die­sem Work­shop ler­nen Frau­en*\, Les­ben\, Inter‑\, Nicht Binär\, Trans- und Agen­der-Per­so­nen sich gegen sexis­ti­sche Dis­kri­mi­nie­rung zu weh­ren und bes­ser mit sexu­el­ler Beläs­ti­gung umzu­ge­hen. Teil­neh­men­de wer­den über die recht­li­che Lage zu sexu­el­ler Beläs­ti­gung in Öster­reich infor­miert und über Insti­tu­tio­nen\, an die mensch sich wen­den kann. Der Work­shop soll einen Safe Space bie­ten\, um Erfah­run­gen aus­zu­tau­schen und von- und mit­ein­an­der zu ler­nen. und es wird über Coping-Stra­te­gien\, Reak­ti­ons­mög­lich­kei­ten und men­ta­le After-Care gespro­chen. Auch die Roten Kar­ten\, ein Tool als Reak­ti­on auf sexu­el­le Beläs­ti­gung im öffent­li­chen Raum\, wer­den vor­ge­stellt und Teil­neh­mehn­de zur Ver­fü­gung gestellt (www.respect-existence.at). \nDer Work­shop wird von Emi­ly Hans­lik gelei­tet\, die der­zeit Stu­die­ren­de an der Uni­ver­si­tät Wien ist\, seit letz­tem Jahr auch diplo­mier­te Lebens- und Sozi­al­be­ra­te­rin. Sie arbei­tet außer­dem seit März 2021 als Bera­te­rin beim Help­Chat\, einer Online-Bera­tungs­ein­rich­tung der Auto­no­men Frau­en­häu­ser für gewalt­be­trof­fe­ne Frau­en* und Mäd­chen (www.haltdergewalt.at). \nWann? Am Frei­tag\, den 4. Febru­ar um 17.00 bis ca. 18.30 Uhr MeZ.\nWo? Online. Mel­det ihr euch für den Zoom­link über queerreferat@oeh.univie.ac.at an!
URL:https://8maerz.at/veranstaltung/workshop-mentale-und-verbale-selbstverteidigung-gegen-sexuelle-belaestigung-im-oeffentlichen-raum/
LOCATION:Online\, Wien\, Österreich
END:VEVENT
BEGIN:VEVENT
DTSTART;TZID=Europe/Vienna:20220206T150000
DTEND;TZID=Europe/Vienna:20220206T170000
DTSTAMP:20260420T224040
CREATED:20220201T215319Z
LAST-MODIFIED:20220201T215319Z
UID:10003860-1644159600-1644166800@8maerz.at
SUMMARY:Kundgebung: STOP FGM!
DESCRIPTION:STOP FGM! Kund­ge­bung von Frau­en\, Les­ben\, Migran­tin­nen und Mädchen. \nAm 6.Februar ist der Inter­na­tio­na­le Kampf­tag gegen Fema­le­Ge­ni­taleMu­ti­la­ti­on – weib­li­che Beschneidung.\nDas Frau­en­les­ben­mäd­chen­zen­trum Wien hält die­sen Tag auch für Fadu­mo am Leben und füh­ren gemein­sam mit ihr den Kampf gegen FGM weiter.\nFGM ist eine Fol­ter\, unter der Frau­en ihr Leben lang lei­den. Fadu­mo war eine von ihnen. \nStop FGM – jetzt sofort! 
URL:https://8maerz.at/veranstaltung/kundgebung-stop-fgm/
LOCATION:Urban-Loritz-Platz\, Wien\, Wien\, 1070\, Österreich
END:VEVENT
BEGIN:VEVENT
DTSTART;TZID=Europe/Vienna:20220207T180000
DTEND;TZID=Europe/Vienna:20220207T200000
DTSTAMP:20260420T224040
CREATED:20220204T155413Z
LAST-MODIFIED:20220204T155413Z
UID:10003863-1644256800-1644264000@8maerz.at
SUMMARY:Online Round Table: Ending Female Genital Mutilation
DESCRIPTION:Ending Female Genital Mutilation: Österreichische und internationale Initiativen im Kampf gegen weibliche Genitalverstümmelung\nUN Women lädt zum Round Table anläss­lich des Inter­na­tio­na­len Tags gegen weib­li­che Geni­tal­ver­stüm­me­lung mit der Abge­ord­ne­ten Petra Bayr\, MA MLS zum The­ma „Ending Fema­le Geni­tal Muti­la­ti­on: Öster­rei­chi­sche und inter­na­tio­na­le Initia­ti­ven im Kampf gegen weib­li­che Genitalverstümmelung“. \nDer vir­tu­el­le Round Table fin­det am Mon­tag\, 7. Febru­ar 2022 um 18:00 Uhr als Zoom-Video­kon­fe­renz statt. \nLaut UN Women sind welt­weit 200 Mio. Frau­en und Mäd­chen in 31 Län­dern von weib­li­cher Geni­tal­ver­stüm­me­lung (FGM) betrof­fen\, wobei von einer jähr­li­chen Zunah­me von etwa 4 Mio. aus­ge­gan­gen wird. Dass der Kampf gegen FGM ins­be­son­de­re wäh­rend der Coro­na-Pan­de­mie gebo­ten ist\, weiß Abge­ord­ne­te Petra Bayr zu berich­ten\, die sich seit Jah­ren gegen weib­li­che Geni­tal­ver­stüm­me­lung einsetzt. \nBit­te mel­den Sie sich unter fol­gen­dem Link zum vir­tu­el­len Round Table an: https://us06web.zoom.us/meeting/register/tZEkcOqspzopGdVGUr-CtKP0bOKlICFJ75_J \nNach der Regis­trie­rung erhal­ten Sie den Link zur Zoom-Video­kon­fe­renz per Mail zugeschickt.
URL:https://8maerz.at/veranstaltung/online-round-table-ending-female-genital-mutilation/
LOCATION:Online\, Wien\, Österreich
END:VEVENT
BEGIN:VEVENT
DTSTART;TZID=Europe/Vienna:20220208T170000
DTEND;TZID=Europe/Vienna:20220208T190000
DTSTAMP:20260420T224040
CREATED:20220130T205951Z
LAST-MODIFIED:20220130T210416Z
UID:10003619-1644339600-1644346800@8maerz.at
SUMMARY:Let's keep claiming our space! - Open Feminist Meeting
DESCRIPTION:Offenes Feministisches Treffen\nFrei­tag\, 08.02.2021\, 17:00–19:00 (Anmel­dung per Mail bis 06.02.!)\nFrau­en*\, Les­ben\, Inter‑\, Nicht Binär\, Trans- und Agen­der-Per­so­nen only \nDas Offe­ne Femi­nis­ti­sche Tref­fen geht in die nächs­te Run­de! Seit Ende Sep­tem­ber trifft sich eine Grup­pe unter dem Mot­to ‚Cla­im the Space‘ um sich aus­zu­tau­schen und gemein­sam die Wut über patri­ar­cha­le Gewalt auf die Stra­ße zu tra­gen. Kon­kret soll dies­mal dar­über gere­det wer­den\, wie poli­tisch\, per­sön­lich und emo­tio­nal mit der Situa­ti­on und mit der media­len\, ras­sis­ti­schen Bericht­erstat­tung umzu­ge­hen. Außer­dem will über­legt wer­den\, wie bestimm­te The­men in ein­zel­nen Arbeits­grup­pen ange­gan­gen wer­den kön­nen. Es soll sich dar­über aus­ge­tauscht wer­den\, wie eine Aus­ein­an­der­set­zung über bzw. eine femi­nis­ti­sche Pra­xis zu patri­ar­cha­ler Gewalt und Femi­ni­zi­den in Wien in Zukunft aus­se­hen kann. \nAnmel­dun­gen unter gegenpatriarchatundkapital@riseup.net – der Treff­punkt wird dar­auf­hin zugeschickt. \nBei schlech­tem Wet­ter gibt es auch die Mög­lich­keit in einen Raum zu gehen\, des­halb wird gebe­ten wenn mög­lich PCR-getes­tet zu kom­men (Selbst­tests wird es auch vor Ort geben) und einen 2\,5G Nach­weis dabei zu haben.
URL:https://8maerz.at/veranstaltung/lets-keep-claiming-our-space-open-feminist-meeting/
LOCATION:Wien\, Österreich
GEO:48.2081743;16.3738189
END:VEVENT
BEGIN:VEVENT
DTSTART;TZID=Europe/Vienna:20220208T183000
DTEND;TZID=Europe/Vienna:20220208T200000
DTSTAMP:20260420T224040
CREATED:20220201T220035Z
LAST-MODIFIED:20220201T220035Z
UID:10003861-1644345000-1644350400@8maerz.at
SUMMARY:Online-Talk: Stop FGM - Null Toleranz bei weiblicher Genitalverstümmelung!
DESCRIPTION:Am 6.2. ist Inter­na­tio­na­ler Tag gegen weib­li­che Geni­tal­ver­stüm­me­lung. FGM (Fema­le Geni­tal Muti­la­ti­on) ist eine mas­si­ve Men­schen­rechts­ver­let­zung und eine Form von Gewalt gegen Frau­en\, die dazu dient ihre Kör­per und ihre Sexua­li­tät zu kon­trol­lie­ren. In den meis­ten Fäl­len stellt FGM auch eine Ver­let­zung der Kin­der­rech­te da\, da FGM meist an jun­gen Mäd­chen durch­ge­führt wird. Die­se Kör­per­ver­let­zung wirkt sich auf die kör­per­li­che\, psy­chi­sche und sexu­el­le Gesund­heit aus. \nDie Bera­tungs­stel­len wie Fem­Süd Frau­en­ge­sund­heits­zen­trum und Bright Future leis­ten in Wien wich­ti­ge Bewusstseins‑\, Auf­klä­rung- und Bera­tungs­ar­beit gegen FGM. Die Grü­nen Frau­en Wien spre­chen mit der Exper­tin und Ärz­tin Umy­ma El Jele­de über ihre Arbeit bei FEM Süd\, die unter­schied­li­chen For­men von FGM und vor allem was man gegen die­se Men­schen­rechts­ver­let­zung tun kann. \nDie Ver­an­stal­tung fin­det online über Zoom statt.\nAnmel­dung unter: gruene.frauen.wien@gruene.at
URL:https://8maerz.at/veranstaltung/online-talk-stop-fgm-null-toleranz-bei-weiblicher-genitalverstuemmelung/
LOCATION:Online\, Wien\, Österreich
END:VEVENT
BEGIN:VEVENT
DTSTART;VALUE=DATE:20220214
DTEND;VALUE=DATE:20220215
DTSTAMP:20260420T224040
CREATED:20220212T182113Z
LAST-MODIFIED:20220212T182113Z
UID:10003868-1644796800-1644883199@8maerz.at
SUMMARY:Online-Screening: Hinter verschlossenen Türen
DESCRIPTION:Hinter verschlossenen Türen\nEin Kurz­film über das Weg­schau­en aller Betei­lig­ten bei häus­li­cher Gewalt \nDie Zunah­me von häus­li­cher Gewalt durch die Lock­downs in Zei­ten der Pan­de­mie\, war die Inspi­ra­ti­on zu die­sem Kurz­film. Er zeigt wie sich die Enge des Lebens­um­felds durch Aus­gans­be­schrän­kun­gen in Gewalt ver­wan­deln kann. „Hin­ter ver­schlos­se­nen Türen“ bezieht die Aspek­te der Gewalt­ur­sa­che beim Mann\, die Abhän­gig­keit bei der Frau und die inne­re und äuße­re Tabui­sie­rung des The­mas mit ein. \nRegie: Tobi­as Wut­schek\, Darsteller*innen: Ange­li­na Del­ano\, Jakob Oberschlick\nein Pro­jekt des KV für Bar­rie­re­frei­heit im Kopf\, ZVR1496733523 \nAnmel­dung zur Face­book-Ver­an­stal­tung (Link wird 1 Stun­de vor der Pre­mie­re zuge­schickt): https://www.facebook.com/events/619135509384510 \noder direkt zum You­tube-Kanal hier: https://www.youtube.com/channel/UCeXuQYpHku5Hq7Wz1Qe8A_g/videos
URL:https://8maerz.at/veranstaltung/online-screening-hinter-verschlossenen-tueren/
LOCATION:Online\, Wien\, Österreich
END:VEVENT
BEGIN:VEVENT
DTSTART;TZID=Europe/Vienna:20220214T180000
DTEND;TZID=Europe/Vienna:20220214T190000
DTSTAMP:20260420T224040
CREATED:20220130T214829Z
LAST-MODIFIED:20220212T181051Z
UID:10003857-1644861600-1644865200@8maerz.at
SUMMARY:One Billion Rising Vienna | Austria 2022 (online)
DESCRIPTION:One Billion Rising Vienna | Austria 2022\nDer Haupt­ak­ti­ons­tag der glo­ba­len Bewe­gung One Bil­li­on Rising wird 2022 welt­weit und auch bei uns in Wien dies­mal zum 10. Mal stattfinden!\nDaher soll das Event One Bil­li­on Rising Vien­na 2022 | Aus­tria 2022 etwas ganz Beson­de­res werden. \nAuf­grund der pro­gnos­ti­zier­ten Coro­na-Neu­in­fek­ti­ons­zah­len für Mit­te Febru­ar und in Anbe­tracht der Beson­der­heit und Wich­tig­keit die­ses Events haben wir beschlos­sen\, die Haupt­ver­an­stal­tung One Bil­li­on Rising Vien­na | Aus­tria 2022 auf den 5. Mai 2022 zu ver­schie­ben (sie­he Event hier)! \nAm eigent­li­chen V‑Day\, am 14. Febru­ar 2022 um 18 Uhr tref­fen wir uns online und tan­zen gemein­sam „Break the Chain“ im digi­ta­len Raum.\nBit­te mel­det euch an unter: event@1billionrising.at – dann bekommt ihr die Zugangsdaten! \nLive-Stream: https://1billionrising.at/rising-austria/rising-austria-2022/ \n\nDas Pro­gramm für das Event im Mai im rea­len Raum ist schon fer­tig und wir freu­en uns\, dass wir dies­mal sowohl Künstler*innen vom aller­ers­ten Mal wie die Tän­ze­rin Karin Label aus Hai­ti\, die Sän­ge­rin­nen Mar­ga­ret Car­ter und Ami­na­ta Sey­di oder Künstler*innen wie Maren Rah­mann\, Kita­na Pro­ject\, Laris­sa Brei­ten­eg­ger\, stars­ky\, oder Grup­pie­run­gen wie EsRAP und DanceA­bi­li­ty\, die uns durch die gan­zen Jah­re hin­durch immer wie­der mit ihren Bei­trä­gen unter­stützt haben\, aber auch wun­der­ba­re Neu­zu­gän­ge\, wie die Trommler*innen Mara­ca­tu Nos­sa Luz oder Peta Klotz­berg für die­ses Jubi­lä­ums­e­vent gewin­nen konnten. \nDas Event steht unter dem Ehren­schutz von Frau Mag.a Doris Schmidauer. \nWir hof­fen\, dass wir die­sen Ter­min im Mai nun hal­ten kön­nen. Alle Ände­run­gen und wei­te­re Rah­men­ver­an­stal­tun­gen geben wir noch zeit­ge­recht bekannt.
URL:https://8maerz.at/veranstaltung/one-billion-rising-vienna-austria-2022-online/
LOCATION:Online\, Wien\, Österreich
END:VEVENT
BEGIN:VEVENT
DTSTART;TZID=Europe/Vienna:20220215T180000
DTEND;TZID=Europe/Vienna:20220215T200000
DTSTAMP:20260420T224040
CREATED:20220213T014355Z
LAST-MODIFIED:20220213T014411Z
UID:10003874-1644948000-1644955200@8maerz.at
SUMMARY:Kundgebung: Nehmt ihr uns eine*\, antworten wir alle! Claim the Space!
DESCRIPTION:Nehmt ihr uns eine*\, antworten wir alle! Keine* einzige* weniger!\n+++ Kund­ge­bung: Diens­tag\, 15.02.2022\, 18:00 Uhr\, am ehem. Karlsplatz +++ \nAm 07.02. wur­de eine Frau* in Graz ersto­chen. Bereits am 6.2. waren wir auf­grund des 3. Femi­ni­zids\, der in Öster­reich bekannt wur­de\, auf der Stra­ße. Nun zäh­len wir bereits den 4.! \nWir wer­den kei­nen Femi­ni­zid mehr unbe­ant­wor­tet las­sen\, bis wir kei­ne* ein­zi­ge* weni­ger sind – für ein Ende patri­ar­cha­ler Gewalt! \nNi una* menos!\nKei­ne* ein­zi­ge weniger!\nAler­ta Feminista! \nDemo­auf­ruf in meh­re­ren Spra­chen hier.
URL:https://8maerz.at/veranstaltung/kundgebung-nehmt-ihr-uns-eine-antworten-wir-alle-claim-the-space/
LOCATION:Karlsplatz\, Karlsplatz\, Wien\, Wien\, 1040\, Österreich
GEO:48.2005373;16.3701771
X-APPLE-STRUCTURED-LOCATION;VALUE=URI;X-ADDRESS=Karlsplatz Karlsplatz Wien Wien 1040 Österreich;X-APPLE-RADIUS=500;X-TITLE=Karlsplatz:geo:16.3701771,48.2005373
END:VEVENT
END:VCALENDAR