BEGIN:VCALENDAR
VERSION:2.0
PRODID:-//8. März - ECPv6.15.17.1//NONSGML v1.0//EN
CALSCALE:GREGORIAN
METHOD:PUBLISH
X-WR-CALNAME:8. März
X-ORIGINAL-URL:https://8maerz.at
X-WR-CALDESC:Veranstaltungen für 8. März
REFRESH-INTERVAL;VALUE=DURATION:PT1H
X-Robots-Tag:noindex
X-PUBLISHED-TTL:PT1H
BEGIN:VTIMEZONE
TZID:Europe/Vienna
BEGIN:DAYLIGHT
TZOFFSETFROM:+0100
TZOFFSETTO:+0200
TZNAME:CEST
DTSTART:20250330T010000
END:DAYLIGHT
BEGIN:STANDARD
TZOFFSETFROM:+0200
TZOFFSETTO:+0100
TZNAME:CET
DTSTART:20251026T010000
END:STANDARD
BEGIN:DAYLIGHT
TZOFFSETFROM:+0100
TZOFFSETTO:+0200
TZNAME:CEST
DTSTART:20260329T010000
END:DAYLIGHT
BEGIN:STANDARD
TZOFFSETFROM:+0200
TZOFFSETTO:+0100
TZNAME:CET
DTSTART:20261025T010000
END:STANDARD
BEGIN:DAYLIGHT
TZOFFSETFROM:+0100
TZOFFSETTO:+0200
TZNAME:CEST
DTSTART:20270328T010000
END:DAYLIGHT
BEGIN:STANDARD
TZOFFSETFROM:+0200
TZOFFSETTO:+0100
TZNAME:CET
DTSTART:20271031T010000
END:STANDARD
END:VTIMEZONE
BEGIN:VEVENT
DTSTART;TZID=Europe/Vienna:20260115T180000
DTEND;TZID=Europe/Vienna:20260115T180000
DTSTAMP:20260422T002637
CREATED:20260106T145250Z
LAST-MODIFIED:20260106T145429Z
UID:10004698-1768500000-1768500000@8maerz.at
SUMMARY:Von Wien nach Rojava
DESCRIPTION:Logo © Frauenhetz \nVor­trag am Don­ners­tag\, 15. Jän­ner 2026\, 18:00 Uhr \nmit Muzay­en Al-Yous­sef (Redak­teu­rin beim Stan­dard) und Hei­di Sequenz (Poli­ti­ke­rin) \nIn ihrem Rei­se­be­richt erzäh­len die Jour­na­lis­tin Muzay­en Al-Yous­sef und die Poli­ti­ke­rin Hei­di Sequenz von einer Dele­ga­ti­on der lin­ken femi­nis­ti­schen Orga­ni­sa­tio­nen im Nord­os­ten Syri­ens. Die Ver­an­stal­tung gibt Ein­bli­cke in den All­tag in einer Regi­on\, die hier­zu­lan­de häu­fig ent­we­der roman­ti­siert oder kom­plett igno­riert wird – ein Ort\, der in unse­ren Köp­fen zwi­schen femi­nis­ti­scher Uto­pie\, poli­ti­schem Mythos und media­lem Schwei­gen oszil­liert\, wäh­rend vor Ort ein rea­ler\, all­täg­li­cher Kampf ums Über­le­ben und um Selbst­be­stim­mung geführt wird. Und es geht um die gro­ße Fra­ge: Was müs­sen wir eigent­lich noch alles machen\, damit eine ande­re Welt mög­lich wird – und zwar nicht nur theo­re­tisch\, son­dern praktisch?\nEin Abend über Neu­gier\, Wider­sprü­che\, Wider­stand\, über ein biss­chen Über­mut und über femi­nis­ti­sche Solidarität. \nMode­ra­ti­on: Alex Enderle\nOrt: Frau­en­hetz\, Unte­re Weiß­ger­ber­stra­ße 41\, 1030 Wien \nFort­set­zung der Rei­he Räu­me der femi­nis­ti­schen Dekolonisierung\nIn Koope­ra­ti­on mit der Frauen*solidarität
URL:https://8maerz.at/veranstaltung/von-wien-nach-rojava/
LOCATION:Frauenhetz\, Untere Weißgerberstraße 41\, Wien\, 1030
ATTACH;FMTTYPE=image/png:https://8maerz.at/wp-content/uploads/sites/20/2026/01/Frauenhetz_Logo-1.png
ORGANIZER;CN="Frauenhetz - feministische Bildung%2C Kultur und Politik":MAILTO:office@frauenhetz.at
GEO:48.2084854;16.3946163
X-APPLE-STRUCTURED-LOCATION;VALUE=URI;X-ADDRESS=Frauenhetz Untere Weißgerberstraße 41 Wien 1030;X-APPLE-RADIUS=500;X-TITLE=Untere Weißgerberstraße 41:geo:16.3946163,48.2084854
END:VEVENT
END:VCALENDAR