BEGIN:VCALENDAR
VERSION:2.0
PRODID:-//8. März - ECPv6.15.17.1//NONSGML v1.0//EN
CALSCALE:GREGORIAN
METHOD:PUBLISH
X-ORIGINAL-URL:https://8maerz.at
X-WR-CALDESC:Veranstaltungen für 8. März
REFRESH-INTERVAL;VALUE=DURATION:PT1H
X-Robots-Tag:noindex
X-PUBLISHED-TTL:PT1H
BEGIN:VTIMEZONE
TZID:Europe/Vienna
BEGIN:DAYLIGHT
TZOFFSETFROM:+0100
TZOFFSETTO:+0200
TZNAME:CEST
DTSTART:20230326T010000
END:DAYLIGHT
BEGIN:STANDARD
TZOFFSETFROM:+0200
TZOFFSETTO:+0100
TZNAME:CET
DTSTART:20231029T010000
END:STANDARD
BEGIN:DAYLIGHT
TZOFFSETFROM:+0100
TZOFFSETTO:+0200
TZNAME:CEST
DTSTART:20240331T010000
END:DAYLIGHT
BEGIN:STANDARD
TZOFFSETFROM:+0200
TZOFFSETTO:+0100
TZNAME:CET
DTSTART:20241027T010000
END:STANDARD
BEGIN:DAYLIGHT
TZOFFSETFROM:+0100
TZOFFSETTO:+0200
TZNAME:CEST
DTSTART:20250330T010000
END:DAYLIGHT
BEGIN:STANDARD
TZOFFSETFROM:+0200
TZOFFSETTO:+0100
TZNAME:CET
DTSTART:20251026T010000
END:STANDARD
END:VTIMEZONE
BEGIN:VEVENT
DTSTART;TZID=Europe/Vienna:20240328T164500
DTEND;TZID=Europe/Vienna:20240328T190000
DTSTAMP:20260420T131503
CREATED:20240309T150017Z
LAST-MODIFIED:20240309T150055Z
UID:10004195-1711644300-1711652400@8maerz.at
SUMMARY:Parlamentsführung mit Meri Disoski: Die Rolle der Frauen in Politik und Parlament
DESCRIPTION:Par­la­ments­füh­rung mit Meri Disoski\nTreff­punkt um 16:45 Uhr beim Pallas-Athene-Brunnen | \nFrau­en­spre­che­rin und Natio­nal­rats­ab­ge­ord­ne­te Meri Diso­ski führt durch das frisch reno­vier­te Par­la­ment und legt den Schwer­punkt auf die Rol­le der Frau­en in Poli­tik und Parlament.\nDanach gibt es ein gemüt­li­ches Bei­sam­men­sit­zen. | Anmel­dung bit­te über die Grün Aktiv App.
URL:https://8maerz.at/veranstaltung/parlamentsfuehrung-mit-meri-disoski-die-rolle-der-frauen-in-politik-und-parlament/
LOCATION:Österreichisches Parlament\, Dr. Karl Renner-Ring 3\, Wien\, 1017\, Österreich
GEO:48.2079595;16.3591593
X-APPLE-STRUCTURED-LOCATION;VALUE=URI;X-ADDRESS=Österreichisches Parlament Dr. Karl Renner-Ring 3 Wien 1017 Österreich;X-APPLE-RADIUS=500;X-TITLE=Dr. Karl Renner-Ring 3:geo:16.3591593,48.2079595
END:VEVENT
END:VCALENDAR