BEGIN:VCALENDAR
VERSION:2.0
PRODID:-//8. März - ECPv6.15.17.1//NONSGML v1.0//EN
CALSCALE:GREGORIAN
METHOD:PUBLISH
X-ORIGINAL-URL:https://8maerz.at
X-WR-CALDESC:Veranstaltungen für 8. März
REFRESH-INTERVAL;VALUE=DURATION:PT1H
X-Robots-Tag:noindex
X-PUBLISHED-TTL:PT1H
BEGIN:VTIMEZONE
TZID:Europe/Vienna
BEGIN:DAYLIGHT
TZOFFSETFROM:+0100
TZOFFSETTO:+0200
TZNAME:CEST
DTSTART:20220327T010000
END:DAYLIGHT
BEGIN:STANDARD
TZOFFSETFROM:+0200
TZOFFSETTO:+0100
TZNAME:CET
DTSTART:20221030T010000
END:STANDARD
BEGIN:DAYLIGHT
TZOFFSETFROM:+0100
TZOFFSETTO:+0200
TZNAME:CEST
DTSTART:20230326T010000
END:DAYLIGHT
BEGIN:STANDARD
TZOFFSETFROM:+0200
TZOFFSETTO:+0100
TZNAME:CET
DTSTART:20231029T010000
END:STANDARD
BEGIN:DAYLIGHT
TZOFFSETFROM:+0100
TZOFFSETTO:+0200
TZNAME:CEST
DTSTART:20240331T010000
END:DAYLIGHT
BEGIN:STANDARD
TZOFFSETFROM:+0200
TZOFFSETTO:+0100
TZNAME:CET
DTSTART:20241027T010000
END:STANDARD
END:VTIMEZONE
BEGIN:VEVENT
DTSTART;VALUE=DATE:20230307
DTEND;VALUE=DATE:20230313
DTSTAMP:20260421T162759
CREATED:20230302T221301Z
LAST-MODIFIED:20230302T221427Z
UID:10004011-1678147200-1678665599@8maerz.at
SUMMARY:Ausstellung: YOUkraine – Women Avantgarde: FIGHT\, SISTER!
DESCRIPTION:Ver­kaufs­aus­stel­lung\nYOUkrai­ne – Women Avant­gar­de: FIGHT\, SISTER!\nDi\, 07.03.2023 – So\, 12.03.2023 \n„Women Avant­gar­de: FIGHT\, SISTER!“ ist ein Pro­jekt von Frau­en\, über Frau­en\, für Frau­en. Die­ses wird von Frau­en geschaf­fen\, die Krieg erle­ben oder erlebt haben. Es wer­den Geschich­ten\, Erin­ne­run­gen\, Über­zeu­gun­gen\, Gedan­ken und Gefüh­le geteilt. \nAlle Pro­zes­se und Ver­än­de­run­gen in der Gesell­schaft betref­fen Frau­en genau­so wie Män­ner\, und in vie­len Situa­tio­nen sogar noch mehr. Die Rech­te der Frau­en müs­sen genau­so respek­tiert wer­den wie ande­re Rech­te\, für die die Gesell­schaft ein­tritt. Die Ach­tung der Men­schen­rech­te ist der Kern der Frei­heit. Sie ergibt sich aus dem Umfeld\, in dem wir auf­ge­wach­sen sind und hat Ein­fluss auf die Ent­wick­lung der Gesell­schaft als Gan­zes. Sie sorgt für Sicher­heit und Sta­bi­li­tät. Sie prägt die erfolg­rei­che Ent­wick­lung eines jeden Ein­zel­nen und eines Landes. \n20 Künst­le­rin­nen haben sich zusam­men­ge­schlos­sen\, um auf die zen­tra­le Not­wen­dig­keit des Schut­zes der Men­schen­rech­te auf­merk­sam zu machen. Mit ihrem Den­ken und Han­deln gestal­ten sie das Bild der Welt\, in der sie leben wol­len. Die Künst­le­rin­nen rufen auf\, sich für eine freie und siche­re Zukunft einzusetzen. \nDie Aus­stel­lung wird von einer Podi­ums­dis­kus­si­on\, Kunst­ge­sprä­chen und Vor­trä­gen beglei­tet. Es wird über ver­schie­de­ne Aspek­te gespro­chen\, die Frau­en betref­fen. Ziel ist es\, Frau­en dabei zu hel­fen\, mit der neu­en Rea­li­tät zurecht­zu­kom­men und zu ver­ste­hen\, wie wich­tig es ist\, wah­re Wer­te zu haben und stark zu sein. \nDie Aus­stel­lung wird mit Unter­stüt­zung des Volks­kun­de­mu­se­um Wien und der Bot­schaft der Ukrai­ne in der Repu­blik Öster­reich durchgeführt. \nPro­gramm und Details auf www.volkskundemuseum.at.
URL:https://8maerz.at/veranstaltung/ausstellung-youkraine-women-avantgarde-fight-sister/
LOCATION:Volkskundemuseum\, Laudongasse 15–19\, Wien\, Wien\, 1080\, Österreich
GEO:48.2132052;16.3506473
X-APPLE-STRUCTURED-LOCATION;VALUE=URI;X-ADDRESS=Volkskundemuseum Laudongasse 15–19 Wien Wien 1080 Österreich;X-APPLE-RADIUS=500;X-TITLE=Laudongasse 15–19:geo:16.3506473,48.2132052
END:VEVENT
BEGIN:VEVENT
DTSTART;TZID=Europe/Vienna:20230308T110000
DTEND;TZID=Europe/Vienna:20230308T130000
DTSTAMP:20260421T162759
CREATED:20230220T191028Z
LAST-MODIFIED:20230220T193240Z
UID:10003744-1678273200-1678280400@8maerz.at
SUMMARY:„Wie man Ärztin wird“ – Historische Perspektiven auf Frauen in der Medizin (1)
DESCRIPTION:The­men­füh­rung durch die Dau­er­aus­stel­lung des Jose­phin­ums anläss­lich des Inter­na­tio­na­len Frau­en­tags am 8. März 2023 \nIm Jahr 1900 – und damit 535 Jah­re nach der Grün­dung der Uni­ver­si­tät Wien – wur­den Frau­en erst­mals als Stu­den­tin­nen an der Medi­zi­ni­schen Fakul­tät zuge­las­sen. Wel­chen gesell­schaft­li­chen Wider­stän­den sie begeg­ne­ten\, wel­che per­sön­li­chen Opfer sie brin­gen muss­ten\, und wel­che (oft ver­ges­se­nen) Bei­trä­ge sie für die Medi­zin leis­te­ten\, erkun­den die Kura­to­rin Danie­la Hahn und die Medi­zin­his­to­ri­ke­rin Moni­ka Anke­le in einer The­men­füh­rung durch die Dau­er­aus­stel­lung des Jose­phin­ums anläss­lich des Inter­na­tio­na­len Frau­en­tags am 8. März 2023. \nBeginn: 11 Uhr\nOrt: Jose­phinum – Medi­zin­his­to­ri­sches Muse­um Wien\n(Treff­punkt Museumsfoyer)\nWäh­rin­ger Stra­ße 25\, 1090 Wien \nDa die Teilnehmer:innenzahl begrenzt ist\, wird um Anmel­dung per E‑Mail gebe­ten: einladungen@josephinum.ac.at\nNähe­re Infor­ma­tio­nen unter: www.josephinum.ac.at \nSujet © Josephinum
URL:https://8maerz.at/veranstaltung/wie-man-aerztin-wird-historische-perspektiven-auf-frauen-in-der-medizin-1/
LOCATION:Josephinum\, Währinger Straße 25\, Wien\, Wien\, 1090\, Österreich
ATTACH;FMTTYPE=image/jpeg:https://8maerz.at/wp-content/uploads/sites/20/2023/02/Josephina_8Maerz2023-1-e1676921025704.jpg
END:VEVENT
BEGIN:VEVENT
DTSTART;TZID=Europe/Vienna:20230308T150000
DTEND;TZID=Europe/Vienna:20230308T173000
DTSTAMP:20260421T162759
CREATED:20230212T181532Z
LAST-MODIFIED:20230212T182645Z
UID:10003728-1678287600-1678296600@8maerz.at
SUMMARY:Starke Wirtschaftsfrauen – auf den Spuren von Unternehmerinnen durch die Stadt
DESCRIPTION:„Frau­en\, grün­det Unter­neh­men – wer­det wirt­schaft­lich unab­hän­gig und autonom!“\nDas for­der­te die Poe­tin und Unter­neh­me­rin /Christine de Pizan/ bereits im Mittelalter. \nTat­säch­lich gibt es in Wien aktuell/51.000 Unternehmerinnen/\, über die Hälf­te davon sind Ein­zel­kämp­fe­rin­nen\, soge­nann­te EPUs und nur 19% der Wie­ner GmbHs ste­hen unter /weiblicher Führung/. Öster­reich­weit wird jedes 3. Unter­neh­men von einer Frau geführt. \nBei unse­rem infor­ma­ti­ven Streif­zug durch die „Stadt“\, ali­as 1. Bezirk\, set­zen wir die /Un­ter­neh­me­rin­nen-Bril­le auf\, und schär­fen unse­ren Blick für den /weiblichen Anteil am Geschäfts­le­ben\, erfah­ren vom Unter­neh­me­rin­nen-Award und span­nen einen wei­ten Bogen\, von unbe­kann­ten Unter­neh­me­rin­nen vori­ger Jahr­hun­der­te wie Johan­na Rey­bau­er und der Wit­we Cli­quot\, über Anna Demel und Anna Sacher\, zu den jetzt hier täti­gen Buch­händ­le­rin­nen\, Betrei­be­rin­nen inno­va­ti­ver Kon­di­to­rei­en und Gast­stät­ten\, enga­gier­ten Gale­ris­tin­nen und auch zur Wie­ner Bör­se\, die – gegrün­det von der reso­lu­ten Maria The­re­sia – heu­te einen sehr beacht­li­chen Frau­en­an­teil von 54% in Füh­rungs­po­si­tio­nen aufweist. \nAnmel­dung erfor­der­lich: Link \nTreff­punkt: 1010 Wien\, Schrey­vo­gel­gas­se 10\nEnde: 1010 Wien\, Weih­bur­gas­se 3\nDau­er: 2h30m\nTicket: €30\,00\nHin­weis: Die­ser Spa­zier­gang ist nicht barrierefrei.\nMin­dest­teil­neh­me­rin­nen­an­zahl: 6\nMaxi­mal­teil­neh­me­rin­nen­an­zahl: 14
URL:https://8maerz.at/veranstaltung/starke-wirtschaftsfrauen-auf-den-spuren-von-unternehmerinnen-durch-die-stadt/
LOCATION:Wien\, Österreich
GEO:48.2081743;16.3738189
END:VEVENT
BEGIN:VEVENT
DTSTART;TZID=Europe/Vienna:20230308T150000
DTEND;TZID=Europe/Vienna:20230308T193000
DTSTAMP:20260421T162759
CREATED:20230224T194758Z
LAST-MODIFIED:20230224T195009Z
UID:10003982-1678287600-1678303800@8maerz.at
SUMMARY:"Offenes Rathaus" zum Internationalen Frauentag - Wien\, wie sie will.
DESCRIPTION:Am 8. März 2023 wird im Wie­ner Rat­haus der Inter­na­tio­na­le Frau­en­tag unter dem Mot­to „Wien\, wie sie will.“ gefeiert! \n****BERATUNGS- UND INFORMATIONSANGEBOT***\nIm Fest­saal wird auch die­ses Jahr von 15 bis 19:30 Uhr ein umfang­rei­ches Bera­tungs- und Infor­ma­ti­ons­an­ge­bot zu den Berei­chen Lebens­pha­sen und Gewalt­schutz\, Frau­en­po­li­tik\, Frau­en­ge­schich­te und Empower­ment\, uvm. zur Ver­fü­gung ste­hen. Für Mäd­chen gibt es einen eige­nen Mädchenraum.\nEin beson­de­rer Fokus liegt in die­sem Jahr auf Aus- und Wei­ter­bil­dung. Bei einer Rät­sel­ral­lye kön­nen unter ande­rem VHS- Gut­schei­ne und Sis­ter Fes­ti­val Kar­ten gewon­nen werden. \n**** WORKSHOPS****\n16:00 und 17:15 Uhr – Waff „Digi­tal dabei: Arbei­ten\, Ler­nen und Kom­mu­ni­zie­ren im Netz“\n15:30 und 17:30 Uhr: – Kin­der­freun­de: Kon­sens\, Gren­zen und Zivil­cou­ra­ge – Thea­ter­work­shop für ein femi­nis­ti­sches Zusammenleben\n(Teilnehmer*innen im Alter von 14–24 Jahre) \nAnmel­dung:\nhttps://ticket.wien.gv.at/M57/theater/\nhttps://ticket.wien.gv.at/M57/theater‑2/\n16:45 Uhr – Selbst­ver­tei­di­gung\, Selbst­be­haup­tung\, Empowerment \n**** MUSIK ****\n18:00 Uhr Ina Regen – Live – Fast wie Radlfahrn\nOrt: Wappensaal \n**** WEITERE HIGHLIGHTS****\nTele­fo­ni­scher Thementag:\nFrau­en und Geld­be­ra­tung zur Existenzsicherung\n9:00–17:00 Uhr Erst­be­ra­tung am Telefon\n01–4087066 \n****SERVICEANGEBOTE FÜR MÜTTER****\nDamit auch Frau­en mit Kin­dern den Frau­en­tag besu­chen konn­ten\, gibt es vor Ort in der Volks­hal­le eine Rei­he von Ser­vice­an­ge­bo­ten wie Abstell­plät­ze für Kin­der­wä­gen und eine kos­ten­lo­se Kin­der­be­treu­ung für Kin­der ab drei Jah­ren. Kin­der unter drei Jah­ren kön­nen mit einer Begleit­per­son den Kin­der­be­reich nutzen.\nKin­der­wä­gen dür­fen aus Grün­den des Brand­schut­zes nicht in die Ver­an­stal­tungs­räum­lich­kei­ten mit­ge­nom­men werden. \nDas genaue Pro­gramm gibt es hier: www.wien.gv.at/frauentag
URL:https://8maerz.at/veranstaltung/offenes-rathaus-zum-internationalen-frauentag-2023/
LOCATION:Rathaus\, Friedrich-Schmidt-Platz 1\, Wien\, 1010
GEO:48.2109437;16.3565084
X-APPLE-STRUCTURED-LOCATION;VALUE=URI;X-ADDRESS=Rathaus Friedrich-Schmidt-Platz 1 Wien 1010;X-APPLE-RADIUS=500;X-TITLE=Friedrich-Schmidt-Platz 1:geo:16.3565084,48.2109437
END:VEVENT
BEGIN:VEVENT
DTSTART;TZID=Europe/Vienna:20230308T163000
DTEND;TZID=Europe/Vienna:20230308T173000
DTSTAMP:20260421T162759
CREATED:20230228T210753Z
LAST-MODIFIED:20230228T210753Z
UID:10004001-1678293000-1678296600@8maerz.at
SUMMARY:Kuratorinnenführung: Den Frauen ihr Recht! Feministische Kämpfe um 1918
DESCRIPTION:Füh­rung durch die Aus­stel­lung mit Kura­to­rin Mari­an­na Nenning \nAm Inter­na­tio­na­len Frau­en­tag geht die­se Füh­rung im Aus­stel­lungs­be­reich Chan­cen einer Zei­ten­wen­de: Ein­bli­cke in die Anfangs­jah­re der Repu­blik der Fra­ge nach\, wie sich das Ende der Habs­bur­ger­mon­ar­chie und die Grün­dung der demo­kra­ti­schen Repu­blik „Deutsch-Öster­reich“ 1918 auf die Situa­ti­on von Frau­en aus­ge­wirkt haben. \nNeben der Ein­füh­rung des all­ge­mei­nen Frau­en­wahl­rechts – einem Mei­len­stein im Kampf um poli­ti­sche Teil­ha­be und Gleich­be­rech­ti­gung – wur­den Frau­en teil­wei­sen wie­der aus Arbeits­be­rei­chen gedrängt\, in die sie wäh­rend des Ers­ten Welt­kriegs Zugang bekom­men hat­ten. Aus­ge­hend von die­sen Ver­än­de­run­gen beleuch­tet die Füh­rung\, für wel­che ver­schie­de­nen Anlie­gen Frau­en damals kämpf­ten bzw. ein­tra­ten und wel­che bis heu­te noch aktu­ell sind. \nDau­er: ca. 1 Stunde \nFüh­rungs­pau­scha­le: € 4 / ermä­ßigt € 3 pro Per­son zzgl. Eintritt\nBegrenz­te Teil­neh­me­rIn­nen­zahl. Sie erhal­ten Tickets an der Museumskassa. \nAnmel­dung hier. \nDer Ein­tritt ins hdgö ist am Inter­na­tio­nen Frau­en­tag frei.
URL:https://8maerz.at/veranstaltung/kuratorinnenfuehrung-den-frauen-ihr-recht/
LOCATION:hdgö – Haus der Geschichte Österreich\, Neue Burg\, Heldenplatz\, Wien\, Wien\, Wien\, 1015\, Österreich
END:VEVENT
BEGIN:VEVENT
DTSTART;TZID=Europe/Vienna:20230308T170000
DTEND;TZID=Europe/Vienna:20230308T190000
DTSTAMP:20260421T162759
CREATED:20230220T191357Z
LAST-MODIFIED:20230220T193340Z
UID:10003745-1678294800-1678302000@8maerz.at
SUMMARY:„Wie man Ärztin wird“ – Historische Perspektiven auf Frauen in der Medizin (2)
DESCRIPTION:The­men­füh­rung durch die Dau­er­aus­stel­lung des Jose­phin­ums anläss­lich des Inter­na­tio­na­len Frau­en­tags am 8. März 2023 \nIm Jahr 1900 – und damit 535 Jah­re nach der Grün­dung der Uni­ver­si­tät Wien – wur­den Frau­en erst­mals als Stu­den­tin­nen an der Medi­zi­ni­schen Fakul­tät zuge­las­sen. Wel­chen gesell­schaft­li­chen Wider­stän­den sie begeg­ne­ten\, wel­che per­sön­li­chen Opfer sie brin­gen muss­ten\, und wel­che (oft ver­ges­se­nen) Bei­trä­ge sie für die Medi­zin leis­te­ten\, erkun­den die Kura­to­rin Danie­la Hahn und die Medi­zin­his­to­ri­ke­rin Moni­ka Anke­le in einer The­men­füh­rung durch die Dau­er­aus­stel­lung des Jose­phin­ums anläss­lich des Inter­na­tio­na­len Frau­en­tags am 8. März 2023. \nBeginn: 17 Uhr\nOrt: Jose­phinum – Medi­zin­his­to­ri­sches Muse­um Wien\n(Treff­punkt Museumsfoyer)\nWäh­rin­ger Stra­ße 25\, 1090 Wien \nDa die Teilnehmer:innenzahl begrenzt ist\, wird um Anmel­dung per E‑Mail gebe­ten: einladungen@josephinum.ac.at\nNähe­re Infor­ma­tio­nen unter: www.josephinum.ac.at \nSujet © Josephinum
URL:https://8maerz.at/veranstaltung/wie-man-aerztin-wird-historische-perspektiven-auf-frauen-in-der-medizin-2/
LOCATION:Josephinum\, Währinger Straße 25\, Wien\, Wien\, 1090\, Österreich
ATTACH;FMTTYPE=image/jpeg:https://8maerz.at/wp-content/uploads/sites/20/2023/02/Josephina_8Maerz2023-2-e1676921123541.jpg
END:VEVENT
BEGIN:VEVENT
DTSTART;TZID=Europe/Vienna:20230311T150000
DTEND;TZID=Europe/Vienna:20230311T170000
DTSTAMP:20260421T162759
CREATED:20230212T182408Z
LAST-MODIFIED:20230212T182634Z
UID:10003729-1678546800-1678554000@8maerz.at
SUMMARY:Spaziergang: Auf den Spuren von Auguste Fickert
DESCRIPTION:Sie hören dabei span­nen­de Geschich­ten aus dem Wien von 1900\, erlebt und erzählt von einer streit­ba­ren Leh­re­rin\, die sich vehe­ment für sozia­le Gerech­tig­keit und Frau­en­rech­te ein­setzt. Augus­te Fickert (1856−1910) wuchs in sehr beschei­de­nen Ver­hält­nis­sen in Wien auf. Den­noch war es ihr mög­lich\, den Beruf der Leh­re­rin zu ergrei­fen\, den sie zeit­le­bens aus­ge­übt hat. Der thea­tra­le Spa­zier­gang führt bei ihrem eige­nen Wohn­pro­jekt\, Wiens ers­tem Ein­kü­chen­haus vor­bei\, das berufs­tä­ti­gen\, ledi­gen Frau­en eine leist­ba­re Unter­kunft bie­tet und auch an den Vil­len eini­ger ihrer pro­mi­nen­ten Nach­barn\, wie Felix Sal­ten und Arthur Schnitz­ler. Obwohl das Wien von 1900 im Vor­der­grund steht\, wird Ihnen Eini­ges von den Pro­ble­men von damals\, über­ra­schend aktu­ell vorkommen. \nTreff­punkt: 1190 Wien\, Werk­mann­gas­se 2\, vor dem Klose-Hof\nEnde: Meie­rei im Türkenschanzpark\nDau­er: 2 Std.\nTicket: €25\,00\nBeson­der­hei­ten: Durch­ge­führt im his­to­ri­sie­ren­den Kos­tüm als Augus­te Fickert\nMin­dest­teil­neh­me­rIn­nen­an­zahl: 6 \nAnmel­dung erfor­der­lich: Link
URL:https://8maerz.at/veranstaltung/spaziergang-auf-den-spuren-von-auguste-fickert-2/
LOCATION:Wien\, Österreich
GEO:48.2081743;16.3738189
END:VEVENT
BEGIN:VEVENT
DTSTART;TZID=Europe/Vienna:20230312T110000
DTEND;TZID=Europe/Vienna:20230312T133000
DTSTAMP:20260421T162759
CREATED:20230311T171231Z
LAST-MODIFIED:20230311T171231Z
UID:10004039-1678618800-1678627800@8maerz.at
SUMMARY:Frauenstadtspaziergang: Frauen*Vielfalt in Währing
DESCRIPTION:Frauen*Vielfalt in Währing\nSie grün­den Kin­der­gär­ten\, sind Künst­le­rin­nen und Schauspielerinnen \nSie sind Sport­päd­ago­gin­nen oder Widerstandskämpferinnen \nSie schaf­fen neue Kunstformen\nSie kämp­fen gegen die Zumu­tun­gen des Exils\nSie ent­wi­ckeln Frauen*Geschichtsforschung\nSie grün­den Kin­der­gär­ten und för­dern Sport für Mädchen. \nDie Frau­en* Wäh­rings gehen vie­le ver­schie­de­ne Lebens­we­ge – mutig\, eigen­wil­lig\, kreativ! \nDer Spa­zier­gang ist Dank der Bezirk­ver­tre­tung Wäh­ring kostenfrei! \nWann?\n12.03.2023\, 11.00−13.30 Uhr \nWo?\nStart­punkt: 1180\, Gerst­ho­fer­str. 73\nEnd­punkt: 1180\, Peter Jor­dan Str. 189 \nAnmel­dung am 10.03.2023 bis 15.30 Uhr unter: post@bv18.wien.gv.at\nAnmel­dung am Wochen­en­de: office@frauen-stadt.at \nZu wei­te­ren Details: https://frauenspaziergaenge.at/event/frauenvielfalt-in-waehring/
URL:https://8maerz.at/veranstaltung/frauenstadtspaziergang-frauenvielfalt-in-waehring/
LOCATION:Gersthoferstraße  73\, Gersthoferstraße 73\, Wien\, Wien\, 1180\, Österreich
END:VEVENT
BEGIN:VEVENT
DTSTART;TZID=Europe/Vienna:20230312T160000
DTEND;TZID=Europe/Vienna:20230312T180000
DTSTAMP:20260421T162759
CREATED:20230224T200342Z
LAST-MODIFIED:20230224T200342Z
UID:10003983-1678636800-1678644000@8maerz.at
SUMMARY:Führung im mumok: Feministisch Betrachtet
DESCRIPTION:Sonn­tag\, 12. März 2023\, 16 Uhr \nFemi­nis­tisch Betrachtet \nIm Rah­men der Rei­he „Femi­nis­tisch Betrach­tet“ zum Welt­frau­en­tag lädt das mumok zu einer Füh­rung in die Aus­stel­lun­gen mixed up with others befo­re we even begin und Emí­lia Rigo­vá. Nane Oda Lavu­t­a­ris / Who Will Play for Me? ein. Lei­lah Babirye und Emí­lia Rigo­vá bau­en in ihren Instal­la­tio­nen Bezie­hungs­struk­tu­ren auf\, die sich domi­nan­ten und gewalt­tä­ti­gen Umge­bun­gen wider­set­zen. In die­sen Hand­lungs­räu­men dis­ku­tie­ren wir über femi­nis­ti­sche\, que­e­re und deko­lo­nia­lis­ti­sche Bezü­ge zu Kunst und (Kunst-)Geschichten. \nAus­stel­lun­gen:\nmixed up with others befo­re we even begin\nEmí­lia Rigo­vá. Nane Oda Lavu­t­a­ris / Who Will Play for Me?
URL:https://8maerz.at/veranstaltung/fuehrung-im-mumok-feministisch-betrachtet/
LOCATION:mumok – Museum moderner Kunst Stiftung Ludwig Wien\, Museumsplatz 1\, Wien\, Wien\, 1070\, Österreich
END:VEVENT
BEGIN:VEVENT
DTSTART;VALUE=DATE:20230313
DTEND;VALUE=DATE:20230320
DTSTAMP:20260421T162759
CREATED:20230107T163819Z
LAST-MODIFIED:20230305T223419Z
UID:10003705-1678665600-1679270399@8maerz.at
SUMMARY:Queer-feministische Aktionswoche mit Wikipedia-Edit-a-thon
DESCRIPTION:Public Pro­gram: Que­er-femi­nis­ti­sche Akti­ons­wo­che. Edit-a-thon \nFrau­en und que­e­re Per­so­nen sind immer noch unter­re­prä­sen­tiert auf Wiki­pe­dia. Frau­en machen nur etwa zehn Pro­zent der akti­ven Frei­wil­li­gen aus\, die an der Online-Enzy­klo­pä­die mit­ar­bei­ten. Und auch die Inhal­te sind weit von Gleich­be­rech­ti­gung ent­fernt: Bio­gra­fien wich­ti­ger Frau­en\, FLINTA* und quee­rer Per­so­nen feh­len\, que­er-femi­nis­ti­sche Kunst und Kul­tur sind noch nicht genü­gend abge­deckt. Inter­es­sier­te sind des­halb dazu ein­ge­la­den\, Autor*innen zu wer­den und gemein­sam Wiki­pe­dia-Ein­trä­ge zu erstel­len\, um so dem Ungleich­ge­wicht entgegenzuwirken. \nTERMINE UND TREFFPUNKTE: \nDI\, 14.03. von 12 bis 16 Uhr (Treff­punkt: Bel­ve­de­re 21)\nEdit-a-thon zu que­er-femi­nis­ti­scher Kunstproduktion \nMI\, 15.03. von 11 bis 15 Uhr (Treff­punkt: Rese­arch Center)\nEdit-a-thon zu que­er-femi­nis­ti­scher Kunstproduktion \nDO\, 16.03. von 12 bis 18 Uhr (Treff­punkt: Bel­ve­de­re 21)\nEdit-a-thon zu que­er-femi­nis­ti­scher Kunstproduktion \nFR\, 17.03. von 11 bis 17 Uhr (Treff­punkt: Rese­arch Center)\nEdit-a-thon zu que­er-femi­nis­ti­scher Kunst­pro­duk­ti­on und Füh­rung Bel­ve­de­re Rese­arch Center \nSA\, 18.03. von 12 bis 16 Uhr (Treff­punkt: Bel­ve­de­re 21)\nEdit-a-thon zu que­er-femi­nis­ti­scher Kunstproduktion\nZusam­men­fas­sung und Folgeprojekte \nDas gesam­te Pro­gramm und die Anmel­dung fin­den Sie hier.\nWei­te­re Fra­gen ger­ne an c.erharter@belvedere.at
URL:https://8maerz.at/veranstaltung/queer-feministische-aktionswoche-mit-wikipedia-edit-a-thon/
LOCATION:Belvedere 21\, Arsenalstraße 1\, Wien\, Wien\, 1030\, Österreich
END:VEVENT
BEGIN:VEVENT
DTSTART;TZID=Europe/Vienna:20230328T170000
DTEND;TZID=Europe/Vienna:20230328T183000
DTSTAMP:20260421T162759
CREATED:20230228T211458Z
LAST-MODIFIED:20230228T211458Z
UID:10004002-1680022800-1680028200@8maerz.at
SUMMARY:Kuratorenführung: Keine Privatsache. Geschlecht\, Gewalt und Geschichte.
DESCRIPTION:Füh­rung durch die Aus­stel­lung mit Kura­tor Ste­fan Benedik \nDer Rund­gang durch die Aus­stel­lung Neue Zei­ten: Öster­reich seit 1918 lädt zur gemein­sa­men Dis­kus­si­on von zen­tra­len Fra­gen der Gegen­wart ein – und dazu\, ihre Spu­ren zurück in die Ver­gan­gen­heit zu ver­fol­gen. War­um wird sehr häu­fig Migra­ti­on erwähnt\, wenn über Gewalt in der Fami­lie gespro­chen wird und was hat­te eine Schwar­ze Motor­rad­fah­re­rin in den Drei­ßi­ger­jah­ren dazu zu sagen? Wie kön­nen Safe Spaces aus­se­hen und wel­che Ideen haben Bil­der­bü­cher vor hun­dert Jah­ren dazu ver­brei­tet? Was hat das Recht auf Abtrei­bung mit sexu­el­ler Gewalt gegen Frau­en im Natio­nal­so­zia­lis­mus zu tun? Wie weh­ren sich 24-Stunden-Betreuer*innen heu­te gegen Über­grif­fe im pri­va­ten Raum und inwie­fern zei­gen sie damit\, dass ein Ver­spre­chen bei der Grün­dung der Repu­blik immer noch nicht ein­ge­löst wurde? \nDie Dis­kus­si­on geht dabei von außer­ge­wöhn­li­chen Objek­ten aus der Samm­lung des Hau­ses der Geschich­te Öster­reich aus: ein Schal vom Pro­test gegen Femi­zi­de ist genau­so dar­un­ter wie ein Brett­spiel und jener Text\, der das Aus­le­ben von Geschlechts­iden­ti­tät beson­ders schützt (und das schon seit 53 Jahren). \nDie Füh­rung fin­det anläss­lich der Insze­nie­rung DU HERBERT des Schau­spiel­haus Wien statt und kann auch unab­hän­gig vom Thea­ter­stück besucht wer­den. Reser­vie­rung erforderlich. \nDau­er: ca. ein­ein­halb Stunden \nFüh­rungs­pau­scha­le: € 4 / ermä­ßigt € 3 pro Per­son zzgl. Eintritt\nBegrenz­te Teil­neh­me­rIn­nen­zahl. Sie erhal­ten Tickets an der Museumskassa. \nReser­vie­rung hier.
URL:https://8maerz.at/veranstaltung/kuratorenfuehrung-keine-privatsache-geschlecht-gewalt-und-geschichte/
LOCATION:hdgö – Haus der Geschichte Österreich\, Neue Burg\, Heldenplatz\, Wien\, Wien\, Wien\, 1015\, Österreich
END:VEVENT
BEGIN:VEVENT
DTSTART;TZID=Europe/Vienna:20230329T150000
DTEND;TZID=Europe/Vienna:20230329T163000
DTSTAMP:20260421T162759
CREATED:20230305T215516Z
LAST-MODIFIED:20230305T215628Z
UID:10004027-1680102000-1680107400@8maerz.at
SUMMARY:Wiener Bezirke aus jüdischer weiblicher Perspektive
DESCRIPTION:Frau­en­spa­zier­gän­ge „Wie­ner Bezir­ke aus jüdi­scher weib­li­cher Perspektive“\n29.3. bis 24.5.2023 \nJeder Wie­ner Gemein­de­be­zirk hat sei­ne Beson­der­hei­ten\, auch was die jüdi­sche Bevöl­ke­rung betrifft. Bei unse­ren Frau­en­spa­zier­gän­gen stel­len wir unter­schied­li­che jüdi­sche Frau­en vor. Wir zei­gen ihren Bei­trag zum Wie­ner Kul­tur­le­ben\, aber auch ihre Stel­lung inner­halb der reli­giö­sen Gemein­den und ihr Ver­eins­le­ben. Die jüdi­schen Frau­en unter­schie­den sich nur wenig von den nicht­jü­di­schen Bewoh­ne­rin­nen ihres Bezirks. Daher befas­sen sich die Rund­gän­ge mit Groß­bür­ge­rin­nen\, Arbei­te­rin­nen\, Unter­neh­me­rin­nen\, Kul­tur­schaf­fen­den und Schü­le­rin­nen. In der NS-Zeit wur­den die jüdi­schen Wie­ne­rin­nen gesell­schaft­lich geäch­tet und gede­mü­tigt\, beraubt\, ver­folgt\, ver­trie­ben oder ermordet. \n29. März 2023\, 15:00 – 16:30 Uhr\nALSERGRUND\nmit Die­ter Hecht\, Treff­punkt: 9.\, Uni­ver­si­täts­stra­ße 10\, Kos­ten: 10 Euro \nWas ver­bin­det Ger­trud Boden­wie­ser\, Eri­ca Mori­ni und Ser­a­fi­ne Rosen­berg? Sie waren Jüdin­nen\, die im 9. Bezirk wohn­ten bzw. wirk­ten und 1938 vom NS-Regime ver­folgt\, ver­trie­ben und zum Teil ermor­det wur­den. Auf dem Rund­gang durch den 9. Bezirk sol­len exem­pla­risch ein­zel­ne Frau­en­schick­sa­le näher beleuch­tet und topo­gra­fisch im Bezirk ver­or­tet werden. \nExkur­si­on buchen: www.vhs.at/de/k/288623366 \nWei­te­re Ter­mi­ne die­ser Rei­he sie­he hier.
URL:https://8maerz.at/veranstaltung/wiener-bezirke-aus-juedischer-weiblicher-perspektive/
LOCATION:Bezirk Alsergrund\, Wien\, Wien\, 1090\, Österreich
END:VEVENT
END:VCALENDAR