BEGIN:VCALENDAR
VERSION:2.0
PRODID:-//8. März - ECPv6.15.20//NONSGML v1.0//EN
CALSCALE:GREGORIAN
METHOD:PUBLISH
X-WR-CALNAME:8. März
X-ORIGINAL-URL:https://8maerz.at
X-WR-CALDESC:Veranstaltungen für 8. März
REFRESH-INTERVAL;VALUE=DURATION:PT1H
X-Robots-Tag:noindex
X-PUBLISHED-TTL:PT1H
BEGIN:VTIMEZONE
TZID:Europe/Vienna
BEGIN:DAYLIGHT
TZOFFSETFROM:+0100
TZOFFSETTO:+0200
TZNAME:CEST
DTSTART:20200329T010000
END:DAYLIGHT
BEGIN:STANDARD
TZOFFSETFROM:+0200
TZOFFSETTO:+0100
TZNAME:CET
DTSTART:20201025T010000
END:STANDARD
BEGIN:DAYLIGHT
TZOFFSETFROM:+0100
TZOFFSETTO:+0200
TZNAME:CEST
DTSTART:20210328T010000
END:DAYLIGHT
BEGIN:STANDARD
TZOFFSETFROM:+0200
TZOFFSETTO:+0100
TZNAME:CET
DTSTART:20211031T010000
END:STANDARD
BEGIN:DAYLIGHT
TZOFFSETFROM:+0100
TZOFFSETTO:+0200
TZNAME:CEST
DTSTART:20220327T010000
END:DAYLIGHT
BEGIN:STANDARD
TZOFFSETFROM:+0200
TZOFFSETTO:+0100
TZNAME:CET
DTSTART:20221030T010000
END:STANDARD
END:VTIMEZONE
BEGIN:VEVENT
DTSTART;TZID=Europe/Vienna:20210306T130000
DTEND;TZID=Europe/Vienna:20210306T140000
DTSTAMP:20260425T060154
CREATED:20210303T223055Z
LAST-MODIFIED:20210303T223154Z
UID:10003834-1615035600-1615039200@8maerz.at
SUMMARY:Kuratorinnenführung: Life constantly escapes
DESCRIPTION:Sa.\, 06.03.2021\, 13:00 – 14:00 Uhr\, online\nmit Andrea Popelka \nAus­ge­hend von Denker_innen der Black Radi­cal Tra­di­ti­on und Schwar­zer Femi­nis­men wie Fred Moten und Deni­se Fer­rei­ra da Sil­va bringt Gast­ku­ra­to­rin Andrea Popel­ka Künstler_innen und Poet_innen zusam­men\, die sich den Vor­stel­lun­gen der moder­nen Logik und ihrer Gewalt ent­zie­hen und Alter­na­ti­ven auf­ma­chen. Künstler_innen\, Kunst­ob­jek­te und Betrachter_innen ste­hen dabei nicht getrennt von­ein­an­der\, son­dern ver­schmel­zen – auch über Zei­ten und Räu­me hin­weg – auf einer sinn­li­chen Ebene. \nDie Aus­stel­lung „Life con­stant­ly escapes“ lädt dazu ein\, das domi­nan­te Ver­ständ­nis von Welt zu über­den­ken und mit den Mög­lich­kei­ten und Ima­gi­na­tio­nen zu spie­len\, die sich dadurch eröff­nen. Am 06.03.2021 gibt es bei einer Füh­rung mit der Gast­ku­ra­to­rin die Mög­lich­keit dies gemein­sam anzugehen. \nGast­ku­ra­to­rin Andrea Popel­ka ist Kura­to­rin und Kul­tur­wis­sen­schaft­le­rin. Sie hat in Kla­gen­furt\, Wien\, Hil­des­heim\, Ber­lin und Lon­don stu­diert\, zuletzt im Mas­ter Con­tem­po­ra­ry Art Theo­ry am Golds­mit­hs Col­lege\, Uni­ver­si­ty of Lon­don\, und im Mas­ter Kul­tur­wis­sen­schaf­ten an der Hum­boldt-Uni­ver­si­tät zu Ber­lin. Zu ihren kura­to­ri­schen Pro­jek­ten zäh­len New Views On Same-Olds\, xhi­bit\, Kunst­raum der Aka­de­mie der Bil­den­den Küns­te Wien\, Heart­breaks. Or: Loving you is com­pli­ca­ted in der Ver­ei­ni­gung Bil­den­der Künstler_innen Öster­reichs\, Neue Hori­zon­te 2030 in einem Pri­vat­apart­ment in Ber­lin\, Post­hu­man Com­pli­ci­ties\, eben­falls xhi­bit\, I hear the waters‘ song\, mumok kino\, sowie Aus­stel­lun­gen in der Kunst­hal­le Wien\, ACUD gal­lery Ber­lin\, dem Phyl­le­ti­schen Muse­um in Jena und mit dem GEIST Kollektiv.\nAndrea Popel­ka lebt und arbei­tet in Ber­lin (D). \nAnmel­dung:\nAuf­grund der Maß­nah­men zur Ein­däm­mung der Aus­brei­tung von COVID-19 wird die Füh­rung online stat­fin­den. Anmel­dung unter anmeldung@kunstraum.net mit dem Betreff „Kura­to­rin­nen­füh­rung Life con­stant­ly escapes 06.03.2021”. Nach erfolg­ter Anmel­dung erhal­tet ihr den Link zur Teilnahme.
URL:https://8maerz.at/veranstaltung/kuratorinnenfuehrung-life-constantly-escapes/
LOCATION:Online\, Wien\, Österreich
END:VEVENT
BEGIN:VEVENT
DTSTART;VALUE=DATE:20210308
DTEND;VALUE=DATE:20210401
DTSTAMP:20260425T060155
CREATED:20210228T221429Z
LAST-MODIFIED:20210228T221456Z
UID:10003813-1615161600-1617235199@8maerz.at
SUMMARY:spaz [ihr] gang 1050 - Margareten aus dem Blick der Frauen
DESCRIPTION:Von 8. bis 31. März kann man einen span­nen­den Spa­zier­gang durch Mar­ga­re­ten machen und dabei vie­le Sta­tio­nen zum The­ma Frau­en\, Femi­nis­mus und die weib­li­che Per­spek­ti­ve erle­ben. Mit­tels Stadt­plan oder per Han­dy-App begibt man sich quer durch Mar­ga­re­ten zu 12 Sta­tio­nen auf den Spu­ren der Frau. Gespickt mit inter­es­san­ten Fak­ten zum The­ma Gleich­be­rech­ti­gung in der Stadt\, span­nen­den weib­li­chen Per­sön­lich­kei­ten aus dem Bezirk und dem ein oder ande­ren Kunst­werk\, ist der Spa­zier­gang die opti­ma­le Kom­bi­na­ti­on aus fri­scher Luft und Muse­ums­be­such. Das bes­te dar­an? Man kann jeder­zeit ein­fach los­le­gen und ist an kei­ne fixe Zeit gebunden. \nWie kommt man zur Karte? \nEnt­we­der man begeht den Weg mit­tels der belieb­ten Ent­de­ckungs-App “Action­bound”\, oder man holt sich den ana­lo­gen Stadt­plan ab 08.03. bei­spiels­wei­se in der Méta­mor­pho­se\, der Erb­sen­zäh­le­rei und wei­te­ren aus­ge­wähl­ten Loka­len in 1050. \nWie kom­me ich zur digi­ta­len Variante: \nSchritt 1: Lade dir in dei­nem App­S­to­re die Gra­tis-App “Action­Bound” herunter.\nSchritt 2: Suche in der App nach “spaz [ihr] gang 1050”.\nSchritt 3: Gib dir/euch einen Team­na­men und fol­ge den Anweisungen.
URL:https://8maerz.at/veranstaltung/spaz-ihr-gang-1050-margareten-aus-dem-blick-der-frauen/
LOCATION:Margareten\, Wien\, Wien\, 1050\, Österreich
END:VEVENT
BEGIN:VEVENT
DTSTART;TZID=Europe/Vienna:20210308T170000
DTEND;TZID=Europe/Vienna:20210308T190000
DTSTAMP:20260425T060155
CREATED:20210307T173644Z
LAST-MODIFIED:20210307T173805Z
UID:10003837-1615222800-1615230000@8maerz.at
SUMMARY:Online-Führungen: "Große Autorinnen. Große Visionen."
DESCRIPTION:08.03.2021 Lite­ra­tur­mu­se­um\, Ariadne \nAm 8. März ist inter­na­tio­na­ler Frau­en­tag. Aus die­sem Anlass gibt es gleich zwei kos­ten­lo­se Online-Füh­run­gen im Lite­ra­tur­mu­se­um: „Ent­de­cke­rin­nen und Auf­de­cke­rin­nen“ stellt bekann­te und weni­ger bekann­te Schrift­stel­le­rin­nen in der Dau­er­aus­stel­lung vor\, „Frau­en schrei­ben Zukunft“ rückt die Autorin­nen in der aktu­el­len Son­der­aus­stel­lung „Uto­pien und Apo­ka­lyp­sen“ ins Zen­trum. Dar­über hin­aus lädt die Öster­rei­chi­sche Natio­nal­bi­blio­thek am Sonn­tag\, 7. März bei frei­em Ein­tritt ins Lite­ra­tur­mu­se­um\, um sich anhand der aus­ge­stell­ten Ori­gi­na­le Anre­gun­gen für Lek­tü­ren zum Frau­en­tag zu holen. \n» Hier geht es zur Anmel­dung für die Füh­rung zur Dau­er­aus­stel­lung um 17 Uhr \n» Hier geht es zur Anmel­dung für die Füh­rung zur Son­der­aus­stel­lung um 18 Uhr \nfraueninbewegung.onb.ac.at \n 
URL:https://8maerz.at/veranstaltung/online-fuehrungen-grose-autorinnen-grose-visionen/
LOCATION:Online\, Wien\, Österreich
ORGANIZER;CN="%C3%96sterreichische Nationalbibliothek":MAILTO:onb@onb.ac.at
END:VEVENT
BEGIN:VEVENT
DTSTART;TZID=Europe/Vienna:20210308T173000
DTEND;TZID=Europe/Vienna:20210308T190000
DTSTAMP:20260425T060155
CREATED:20210303T225422Z
LAST-MODIFIED:20210303T225629Z
UID:10003586-1615224600-1615230000@8maerz.at
SUMMARY:Community Outreach: Spaziergang „Feminist Nightscapes"
DESCRIPTION:„Femi­nist Night­scapes – 8. März-Spaziergang“\nOrt: Öffent­li­cher Raum \nWie femi­nis­tisch ist der öffent­li­che Raum? Digi­tal mit­ein­an­der ver­bun­den bewe­gen wir uns als vir­tu­el­les Kol­lek­tiv durch den städ­ti­schen Raum\, fei­ern den Inter­na­tio­na­len Frau­en­tag\, prak­ti­zie­ren take-back-the-night und stel­len uns neue femi­nis­ti­sche Räu­me und Öffent­lich­kei­ten vor. Der Spa­zier­gang star­tet für alle Teil­neh­men­den dort\, wo sie sich befin­den. Allei­ne oder in pan­de­misch siche­rer Beglei­tung in der Stadt unter­wegs\, tref­fen wir ein­an­der auf Zoom und bewe­gen uns durch den öffent­li­chen Raum. Via Zoom erhal­ten alle\, die mit­ge­hen\, Scores\, Hand­lungs­an­re­gun­gen\, femi­nis­ti­sche Songs und Zita­te\, die den Spa­zier­gang cho­reo­gra­fie­ren. Die­se wur­den vor­be­rei­tet und zusam­men­ge­stellt von Elke Kras­ny\, Sophie Lingg und Clau­dia Lomoschitz. \nFür Ihre Teil­nah­me bit­te um Regis­trie­rung per E‑Mail an: c.erharter@belvedere.at\nIm Anschluss erhal­ten Sie den Zugangs­link zum Online-Spaziergang.
URL:https://8maerz.at/veranstaltung/community-outreach-spaziergang-feminist-nightscapes/
LOCATION:Online\, Wien\, Österreich
END:VEVENT
END:VCALENDAR