BEGIN:VCALENDAR
VERSION:2.0
PRODID:-//8. März - ECPv6.15.17.1//NONSGML v1.0//EN
CALSCALE:GREGORIAN
METHOD:PUBLISH
X-WR-CALNAME:8. März
X-ORIGINAL-URL:https://8maerz.at
X-WR-CALDESC:Veranstaltungen für 8. März
REFRESH-INTERVAL;VALUE=DURATION:PT1H
X-Robots-Tag:noindex
X-PUBLISHED-TTL:PT1H
BEGIN:VTIMEZONE
TZID:UTC
BEGIN:STANDARD
TZOFFSETFROM:+0000
TZOFFSETTO:+0000
TZNAME:UTC
DTSTART:20180101T000000
END:STANDARD
END:VTIMEZONE
BEGIN:VEVENT
DTSTART;TZID=UTC:20190301T150000
DTEND;TZID=UTC:20190302T233000
DTSTAMP:20260422T215211
CREATED:20190126T143245Z
LAST-MODIFIED:20190126T143633Z
UID:10003439-1551452400-1551569400@8maerz.at
SUMMARY:Rosa-Luxemburg-Konferenz 2019
DESCRIPTION:Nach der erfolg­rei­chen Pre­mie­re 2018\, wird bei der 2. Rosa Luxem­burg Kon­fe­renz wie­der zwei Tage lang die Mög­lich­keit gebo­ten\, Ana­ly­sen\, Erfah­run­gen und Stra­te­gien fort­schritt­li­cher Orga­ni­sa­tio­nen in Öster­reich und inter­na­tio­nal zu diskutieren. \nPro­gramm sie­he https://www.rosaluxemburgkonferenz.at/programm/
URL:https://8maerz.at/veranstaltung/rosa-luxemburg-konferenz-2019/
LOCATION:VHS Hietzing\, Hofwiesengasse 48\, Wien\, 1130
GEO:48.1704596;16.286833
X-APPLE-STRUCTURED-LOCATION;VALUE=URI;X-ADDRESS=VHS Hietzing Hofwiesengasse 48 Wien 1130;X-APPLE-RADIUS=500;X-TITLE=Hofwiesengasse 48:geo:16.286833,48.1704596
END:VEVENT
BEGIN:VEVENT
DTSTART;TZID=UTC:20190302T150000
DTEND;TZID=UTC:20190302T163000
DTSTAMP:20260422T215211
CREATED:20190126T142625Z
LAST-MODIFIED:20190126T142720Z
UID:10003438-1551538800-1551544200@8maerz.at
SUMMARY:Ich fürchte niemanden - Adelheid Popp und der Kampf für das Frauenwahlrecht
DESCRIPTION:Das all­ge­mei­ne\, glei­che Wahl­recht »aller Staats­bür­ger ohne Unter­schied des Geschlechts« war eine der wich­tigs­ten ­Errun­gen­schaf­ten der Revo­lu­ti­on am Ende des Ers­ten Welt­kriegs. Am 4. März 1919 konn­ten end­lich die ers­ten ­weib­li­chen Abge­ord­ne­ten im öster­rei­chi­schen Par­la­ment ange­lobt ­wer­den. Unter ihnen befand sich Adel­heid Popp (1869–1939)\, die auf drei Jahr­zehn­te des Kamp­fes für das Frau­en­wahl­recht zurück­blicken konn­te. Als jun­ge Fabrik­ar­bei­te­rin war Popp der Sozial­demokratie bei­getre­ten und hat­te wie kei­ne ande­re Anteil am Auf­bau einer star­ken pro­le­ta­ri­schen Frauenbewegung.\nDas all­ge­mei­ne (Frauen-)Wahlrecht war für die »Erwe­cke­rin der Frau­en« kein Ziel an sich\, son­dern nur ein Mit­tel im Stre­ben nach umfas­sen­dem Arbei­te­rin­nen­schutz\, kür­ze­ren Arbeits­zeiten und letzt­lich einer Welt ohne ­Aus­beu­tung. Die­se Bio­gra­fie zeich­net ihr Leben und Wir­ken bis zu ihrem Ein­zug ins Par­la­ment nach und gibt dabei einen völ­lig neu­en Blick auf die Theo­rie und Pra­xis der frü­hen ArbeiterInnenbewegung. \nIm Rah­men der Rosa Luxem­burg-Kon­fe­renz fin­det die ers­te Buch­prä­sen­ta­ti­on von „ ‚Ich fürch­te nie­man­den‘ – Adel­heid Popp und der Kampf für das Frau­en­wahl­recht statt.
URL:https://8maerz.at/veranstaltung/ich-fuerchte-niemanden-adelheid-popp-und-frauenwahlrecht/
LOCATION:VHS Hietzing\, Hofwiesengasse 48\, Wien\, 1130
GEO:48.1704596;16.286833
X-APPLE-STRUCTURED-LOCATION;VALUE=URI;X-ADDRESS=VHS Hietzing Hofwiesengasse 48 Wien 1130;X-APPLE-RADIUS=500;X-TITLE=Hofwiesengasse 48:geo:16.286833,48.1704596
END:VEVENT
END:VCALENDAR