BEGIN:VCALENDAR
VERSION:2.0
PRODID:-//8. März - ECPv6.15.17.1//NONSGML v1.0//EN
CALSCALE:GREGORIAN
METHOD:PUBLISH
X-ORIGINAL-URL:https://8maerz.at
X-WR-CALDESC:Veranstaltungen für 8. März
REFRESH-INTERVAL;VALUE=DURATION:PT1H
X-Robots-Tag:noindex
X-PUBLISHED-TTL:PT1H
BEGIN:VTIMEZONE
TZID:Europe/Vienna
BEGIN:DAYLIGHT
TZOFFSETFROM:+0100
TZOFFSETTO:+0200
TZNAME:CEST
DTSTART:20190331T010000
END:DAYLIGHT
BEGIN:STANDARD
TZOFFSETFROM:+0200
TZOFFSETTO:+0100
TZNAME:CET
DTSTART:20191027T010000
END:STANDARD
BEGIN:DAYLIGHT
TZOFFSETFROM:+0100
TZOFFSETTO:+0200
TZNAME:CEST
DTSTART:20200329T010000
END:DAYLIGHT
BEGIN:STANDARD
TZOFFSETFROM:+0200
TZOFFSETTO:+0100
TZNAME:CET
DTSTART:20201025T010000
END:STANDARD
BEGIN:DAYLIGHT
TZOFFSETFROM:+0100
TZOFFSETTO:+0200
TZNAME:CEST
DTSTART:20210328T010000
END:DAYLIGHT
BEGIN:STANDARD
TZOFFSETFROM:+0200
TZOFFSETTO:+0100
TZNAME:CET
DTSTART:20211031T010000
END:STANDARD
END:VTIMEZONE
BEGIN:VEVENT
DTSTART;TZID=Europe/Vienna:20200229T150000
DTEND;TZID=Europe/Vienna:20200229T173000
DTSTAMP:20260421T123050
CREATED:20200224T220931Z
LAST-MODIFIED:20200224T222424Z
UID:10003699-1582988400-1582997400@8maerz.at
SUMMARY:Frauen.Wahl.Recht | Stadtspaziergang
DESCRIPTION:Frauen.Wahl.Recht | Stadtspaziergang\n29. Febru­ar 2020 von 15:00 bis 17:30\, Kos­ten: 15 Euro \nVor 100 Jah­ren haben Akti­vis­tin­nen und Ver­tre­te­rin­nen der Ers­ten Frauen*Bewegung in Öster­reich das Frauen*Wahlrecht erstritten. \n1919 zie­hen die ers­ten acht Frau­en ins Par­la­ment ein. \nWie hat der Kampf um poli­ti­sche Mit­spra­che begonnen?\nWer waren die Protagonistinnen?\nWel­che Wider­stän­de waren zu überwinden? \nUnd heu­te?\nWel­che Frau­en* sind heu­te im Parlament?\nWer ver­tritt noch Frauen*Interessen?\nWel­che Frauen*Forderungen gibt es heute? \nEin Spa­zier­gang auf den Spu­ren der Frauen-Wahlrechtsgeschichte! \nDetails und Anmel­dung: sie­he Link unten
URL:https://8maerz.at/veranstaltung/frauen-wahl-recht-stadtspaziergang/
LOCATION:Altes Rathaus\, Wipplingerstraße 8\, Wien\, Wien\, 1010\, Österreich
END:VEVENT
END:VCALENDAR