BEGIN:VCALENDAR
VERSION:2.0
PRODID:-//8. März - ECPv6.15.17.1//NONSGML v1.0//EN
CALSCALE:GREGORIAN
METHOD:PUBLISH
X-WR-CALNAME:8. März
X-ORIGINAL-URL:https://8maerz.at
X-WR-CALDESC:Veranstaltungen für 8. März
REFRESH-INTERVAL;VALUE=DURATION:PT1H
X-Robots-Tag:noindex
X-PUBLISHED-TTL:PT1H
BEGIN:VTIMEZONE
TZID:Europe/Vienna
BEGIN:DAYLIGHT
TZOFFSETFROM:+0100
TZOFFSETTO:+0200
TZNAME:CEST
DTSTART:20180325T010000
END:DAYLIGHT
BEGIN:STANDARD
TZOFFSETFROM:+0200
TZOFFSETTO:+0100
TZNAME:CET
DTSTART:20181028T010000
END:STANDARD
BEGIN:DAYLIGHT
TZOFFSETFROM:+0100
TZOFFSETTO:+0200
TZNAME:CEST
DTSTART:20190331T010000
END:DAYLIGHT
BEGIN:STANDARD
TZOFFSETFROM:+0200
TZOFFSETTO:+0100
TZNAME:CET
DTSTART:20191027T010000
END:STANDARD
BEGIN:DAYLIGHT
TZOFFSETFROM:+0100
TZOFFSETTO:+0200
TZNAME:CEST
DTSTART:20200329T010000
END:DAYLIGHT
BEGIN:STANDARD
TZOFFSETFROM:+0200
TZOFFSETTO:+0100
TZNAME:CET
DTSTART:20201025T010000
END:STANDARD
END:VTIMEZONE
BEGIN:VEVENT
DTSTART;TZID=Europe/Vienna:20190402T190000
DTEND;TZID=Europe/Vienna:20190402T210000
DTSTAMP:20260422T130705
CREATED:20190331T192459Z
LAST-MODIFIED:20190331T212058Z
UID:10003551-1554231600-1554238800@8maerz.at
SUMMARY:Warum feiern – Beiträge zu 100 Jahren Frauenwahlrecht
DESCRIPTION:Buch­prä­sen­ta­ti­on und per­for­ma­ti­ve Lesung\n„War­um fei­ern“ – Bei­trä­ge zu 100 Jah­ren Frauenwahlrecht \nLite­ra­tur\, Wis­sen­schaft und Akti­vis­mus. Lese­tour durch ver­schie­de­ne sprach­li­che Arti­ku­la­ti­ons­for­men von sozia­len und poli­ti­schen Frau­en­rea­li­tä­ten mit den Her­aus­ge­be­rin­nen Ele­na Mess­ner\, Eva Schörk­hu­ber\, Petra Sturm und Autorin­nen des Ban­des. Begrü­ßung Johan­na Zechner \nEin­tritt frei! \nMit: Bet­ti­na Balà­ka\, Nata­lie Deewan\, Li Ger­hal­ter\, Mar­le­ne Gölz\,\nMari­on Löff­ler\, Bir­ge Kron­dor­fer\, Eva Schörk­hu­ber\, PJ Sturm\nFrau­en­hetz\, femi­nis­ti­sche Bil­dung\, Kul­tur und Poli­tik Frau­en­hetz\, femi­nis­ti­sche Bil­dung\, Kul­tur und Poli­tik (frauenhetz.jetzt\, Frauen_Referat der ÖH Uni Wien\, Das Frau­en­volks­be­geh­ren (frauenvolksbegehren.at)\, Die Frauenwahlrechtabschaffungszentrale/ Die Brut­pfle­ge­rin­nen (diebrutpflegerinnen.com)\, RADS (radsisters.blogsport.at) \nIm Rah­men von\n„SIE MEINEN ES POLITISCH!“\n100 Jah­re Frau­en­wahl­recht in Österreich\nhttps://www.volkskundemuseum.at/frauenwahlrecht
URL:https://8maerz.at/veranstaltung/warum-feiern-beitrage-zu-100-jahren-frauenwahlrecht/
LOCATION:Volkskundemuseum\, Laudongasse 15–19\, Wien\, Wien\, 1080\, Österreich
GEO:48.2132052;16.3506473
X-APPLE-STRUCTURED-LOCATION;VALUE=URI;X-ADDRESS=Volkskundemuseum Laudongasse 15–19 Wien Wien 1080 Österreich;X-APPLE-RADIUS=500;X-TITLE=Laudongasse 15–19:geo:16.3506473,48.2132052
END:VEVENT
BEGIN:VEVENT
DTSTART;TZID=Europe/Vienna:20190404T150000
DTEND;TZID=Europe/Vienna:20190404T170000
DTSTAMP:20260422T130705
CREATED:20190331T193308Z
LAST-MODIFIED:20190331T193308Z
UID:10003553-1554390000-1554397200@8maerz.at
SUMMARY:Stadtrundgang: Orte des Frauenwahlrechts
DESCRIPTION:Im März 1919 zogen die ers­ten Frau­en als Abge­ord­ne­te in das öster­rei­chi­sche Par­la­ment ein. Das glei­che Wahl­recht für alle war lan­ge vor 1919 eine zen­tra­le For­de­rung demo­kra­tisch Gesinn­ter und ist auch heu­te aktu­ell. Die Aus­stel­lung „Sie mei­nen es poli­tisch! 100 Jah­re Frau­en­wahl­recht in Öster­reich“ wur­de vom Pro­jekt frauenwahlrecht.at ent­wi­ckelt und wird zunächst im Volks­kun­de­mu­se­um Wien gezeigt. \nDie­ser dia­lo­gisch ange­leg­te Rund­gang nimmt dort sei­nen Aus­gangs­punkt und führt danach ent­lang eini­ger zen­tra­ler Orte im öffent­li­chen Raum\, die mit der Geschich­te des Frau­en­wahl­rechts ver­bun­den sind\, wei­ter ins Haus der Geschich­te Öster­reich. Eine Aus­wahl an Objek­ten dient da wie dort als Aus­gangs- und Anknüpfungspunkt. \nTreff­punkt: Volks­kun­de­mu­se­um Wien\nBegrenz­te TeilnehmerInnenzahl\nAnmel­dung bis 28.3. erbe­ten unter vermittlung@hdgoe.at\nKos­ten: € 12\,-  ; € 8\,- erm. \nEine Koope­ra­ti­on von frauenwahlrecht.at\, Volks­kun­de­mu­se­um Wien und Haus der Geschich­te Österreich. \nIm Rah­men der Aus­stel­lung „Sie mei­nen es poli­tisch!“ 100 Jah­re Frau­en­wahl­recht in Öster­reich / http://bit.ly/2NTnrd2
URL:https://8maerz.at/veranstaltung/stadtrundgang-orte-des-frauenwahlrechts/
LOCATION:Volkskundemuseum\, Laudongasse 15–19\, Wien\, Wien\, 1080\, Österreich
GEO:48.2132052;16.3506473
X-APPLE-STRUCTURED-LOCATION;VALUE=URI;X-ADDRESS=Volkskundemuseum Laudongasse 15–19 Wien Wien 1080 Österreich;X-APPLE-RADIUS=500;X-TITLE=Laudongasse 15–19:geo:16.3506473,48.2132052
END:VEVENT
BEGIN:VEVENT
DTSTART;TZID=Europe/Vienna:20190424T193000
DTEND;TZID=Europe/Vienna:20190424T210000
DTSTAMP:20260422T130705
CREATED:20190331T211757Z
LAST-MODIFIED:20190331T212016Z
UID:10003571-1556134200-1556139600@8maerz.at
SUMMARY:Votes For Women – Wanted Everywhere!
DESCRIPTION:Frauenwahlrecht und politische Partizipation von Frauen im Globalen Süden\nAnläss­lich der Fei­ern zum 100jährigen Jubi­lä­um des Frau­en­wahl­rechts in Öster­reich und Deutsch­land wer­fen wir einen Blick über die (euro­päi­schen) Gren­zen. Wir fra­gen\, wie sich das Frau­en­wahl­recht in ver­schie­de­nen Regio­nen und Län­dern des Glo­ba­len Südens ent­wi­ckel­te; wel­che Fak­to­ren des­sen Ein­füh­rung begüns­tig­ten; wie sich in der Fol­ge die Teil­ha­be von Frau­en an for­ma­ler poli­ti­scher Macht gestal­te­te und wel­che Regio­nen mit ihrem Frau­en­an­teil in poli­ti­schen Ämtern und Gre­mi­en welt­weit füh­rend sind. Mit­tels Quiz\, Film­aus­schnitt\, Vor­trag\, Dis­kus­si­on sowie Prä­sen­ta­ti­on der Zeit­schrift Frauen*solidarität zum Schwer­punkt „Wah­len und poli­ti­sche Par­ti­zi­pa­ti­on“ behan­deln wir die­se The­men und ver­lo­sen zum Schluss unter den Teilnehmer*innen des Quiz‘ ein Jah­res­abo der Zeit­schrift Frauen*solidarität. \nMit Petra Pint und Rosa Zechner \nUm Anmel­dung wird gebe­ten: office@frauensolidaritaet.org \nEine Ver­an­stal­tung der Frauen*solidarität in Koope­ra­ti­on mit der Frau­en­hetz: frauenhetz.jetzt \nDie Ver­an­stal­tun­gen in der Frau­en­hetz sind für Frau­en. Die Räum­lich­kei­ten der Frau­en­hetz sind bar­rie­re­frei zugänglich. \nBesu­chen Sie auch: www.frauensolidaritaet.org/frauenwahlrecht
URL:https://8maerz.at/veranstaltung/votes-for-women-wanted-everywhere/
LOCATION:Frauenhetz\, Untere Weißgerberstraße 41\, Wien\, 1030
GEO:48.2084854;16.3946163
X-APPLE-STRUCTURED-LOCATION;VALUE=URI;X-ADDRESS=Frauenhetz Untere Weißgerberstraße 41 Wien 1030;X-APPLE-RADIUS=500;X-TITLE=Untere Weißgerberstraße 41:geo:16.3946163,48.2084854
END:VEVENT
END:VCALENDAR