BEGIN:VCALENDAR
VERSION:2.0
PRODID:-//8. März - ECPv6.15.17.1//NONSGML v1.0//EN
CALSCALE:GREGORIAN
METHOD:PUBLISH
X-ORIGINAL-URL:https://8maerz.at
X-WR-CALDESC:Veranstaltungen für 8. März
REFRESH-INTERVAL;VALUE=DURATION:PT1H
X-Robots-Tag:noindex
X-PUBLISHED-TTL:PT1H
BEGIN:VTIMEZONE
TZID:UTC
BEGIN:STANDARD
TZOFFSETFROM:+0000
TZOFFSETTO:+0000
TZNAME:UTC
DTSTART:20170101T000000
END:STANDARD
END:VTIMEZONE
BEGIN:VEVENT
DTSTART;TZID=UTC:20181112T200000
DTEND;TZID=UTC:20181112T213000
DTSTAMP:20260422T202654
CREATED:20180916T115530Z
LAST-MODIFIED:20180916T115530Z
UID:10003424-1542052800-1542058200@8maerz.at
SUMMARY:Die Brutpfleger*innen - 100 Jahre Frauenwahlrecht
DESCRIPTION:Das Künst­le­rin­nen­duo Die Brut­pfle­ge­rin­nen eröff­net von 22. – 29. Sep­tem­ber eine Frau­en­wahl­recht­ab­schaf­fungs­zen­tra­le in einem Con­tai­ner am Karls­platz. Passant⋆innen wer­den in die­ser aktio­nis­tisch- per­for­ma­ti­ven Zone auf­ge­for­dert\, über die Abschaf­fung oder Bei­be­hal­tung des Frau­en­wahl­rechts abzu­stim­men (Frau­en­wahl­rech­t/Ab-Schaf­fungs­/­Zen­tra­le). Die Ergeb­nis­se und Erfah­run­gen die­ser Akti­on wer­den zum 100-jäh­ri­gen Jubi­lä­um des Frau­en­wahl­rechts im Kos­mos Thea­ter prä­sen­tiert und mit Expert⋆innen diskutiert. \nVon und mit: Susan­ne Drax­ler\, Sarah Hau­ber\, Gud­run Lenk Wane\, Frie­da Paris\, Eva Puch­ner & Susan­ne Preissl
URL:https://8maerz.at/veranstaltung/die-brutpflegerinnen-100-jahre-frauenwahlrecht/
LOCATION:KosmosTheater\, Siebensterngasse 42\, Wien\, 1070
GEO:48.2023843;16.3514542
X-APPLE-STRUCTURED-LOCATION;VALUE=URI;X-ADDRESS=KosmosTheater Siebensterngasse 42 Wien 1070;X-APPLE-RADIUS=500;X-TITLE=Siebensterngasse 42:geo:16.3514542,48.2023843
END:VEVENT
END:VCALENDAR