BEGIN:VCALENDAR
VERSION:2.0
PRODID:-//8. März - ECPv6.15.17.1//NONSGML v1.0//EN
CALSCALE:GREGORIAN
METHOD:PUBLISH
X-ORIGINAL-URL:https://8maerz.at
X-WR-CALDESC:Veranstaltungen für 8. März
REFRESH-INTERVAL;VALUE=DURATION:PT1H
X-Robots-Tag:noindex
X-PUBLISHED-TTL:PT1H
BEGIN:VTIMEZONE
TZID:UTC
BEGIN:STANDARD
TZOFFSETFROM:+0000
TZOFFSETTO:+0000
TZNAME:UTC
DTSTART:20170101T000000
END:STANDARD
END:VTIMEZONE
BEGIN:VEVENT
DTSTART;TZID=UTC:20181031T180000
DTEND;TZID=UTC:20181031T210000
DTSTAMP:20260422T215219
CREATED:20181024T182023Z
LAST-MODIFIED:20181024T182518Z
UID:10003426-1541008800-1541019600@8maerz.at
SUMMARY:„Sie meinen es politisch!“ 100 Jahre Frauenwahlrecht
DESCRIPTION:„Sie meinen es politisch!“ 100 Jahre Frauenwahlrecht: Ein Fest für die Wahlzelle!\nMi\, 31. Okto­ber 2018\, 18:00 Uhr im Klei­nen Fest­saal der Uni­ver­si­tät Wien. \nPrä­sen­ta­ti­on der „wan­dern­den Wahlzelle“\nMit Bei­trä­gen u.a. von Gabri­el­la Hauch\, Eli­sa­beth Holz­leit­h­ner und Julya Rabinowich\nMusik von Fati­ma Spar & The Free­dom Fries \nDie Ein­füh­rung des akti­ven und pas­si­ven Frau­en­wahl­rechts in Öster­reich im Herbst 1918 bil­de­te einen Mei­len­stein in der Aus­ein­an­der­set­zung um die Gleich­be­rech­ti­gung von Frau­en und  Män­nern. Die­se Ver­an­stal­tung fei­ert\, dass Frau­en vor 100 Jah­ren das Recht der poli­ti­schen Mit­be­stim­mung erreicht haben\, und erin­nert dar­an\, dass von einer umfas­sen­den Geschlech­ter­ge­rech­tig­keit bis heu­te nicht die Rede sein kann. \nDown­load Flyer
URL:https://8maerz.at/veranstaltung/sie-meinen-es-politisch-100-jahre-frauenwahlrecht/
LOCATION:Universität Wien Hauptgebäude\, Universitätsring 1\, Wien\, 1010
GEO:48.2130573;16.3606723
X-APPLE-STRUCTURED-LOCATION;VALUE=URI;X-ADDRESS=Universität Wien Hauptgebäude Universitätsring 1 Wien 1010;X-APPLE-RADIUS=500;X-TITLE=Universitätsring 1:geo:16.3606723,48.2130573
END:VEVENT
END:VCALENDAR