BEGIN:VCALENDAR
VERSION:2.0
PRODID:-//8. März - ECPv6.15.17.1//NONSGML v1.0//EN
CALSCALE:GREGORIAN
METHOD:PUBLISH
X-ORIGINAL-URL:https://8maerz.at
X-WR-CALDESC:Veranstaltungen für 8. März
REFRESH-INTERVAL;VALUE=DURATION:PT1H
X-Robots-Tag:noindex
X-PUBLISHED-TTL:PT1H
BEGIN:VTIMEZONE
TZID:UTC
BEGIN:STANDARD
TZOFFSETFROM:+0000
TZOFFSETTO:+0000
TZNAME:UTC
DTSTART:20170101T000000
END:STANDARD
END:VTIMEZONE
BEGIN:VEVENT
DTSTART;TZID=UTC:20180929T190000
DTEND;TZID=UTC:20180929T220000
DTSTAMP:20260422T231957
CREATED:20180923T142502Z
LAST-MODIFIED:20180923T142604Z
UID:10003425-1538247600-1538258400@8maerz.at
SUMMARY:Abschlussperformance Frauenwahlrecht/Ab-Schaffungs/Zentrale mit Konzert Lupin
DESCRIPTION:Bei einer rich­ti­gen Wahl darf eine Wahl­par­ty nicht feh­len: mit Abschluss­per­for­mance und Kund­ge­bung des Wahlergebnisses!\nIm Anschluss spielt LUPIN – die Sie­ge­rin­nen­band des Pro­test­songcon­tests 2018. \n19:00 Abschluss­per­for­mance und Kund­ge­bung des Wahlergebnisses \n20:00 Kon­zert LUPIN \nLupin ist ein Sin­ger­song­wri­te­rin­nen-Duo bestehend aus Han­nah Gua­na­ba­na und Tan­ja Mie­zi aus Wien. Bei­de spie­len Gitar­re und sin­gen und manch­mal spie­len sie auch Melo­di­ka\, Mund­har­mo­ni­ka und Ras­se­lei. Lupin kenn­zeich­net sich über deutsch­spra­chi­ge\, kri­ti­sche Songs die hin und wie­der auch zum schmun­zeln brin­gen sol­len. The­men wie Depres­sio­nen\, inne­re Unru­he oder ande­re Din­ge über die zu wenig gespro­chen wird behan­deln sie mit ein biss­chen Humor aber auch mit gan­zer dazu­ge­hö­ri­ger Schwe­re. Den dies­jäh­ri­gen Pro­test­songcon­test gewan­nen sie mit dem Lied „1 Lied gegen Sexis­mus“ in wel­chem sie Sexis­mus im All­tag anhand von drei Bei­spie­len thematisieren.
URL:https://8maerz.at/veranstaltung/abschlussperformance-frauenwahlrecht-ab-schaffungs-zentrale-mit-konzert-lupin/
LOCATION:Karlsplatz\, Karlsplatz\, Wien\, Wien\, 1040\, Österreich
GEO:48.2005373;16.3701771
X-APPLE-STRUCTURED-LOCATION;VALUE=URI;X-ADDRESS=Karlsplatz Karlsplatz Wien Wien 1040 Österreich;X-APPLE-RADIUS=500;X-TITLE=Karlsplatz:geo:16.3701771,48.2005373
END:VEVENT
END:VCALENDAR