BEGIN:VCALENDAR
VERSION:2.0
PRODID:-//8. März - ECPv6.15.17.1//NONSGML v1.0//EN
CALSCALE:GREGORIAN
METHOD:PUBLISH
X-ORIGINAL-URL:https://8maerz.at
X-WR-CALDESC:Veranstaltungen für 8. März
REFRESH-INTERVAL;VALUE=DURATION:PT1H
X-Robots-Tag:noindex
X-PUBLISHED-TTL:PT1H
BEGIN:VTIMEZONE
TZID:UTC
BEGIN:STANDARD
TZOFFSETFROM:+0000
TZOFFSETTO:+0000
TZNAME:UTC
DTSTART:20170101T000000
END:STANDARD
END:VTIMEZONE
BEGIN:VEVENT
DTSTART;TZID=UTC:20180308T190000
DTEND;TZID=UTC:20180308T220000
DTSTAMP:20260423T075127
CREATED:20180303T162157Z
LAST-MODIFIED:20180303T162157Z
UID:10003286-1520535600-1520546400@8maerz.at
SUMMARY:Int'l Women's Day Pub Quiz
DESCRIPTION:March 8th  is Inter­na­tio­nal Women’s Day and Women in Inter­na­tio­nal Secu­ri­ty Aus­tria would like to cele­bra­te it with you! Come join us for a fun evening cele­bra­ting the remar­kab­le achie­ve­ments of women who made their mark in histo­ry at Café Korb! \nDo you know which coun­try first allo­wed women to vote? Whe­re the first fema­le Tour de France par­ti­ci­pant came from? How much the world’s wealt­hie­st woman ear­ns? This pub quiz will show how much you real­ly know about women! \nSet up a crea­tively named team with your fri­ends or col­le­agues and join us after working hours. Don’t worry if you don’t have a team\, we’ll pair you with other gre­at minds! And if you’re excee­din­gly good\, we’ll award the talent with a pri­ze – so come sharp and ready!\nFirst pri­ze will be a copy of the extra­or­di­na­ry book Rebel Girls! \nEnt­rance: We would like to ask for a vol­un­t­a­ry con­tri­bu­ti­on to our cau­se and the evening!
URL:https://8maerz.at/veranstaltung/intl-womens-day-pub-quiz/
LOCATION:Café Korb\, Café Korb\, Brandstätte 7-9\, Wien\, 1010
GEO:48.2100867;16.3706951
X-APPLE-STRUCTURED-LOCATION;VALUE=URI;X-ADDRESS=Café Korb Café Korb Brandstätte 7-9 Wien 1010;X-APPLE-RADIUS=500;X-TITLE=Café Korb:geo:16.3706951,48.2100867
END:VEVENT
BEGIN:VEVENT
DTSTART;TZID=UTC:20180319T100000
DTEND;TZID=UTC:20180319T160000
DTSTAMP:20260423T075127
CREATED:20180304T201639Z
LAST-MODIFIED:20180318T163305Z
UID:10003409-1521453600-1521475200@8maerz.at
SUMMARY:Workshop zum 100. Jahrestag des Frauenwahlrechts
DESCRIPTION:Biographisch-geschichtlicher Workshop zum 100. Jahrestag des Frauenwahlrechts\nDie­se Ver­an­stal­tung muss­te lei­der auf­grund zu weni­ger Anmel­dun­gen abge­sagt werden. \nIm Work­shop geht es\, neben der Wis­sens­ver­mitt­lung\, um eine per­sön­li­che Aus­ein­an­der­set­zung mit dem 100. Jah­res­tags des Frau­en­wahl­rechts und der Geschich­te der Eman­zi­pa­ti­on der Frau­en. Wir wer­den die Zusam­men­hän­ge zwi­schen der eige­nen Bio­gra­phie und der (Frauen-)Geschichte reflektieren.\nEs wird mit Klein­grup­pen\, Bild und Film sowie Para-Thea­tra­li­schen For­men gear­bei­tet. Das Kon­zept basiert auf bio­gra­phi­schen und Oral Histo­ry Metho­den und wird in diver­sen Vari­an­ten seit 2008 bei eFKa – Fund­ac­ja Kobie­ca\, Kra­kau rea­li­siert. Frau­en aus unter­schied­li­chen Gene­ra­tio­nen und Natio­na­li­tä­ten sind herz­lich ein­ge­la­den. Bild-/Ma­te­ri­al kann ger­ne zum Work­shop mit­ge­bracht werden. \nmin. 8\, max. 20 Teilnehmerinnen\nAnmel­dun­gen unter office@frauenhetz.at \nRefe­ren­tin und Work­shop­lei­te­rin: Dr.in Sła­wo­mi­ra Wal­c­zews­ka\, Femi­nis­ti­sches Insti­tut für For­schung und Bil­dung – bei Frau­en­stif­tung eFKa\, Krakau \nOrt: Frau­en­bil­dungs­stät­te Frau­en­hetz\, Unte­re Weiß­ger­ber­str. 41\, 1030 Wien\nSnacks und Geträn­ke wer­den gereicht\nEin­tritt frei\, Spen­den willkommen\nVer­an­stal­tung für Frauen
URL:https://8maerz.at/veranstaltung/workshop-zum-100-jahrestag-des-frauenwahlrechts/
LOCATION:Frauenhetz\, Untere Weißgerberstraße 41\, Wien\, 1030
ORGANIZER;CN="Frauenhetz - feministische Bildung%2C Kultur und Politik":MAILTO:office@frauenhetz.at
GEO:48.2084854;16.3946163
X-APPLE-STRUCTURED-LOCATION;VALUE=URI;X-ADDRESS=Frauenhetz Untere Weißgerberstraße 41 Wien 1030;X-APPLE-RADIUS=500;X-TITLE=Untere Weißgerberstraße 41:geo:16.3946163,48.2084854
END:VEVENT
BEGIN:VEVENT
DTSTART;TZID=UTC:20180320T190000
DTEND;TZID=UTC:20180320T210000
DTSTAMP:20260423T075127
CREATED:20180303T171904Z
LAST-MODIFIED:20180303T171904Z
UID:10003395-1521572400-1521579600@8maerz.at
SUMMARY:Filmabend "Suffragette"
DESCRIPTION:100 Jahre Frauenwahlrecht. Wir machen weiter!\nWas: Film: “Suf­fra­get­te – Taten statt Worte”\nWann: 20.3. 19:00\nWo: Guss­haus­stra­ße 14\, 1040 Wien \nVor 100 Jah­ren haben Frau­en in Öster­reich das Wahl­recht für sich erkämpft.\nDie Ein­füh­rung des Frau­en­wahl­rechts war nicht ein­fach\, denn schon damals hat­te die Poli­tik Frau­en nichts geschenkt. Sie muss­ten sich selbst holen\, was sie wollten.\nSeit­dem hat sich zwar vie­les getan\, aber gera­de jetzt ist es wich­tig wei­ter­zu­kämp­fen. Wo schwarz-blau regiert wer­den Kin­der­gar­ten­ge­büh­ren wie­der ein­ge­führt\, müs­sen Frau­en­häu­ser schlie­ßen\, wer­den femi­nis­ti­sche Ver­ei­ne aus­ge­hun­gert\, Kin­der­gar­ten­ge­büh­ren wie­der ein­ge­führt. Anstatt die Lebens­si­tua­ti­on von Frau­en zu ver­bes­sern\, wer­den ihnen Mög­lich­kei­ten eines selbst­be­stimm­ten Lebens genommen. \nWir wol­len 100 Jah­re Frau­en­wahl­recht in Öster­reich zum Anlass neh­men\, uns mit den femi­nis­ti­schen Kämp­fen der Ver­gan­gen­heit aus­ein­an­der­zu­set­zen\, den Film “Suf­fra­get­te – Taten statt Wor­te” anse­hen und anschlie­ßend diskutieren.\nDer Film zeigt die Anfän­ge der Frau­en­be­we­gung im frü­hen 20. Jahr­hun­dert in Großb­ritta­ni­en und das damit ver­bun­de­ne Schick­sal der jun­gen Maud Watts.
URL:https://8maerz.at/veranstaltung/filmabend-suffragette/
LOCATION:Junge Linke Österreich\, Gußhausstraße 14\, Wien\, 1040
GEO:48.197314;16.3713643
X-APPLE-STRUCTURED-LOCATION;VALUE=URI;X-ADDRESS=Junge Linke Österreich Gußhausstraße 14 Wien 1040;X-APPLE-RADIUS=500;X-TITLE=Gußhausstraße 14:geo:16.3713643,48.197314
END:VEVENT
END:VCALENDAR