BEGIN:VCALENDAR
VERSION:2.0
PRODID:-//8. März - ECPv6.15.17.1//NONSGML v1.0//EN
CALSCALE:GREGORIAN
METHOD:PUBLISH
X-ORIGINAL-URL:https://8maerz.at
X-WR-CALDESC:Veranstaltungen für 8. März
REFRESH-INTERVAL;VALUE=DURATION:PT1H
X-Robots-Tag:noindex
X-PUBLISHED-TTL:PT1H
BEGIN:VTIMEZONE
TZID:UTC
BEGIN:STANDARD
TZOFFSETFROM:+0000
TZOFFSETTO:+0000
TZNAME:UTC
DTSTART:20170101T000000
END:STANDARD
END:VTIMEZONE
BEGIN:VEVENT
DTSTART;TZID=UTC:20180214T180000
DTEND;TZID=UTC:20180214T200000
DTSTAMP:20260423T090924
CREATED:20180209T200923Z
LAST-MODIFIED:20180209T201545Z
UID:10003350-1518631200-1518638400@8maerz.at
SUMMARY:Seminarraumgespräch: 100 Jahre Frauenwahlrecht
DESCRIPTION:Seminarraumgespräch – Denken in Präsenz:\n100 Jahre Frauenwahlrecht – endlich berechtigt sprechen?\nMit Andrea Ell­mei­er\, His­to­ri­ke­rin\, Gen­der­be­auf­trag­te\, Gehende. \nIn unse­ren Semi­nar­raum­ge­sprä­chen kann lei­den­schaft­lich und mit Muße in Prä­senz über Gegen­wär­ti­ges nach­ge­dacht werden.\nKura­tiert und mode­riert von Bir­ge Krondorfer \nOrt: Frau­en­bil­dungs­stät­te Frau­en­hetz\, Unte­re Weiß­ger­ber­stra­ße 41\, 1030 Wien\nSnacks und Geträn­ke wer­den gereicht.\nEin­tritt frei\, Spen­den willkommen.
URL:https://8maerz.at/veranstaltung/seminarraumgespraech-100-jahre-frauenwahlrecht/
LOCATION:Frauenhetz\, Untere Weißgerberstraße 41\, Wien\, 1030
ORGANIZER;CN="Frauenhetz - feministische Bildung%2C Kultur und Politik":MAILTO:office@frauenhetz.at
GEO:48.2084854;16.3946163
X-APPLE-STRUCTURED-LOCATION;VALUE=URI;X-ADDRESS=Frauenhetz Untere Weißgerberstraße 41 Wien 1030;X-APPLE-RADIUS=500;X-TITLE=Untere Weißgerberstraße 41:geo:16.3946163,48.2084854
END:VEVENT
END:VCALENDAR