BEGIN:VCALENDAR
VERSION:2.0
PRODID:-//8. März - ECPv6.15.17.1//NONSGML v1.0//EN
CALSCALE:GREGORIAN
METHOD:PUBLISH
X-WR-CALNAME:8. März
X-ORIGINAL-URL:https://8maerz.at
X-WR-CALDESC:Veranstaltungen für 8. März
REFRESH-INTERVAL;VALUE=DURATION:PT1H
X-Robots-Tag:noindex
X-PUBLISHED-TTL:PT1H
BEGIN:VTIMEZONE
TZID:UTC
BEGIN:STANDARD
TZOFFSETFROM:+0000
TZOFFSETTO:+0000
TZNAME:UTC
DTSTART:20180101T000000
END:STANDARD
END:VTIMEZONE
BEGIN:VEVENT
DTSTART;TZID=UTC:20190211T183000
DTEND;TZID=UTC:20190211T220000
DTSTAMP:20260421T194907
CREATED:20190121T210624Z
LAST-MODIFIED:20190121T210805Z
UID:10003343-1549909800-1549922400@8maerz.at
SUMMARY:FrauenStreik-Training
DESCRIPTION:Streik­trai­ning / Streikschulung \nAm 11. Febru­ar 2019 um 18:30 Uhr gibt es in der FZ-Bar die Mög­lich­keit\, sich bei einer Betriebs­rä­tin und einer Syn­di­ka­lis­tin über Streik­rech­te zu infor­mie­ren und sich bera­ten zu las­sen und auch sich unter Streik-Kol­le­gin­nen gemein­sam zu bespre­chen und zu bestärken. \nVer­an­stal­tung für (Cis-)Frauen.
URL:https://8maerz.at/veranstaltung/frauenstreik-training/
LOCATION:FZ-Bar\, Währingerstraße 59\, Wien\, 1090
GEO:48.2232818;16.3514158
X-APPLE-STRUCTURED-LOCATION;VALUE=URI;X-ADDRESS=FZ-Bar Währingerstraße 59 Wien 1090;X-APPLE-RADIUS=500;X-TITLE=Währingerstraße 59:geo:16.3514158,48.2232818
END:VEVENT
BEGIN:VEVENT
DTSTART;TZID=UTC:20190211T190000
DTEND;TZID=UTC:20190211T230000
DTSTAMP:20260421T194907
CREATED:20190121T205929Z
LAST-MODIFIED:20190121T210724Z
UID:10003325-1549911600-1549926000@8maerz.at
SUMMARY:FrauenStreik-Vorbereitungstreffen
DESCRIPTION:Die Vor­be­rei­tungs­tref­fen für den Frau­en­streik\, orga­ni­siert von den FZ-Frau­en\, am 8. März 2019 fin­den zwei­wö­chent­lich immer mon­tags in der FZ-Bar statt. \nKon­takt via E‑Mail: frau­en­streik at riseup.net – mehr Infos sie­he Face­book-Event auf https://www.facebook.com/Frauenstreik-187329565462681/ sowie https://www.facebook.com/groups/279314589502731/ \nVer­an­stal­tung für (Cis-)Frauen.
URL:https://8maerz.at/veranstaltung/frauenstreik-vorbereitungstreffen/2019-02-11/
LOCATION:FZ-Bar\, Währingerstraße 59\, Wien\, 1090
GEO:48.2232818;16.3514158
X-APPLE-STRUCTURED-LOCATION;VALUE=URI;X-ADDRESS=FZ-Bar Währingerstraße 59 Wien 1090;X-APPLE-RADIUS=500;X-TITLE=Währingerstraße 59:geo:16.3514158,48.2232818
END:VEVENT
END:VCALENDAR