BEGIN:VCALENDAR
VERSION:2.0
PRODID:-//8. März - ECPv6.15.17.1//NONSGML v1.0//EN
CALSCALE:GREGORIAN
METHOD:PUBLISH
X-ORIGINAL-URL:https://8maerz.at
X-WR-CALDESC:Veranstaltungen für 8. März
REFRESH-INTERVAL;VALUE=DURATION:PT1H
X-Robots-Tag:noindex
X-PUBLISHED-TTL:PT1H
BEGIN:VTIMEZONE
TZID:UTC
BEGIN:STANDARD
TZOFFSETFROM:+0000
TZOFFSETTO:+0000
TZNAME:UTC
DTSTART:20180101T000000
END:STANDARD
END:VTIMEZONE
BEGIN:VEVENT
DTSTART;TZID=UTC:20190202T190000
DTEND;TZID=UTC:20190202T220000
DTSTAMP:20260421T162757
CREATED:20190122T212227Z
LAST-MODIFIED:20190122T212227Z
UID:10003434-1549134000-1549144800@8maerz.at
SUMMARY:Frauen im Transnationalen MigrantInnenstreik
DESCRIPTION:Vor­trag und Dis­kus­si­on mit Zorai­da Nieto \nVor unge­fähr 9 Jah­ren haben sich in den USA Geflüch­te­te und Migran­tIn­nen zusam­men­ge­schlos­sen\, und gegen die Migra­ti­ons­po­li­tik der Regie­rung in vie­len unter­schied­li­chen Kon­tex­ten\, wie z.B. in Restau­rants\, als Küchen­hil­fen und KöchIn­nen pro­tes­tiert und gestreikt und wuden von klei­nen gewerk­schaft­li­chen Grup­pen unterstützt! \n\nDie­se Pro­test­be­we­gung erreich­te Euro­pa\, Latein­ame­ri­ka und Afri­ka. Auch in Öster­reich wur­den 2010 erst­mal meh­re­re Dezen­tra­le Aktio­nen am 1. März von Migran­tIn­nen selbst orga­ni­siert. Im Vor­trag wird die Rol­le von Migran­tin­nen und geflüch­te­ten Frau­en in der Welt und in Öster­reich beleuch­tet und ihre Betei­li­gung im Miran­tIn­nen­streik\, ihre Orga­ni­sie­rungs­struk­tu­ren und Widerst­ans­for­men sicht­bar gemacht. \nVer­an­stal­tung für (Cis-)Frauen.
URL:https://8maerz.at/veranstaltung/frauen-im-transnationalen-migrantinnenstreik/
LOCATION:FZ-Bar\, Währingerstraße 59\, Wien\, 1090
GEO:48.2232818;16.3514158
X-APPLE-STRUCTURED-LOCATION;VALUE=URI;X-ADDRESS=FZ-Bar Währingerstraße 59 Wien 1090;X-APPLE-RADIUS=500;X-TITLE=Währingerstraße 59:geo:16.3514158,48.2232818
END:VEVENT
BEGIN:VEVENT
DTSTART;TZID=UTC:20190211T183000
DTEND;TZID=UTC:20190211T220000
DTSTAMP:20260421T162757
CREATED:20190121T210624Z
LAST-MODIFIED:20190121T210805Z
UID:10003343-1549909800-1549922400@8maerz.at
SUMMARY:FrauenStreik-Training
DESCRIPTION:Streik­trai­ning / Streikschulung \nAm 11. Febru­ar 2019 um 18:30 Uhr gibt es in der FZ-Bar die Mög­lich­keit\, sich bei einer Betriebs­rä­tin und einer Syn­di­ka­lis­tin über Streik­rech­te zu infor­mie­ren und sich bera­ten zu las­sen und auch sich unter Streik-Kol­le­gin­nen gemein­sam zu bespre­chen und zu bestärken. \nVer­an­stal­tung für (Cis-)Frauen.
URL:https://8maerz.at/veranstaltung/frauenstreik-training/
LOCATION:FZ-Bar\, Währingerstraße 59\, Wien\, 1090
GEO:48.2232818;16.3514158
X-APPLE-STRUCTURED-LOCATION;VALUE=URI;X-ADDRESS=FZ-Bar Währingerstraße 59 Wien 1090;X-APPLE-RADIUS=500;X-TITLE=Währingerstraße 59:geo:16.3514158,48.2232818
END:VEVENT
BEGIN:VEVENT
DTSTART;TZID=UTC:20190211T190000
DTEND;TZID=UTC:20190211T230000
DTSTAMP:20260421T162757
CREATED:20190121T205929Z
LAST-MODIFIED:20190121T210724Z
UID:10003325-1549911600-1549926000@8maerz.at
SUMMARY:FrauenStreik-Vorbereitungstreffen
DESCRIPTION:Die Vor­be­rei­tungs­tref­fen für den Frau­en­streik\, orga­ni­siert von den FZ-Frau­en\, am 8. März 2019 fin­den zwei­wö­chent­lich immer mon­tags in der FZ-Bar statt. \nKon­takt via E‑Mail: frau­en­streik at riseup.net – mehr Infos sie­he Face­book-Event auf https://www.facebook.com/Frauenstreik-187329565462681/ sowie https://www.facebook.com/groups/279314589502731/ \nVer­an­stal­tung für (Cis-)Frauen.
URL:https://8maerz.at/veranstaltung/frauenstreik-vorbereitungstreffen/2019-02-11/
LOCATION:FZ-Bar\, Währingerstraße 59\, Wien\, 1090
GEO:48.2232818;16.3514158
X-APPLE-STRUCTURED-LOCATION;VALUE=URI;X-ADDRESS=FZ-Bar Währingerstraße 59 Wien 1090;X-APPLE-RADIUS=500;X-TITLE=Währingerstraße 59:geo:16.3514158,48.2232818
END:VEVENT
BEGIN:VEVENT
DTSTART;TZID=UTC:20190225T190000
DTEND;TZID=UTC:20190225T230000
DTSTAMP:20260421T162757
CREATED:20190121T205929Z
LAST-MODIFIED:20190121T210724Z
UID:10003326-1551121200-1551135600@8maerz.at
SUMMARY:FrauenStreik-Vorbereitungstreffen
DESCRIPTION:Die Vor­be­rei­tungs­tref­fen für den Frau­en­streik\, orga­ni­siert von den FZ-Frau­en\, am 8. März 2019 fin­den zwei­wö­chent­lich immer mon­tags in der FZ-Bar statt. \nKon­takt via E‑Mail: frau­en­streik at riseup.net – mehr Infos sie­he Face­book-Event auf https://www.facebook.com/Frauenstreik-187329565462681/ sowie https://www.facebook.com/groups/279314589502731/ \nVer­an­stal­tung für (Cis-)Frauen.
URL:https://8maerz.at/veranstaltung/frauenstreik-vorbereitungstreffen/2019-02-25/
LOCATION:FZ-Bar\, Währingerstraße 59\, Wien\, 1090
GEO:48.2232818;16.3514158
X-APPLE-STRUCTURED-LOCATION;VALUE=URI;X-ADDRESS=FZ-Bar Währingerstraße 59 Wien 1090;X-APPLE-RADIUS=500;X-TITLE=Währingerstraße 59:geo:16.3514158,48.2232818
END:VEVENT
BEGIN:VEVENT
DTSTART;TZID=UTC:20190226T180000
DTEND;TZID=UTC:20190226T200000
DTSTAMP:20260421T162757
CREATED:20190224T210539Z
LAST-MODIFIED:20190224T210622Z
UID:10003470-1551204000-1551211200@8maerz.at
SUMMARY:Seminarraumgespräch: Frauen streikt!
DESCRIPTION:Semi­nar­raum­ge­spräch – Den­ken in Präsenz \nFrau­en streikt! Frau­en­streik ist Arbeits­nie­der­le­gung und vie­les mehr. Mit Akti­vis­tin­nen des Frau­en­streik­ko­mi­tees Wien.\nIn unse­ren Semi­nar­raum­ge­sprä­chen kann lei­den­schaft­lich und mit Muße in Prä­senz über Gegen­wär­ti­ges nach­ge­dacht werden. \nKura­tiert und mode­riert von Bir­ge Krondorfer\nOrt: Frau­en­bil­dungs­stät­te Frau­en­hetz\, Unte­re Weiß­ger­ber­stra­ße 41\, 1030 Wien\nSnacks und Geträn­ke wer­den gereicht\, Ein­tritt frei\, Spen­den willkommen.\nVer­an­stal­tung für Frauen*. \nMehr auf http://frauenhetz.jetzt
URL:https://8maerz.at/veranstaltung/seminarraumgespraech-frauen-streikt/
LOCATION:Frauenhetz\, Untere Weißgerberstraße 41\, Wien\, 1030
ORGANIZER;CN="Frauenhetz - feministische Bildung%2C Kultur und Politik":MAILTO:office@frauenhetz.at
GEO:48.2084854;16.3946163
X-APPLE-STRUCTURED-LOCATION;VALUE=URI;X-ADDRESS=Frauenhetz Untere Weißgerberstraße 41 Wien 1030;X-APPLE-RADIUS=500;X-TITLE=Untere Weißgerberstraße 41:geo:16.3946163,48.2084854
END:VEVENT
END:VCALENDAR