BEGIN:VCALENDAR
VERSION:2.0
PRODID:-//8. März - ECPv6.15.17.1//NONSGML v1.0//EN
CALSCALE:GREGORIAN
METHOD:PUBLISH
X-ORIGINAL-URL:https://8maerz.at
X-WR-CALDESC:Veranstaltungen für 8. März
REFRESH-INTERVAL;VALUE=DURATION:PT1H
X-Robots-Tag:noindex
X-PUBLISHED-TTL:PT1H
BEGIN:VTIMEZONE
TZID:Europe/Vienna
BEGIN:DAYLIGHT
TZOFFSETFROM:+0100
TZOFFSETTO:+0200
TZNAME:CEST
DTSTART:20200329T010000
END:DAYLIGHT
BEGIN:STANDARD
TZOFFSETFROM:+0200
TZOFFSETTO:+0100
TZNAME:CET
DTSTART:20201025T010000
END:STANDARD
BEGIN:DAYLIGHT
TZOFFSETFROM:+0100
TZOFFSETTO:+0200
TZNAME:CEST
DTSTART:20210328T010000
END:DAYLIGHT
BEGIN:STANDARD
TZOFFSETFROM:+0200
TZOFFSETTO:+0100
TZNAME:CET
DTSTART:20211031T010000
END:STANDARD
BEGIN:DAYLIGHT
TZOFFSETFROM:+0100
TZOFFSETTO:+0200
TZNAME:CEST
DTSTART:20220327T010000
END:DAYLIGHT
BEGIN:STANDARD
TZOFFSETFROM:+0200
TZOFFSETTO:+0100
TZNAME:CET
DTSTART:20221030T010000
END:STANDARD
BEGIN:DAYLIGHT
TZOFFSETFROM:+0100
TZOFFSETTO:+0200
TZNAME:CEST
DTSTART:20230326T010000
END:DAYLIGHT
BEGIN:STANDARD
TZOFFSETFROM:+0200
TZOFFSETTO:+0100
TZNAME:CET
DTSTART:20231029T010000
END:STANDARD
END:VTIMEZONE
BEGIN:VEVENT
DTSTART;VALUE=DATE:20211022
DTEND;VALUE=DATE:20220613
DTSTAMP:20260423T033545
CREATED:20220214T195759Z
LAST-MODIFIED:20220302T002719Z
UID:10003881-1634860800-1655078399@8maerz.at
SUMMARY:Ausstellung: Heimat großer Töchter
DESCRIPTION:Heimat großer Töchter. Zeit für neue Denkmäler\nAus­stel­lung von 22. Okto­ber 2021 bis 12. Juni 2022 \nWie haben sich Geschlech­ter­ver­hält­nis­se in der Zeit­ge­schich­te ver­än­dert? Seit März wid­met sich das Haus der Geschich­te Öster­reich die­ser Fra­ge. Oft­mals unbe­merkt haben Men­schen in der Geschich­te der Zwei­ten Repu­blik ent­schei­den­de Fort­schrit­te erreicht\, indem sie nicht mit dem Erwart­ba­ren zufrie­den waren\, und Aus­gren­zung bekämpf­ten. Die Aus­stel­lung „Hei­mat gro­ßer Töch­ter“ im Foy­er des hdgö setzt die­sem Enga­ge­ment Denk­mä­ler. Zehn kaum bekann­te Bei­spie­le zei­gen\, wie es mög­lich ist\, Hand­lungs­spiel­räu­me zu erwei­tern und Vor­stel­lun­gen von Geschlecht zu hinterfragen. \nDie Geschich­ten erzäh­len von Stra­te­gien\, die Ver­än­de­rung bewirkt haben: Ein Anruf beim Bun­de­kanz­ler ebne­te in den 70er Jah­ren den Weg dafür\, dass ver­hei­ra­te­te Frau­en* selbst über Erwerbs­ar­beit ent­schei­den kön­nen. Fünf­zig Jah­re spä­ter kämp­fen 24-h-Betreuer*innen dar­um\, dass ihre Arbeit in pri­va­ten Räu­men auch öffent­lich sicht­bar wird. 1981 über­kleb­ten Aktivist*innen die sexis­ti­sche Wer­be­kam­pa­gne einer Unter­wä­sche­fir­ma. Der Kon­flikt erzeug­te gro­ße media­le Auf­merk­sam­keit und wur­de als „Wie­ner Wäsche­krieg“ berühmt. \nHeu­te die­nen Stra­ßen­krei­den dazu\, ähn­li­che Anlie­gen zu arti­ku­lie­ren: In meh­re­ren öster­rei­chi­schen Städ­ten nutzt sie die Initia­ti­ve „Cat­call­sof“\, um sexua­li­sier­te Über­grif­fe für die Öffent­lich­keit greif­bar zu machen und sie als gesell­schaft­li­ches Pro­blem auf­zu­zei­gen. Damit sie Sicht­bar­keit für ihren Kampf gegen Dis­kri­mi­nie­rung errei­chen\, muss­ten inter­ge­schlecht­li­che Men­schen bis vor den Ver­fas­sungs­ge­richts­hof gehen: Seit 2018 zei­gen alle behörd­li­chen For­mu­la­re\, dass Zwei­ge­schlecht­lich­keit nicht genügt\, um Iden­ti­tät und Kör­per zu beschreiben. \nDie Aus­stel­lung ist ab 22. Okto­ber 2021 im Foy­er des Hau­ses der Geschich­te Öster­reich zu sehen. \nÖff­nungs­zei­ten:\nDienstag–Sonntag: 10.00–18.00 Uhr\nDon­ners­tag: 10.00–21.00 Uhr \nIm Muse­um gilt FFP2-Maskenpflicht.
URL:https://8maerz.at/veranstaltung/ausstellung-heimat-grosser-toechter/
LOCATION:hdgö – Haus der Geschichte Österreich\, Neue Burg\, Heldenplatz\, Wien\, Wien\, Wien\, 1015\, Österreich
END:VEVENT
BEGIN:VEVENT
DTSTART;VALUE=DATE:20220308
DTEND;VALUE=DATE:20220320
DTSTAMP:20260423T033545
CREATED:20220212T183551Z
LAST-MODIFIED:20220227T213344Z
UID:10003869-1646697600-1647734399@8maerz.at
SUMMARY:unsichtbar - Symposium zum Thema Sexualisierte Gewalt
DESCRIPTION:unsichtbar – ein aktionskünstlerisches\, interdisziplinäres Symposium zum Thema sexualisierte Gewalt\nWas: Inter­me­dia­les\, inter­dis­zi­pli­nä­res Sym­po­si­um zu „Sexua­li­sier­ter Gewalt“\nWer: unsicht­bar Initia­ti­ve by Livia Klein & Hele­na Gabriel-Oiwoh\nWann: von 08.03. bis 19.03.2022\nWo: Never at Home\, Schel­ling­gas­se 13\, 1010 Wien\, 2. Stock\nBar­rie­re­frei­heit: Lift vor­han­den\, gro­ßes WC mit Hand­grif­fen im Restau­rant gegenüber \nPro­gramm:\n08.03.2022\, 19:00 – 22:00 Uhr: UNSICHTBAR Soft Opening\n11.03.2022\, 19:00 – 22:00 Uhr: Podi­ums­dis­kus­si­on „Sexua­li­sier­te Gewalt SICHTBAR machen“ mit Hele­na Gabri­el-Oiwoh (unsicht­bar)\, Cla­ra Boh­mann (clara.comments)\, Glo­ria Bozyi­git (UN Women Aus­tria)\, Livia Klein (unsicht­bar) & Eva Teja Tsch­i­de­rer (Embo­di­ment Coach)\n12.03.2022\, 09:30 ‑10:30 Uhr: Work­shop 1 „Sexua­li­sier­te Gewalt gegen Frau­en* & Femi­zi­de“ mit Fat­ma Uysal (UNSA Vienna)\n12.03.2022\, 11:00 – 12:00 Uhr: Work­shop 2 „Akti­vis­mus gegen sexua­li­sier­te Gewalt“ mit Cla­ra Boh­man (clara.comments) & Glo­ria Bozyi­git (UN Women Austria)\n12.3.2022\, 12:30 – 13:30 Uhr: Work­shop 3 „Trau­ma ganz­heit­lich betrach­ten und lösen“ mit Ali­na Leit­in­ger (CHANGE NOW)\n12.03.2022\, 14:30 – 16:00 Uhr: Work­shop 4 „Sexua­li­sier­te Gewalt online & was frau* dage­gen tun kann“ mit Alex­an­dra Won­ka (saferinternet.at)\n12.03.2022\, 19:00 – 20:00 Uhr: Work­shop 5 „Vul­va Visi­bi­li­ty – Vul­va Abdruck Ses­si­on“ mit Glo­ria Dim­mel (Künst­le­rin) & Pau­la Mar­scha­lek (Kul­tur­ma­na­ge­rin)\n12.03.2022\, 20:00 – 21:00 Uhr: Work­shop 5 „Vul­va Visi­bi­li­ty – Vul­va Abdruck Ses­si­on“ mit Glo­ria Dim­mel (Künst­le­rin) & Pau­la Mar­scha­lek (Kul­tur­ma­na­ge­rin)\n13.03.2022\, 09:00 – 10:30 Uhr: Work­shop 6 „Sexua­li­sier­te Gewalt – Far­ben­spiel des Hand­lungs­spek­trums“ mit Manue­la Müll­ner (Lan­des­kri­mi­nal­amt Wien)\n13.03.2022\, 11:00 – 12:30 Uhr: Work­shop 7 „Vul­va\, weib­li­che* Sexua­li­tät und sexua­li­sier­te Gewalt inkl. Vul­va-Bas­tel­tisch“ mit Viva la Vulva\n13.03.2022\, 13:00 – 14:00 Uhr: Work­shop 8 „Sexua­li­sier­te Gewalt gegen Frau­en* mit Behin­de­rung“ mit Lisa Udl (Nin­lil) \nBei allen Ver­an­stal­tun­gen gilt die 2G-Regel (geimpft oder gene­sen) und FFP2-Maskenpflicht. \nAnmel­dung hier.
URL:https://8maerz.at/veranstaltung/unsichtbar-symposium-zum-thema-sexualisierte-gewalt/
LOCATION:Never at Home\, Schellinggasse 13\, Wien\, Wien\, 1010\, Österreich
END:VEVENT
BEGIN:VEVENT
DTSTART;TZID=Europe/Vienna:20220315T190000
DTEND;TZID=Europe/Vienna:20220315T210000
DTSTAMP:20260423T033545
CREATED:20220301T221055Z
LAST-MODIFIED:20220301T221055Z
UID:10003913-1647370800-1647378000@8maerz.at
SUMMARY:Webinar: Die Istanbul-Konvention im Familienrecht zwischen Theorie und Praxis
DESCRIPTION:Diens­tag\, 15. März 2022 | 19 – 21 Uhr\nKos­ten­lo­ses Web­i­nar mit der Rechts­an­wäl­tin Mag.a Son­ja Aziz \nUm am Web­i­nar teil­zu­neh­men\, bit­te um Anmel­dung hier.\nDer Zoom-Link wird im anschlie­ßen­den Bestä­ti­gungs­mail zugeschickt. \nWor­um geht es?\nÖster­reich nimmt im Rah­men sei­ner Gewalt­schutz­ge­set­ze eine inter­na­tio­na­le Vor­rei­ter­rol­le ein\, den­noch gibt es nach wie vor Lücken und Recht­schutz­de­fi­zi­te in der Umset­zung. Straf­ver­fah­ren wegen häus­li­cher Gewalt wer­den vor­schnell von der Staats­an­walt­schaft ein­ge­stellt\, die Ver­ur­tei­lungs­quo­te ist nach wie vor nied­rig. In Pfleg­schafts­ver­fah­ren bleibt das Erle­ben bzw. Mit­er­le­ben von Gewalt weit­ge­hend unbe­rück­sich­tigt. Dabei ist wis­sen­schaft­lich belegt\, dass auch mit­er­leb­te Gewalt Kin­der trau­ma­ti­sie­ren kann. Gemein­sa­me Obsor­ge gilt in der der­zei­ti­gen Recht­spre­chung der Gerich­te in allen Instan­zen als Regel­fall und wird sei­tens der Gerich­te trotz Gewalt und im Wider­spruch zu den bestehen­den gesetz­li­chen Bestim­mun­gen\, wie § 138 ABGB betref­fend die Kri­te­ri­en des Kin­des­wohls\, angeordnet. \nMit der Rati­fi­zie­rung der Istan­bul Kon­ven­ti­on hat sich Öster­reich zur umfas­sen­den Bekämp­fung aller For­men von Gewalt an Frau­en sowie zur Umset­zung geeig­ne­ter Maß­nah­men ver­pflich­tet. Die Kon­ven­ti­on umfasst alle For­men von Gewalt gegen Frau­en. Auch psy­chi­sche Gewalt ist davon umfasst und muss bei Ent­schei­dun­gen über das Kon­takt­recht und die Obsor­ge berück­sich­tigt wer­den. Die­se dür­fen die Rech­te und die Sicher­heit des Opfers oder der Kin­der nicht gefährden. \nGewalt­schutz von Frau­en und Kin­dern muss nach­drück­lich und ver­läss­lich im Fami­li­en­recht ver­an­kert und von den Fami­li­en­ge­rich­ten berück­sich­tigt wer­den. Der Gewalt­schutz darf durch das Kon­takt­recht des Vaters nicht aus­ge­he­belt wer­den. Wel­che Rech­te die Istan­bul Kon­ven­ti­on kon­kret vor­sieht und wel­che Maß­nah­men es noch umzu­set­zen gilt\, erfah­ren Sie in die­sem Webinar. \nAnschlie­ßend Diskussionsmöglichkeit.
URL:https://8maerz.at/veranstaltung/webinar-die-istanbul-konvention-im-familienrecht-zwischen-theorie-und-praxis/
LOCATION:Online\, Wien\, Österreich
END:VEVENT
END:VCALENDAR