BEGIN:VCALENDAR
VERSION:2.0
PRODID:-//8. März - ECPv6.15.20//NONSGML v1.0//EN
CALSCALE:GREGORIAN
METHOD:PUBLISH
X-WR-CALNAME:8. März
X-ORIGINAL-URL:https://8maerz.at
X-WR-CALDESC:Veranstaltungen für 8. März
REFRESH-INTERVAL;VALUE=DURATION:PT1H
X-Robots-Tag:noindex
X-PUBLISHED-TTL:PT1H
BEGIN:VTIMEZONE
TZID:Europe/Vienna
BEGIN:DAYLIGHT
TZOFFSETFROM:+0100
TZOFFSETTO:+0200
TZNAME:CEST
DTSTART:20200329T010000
END:DAYLIGHT
BEGIN:STANDARD
TZOFFSETFROM:+0200
TZOFFSETTO:+0100
TZNAME:CET
DTSTART:20201025T010000
END:STANDARD
BEGIN:DAYLIGHT
TZOFFSETFROM:+0100
TZOFFSETTO:+0200
TZNAME:CEST
DTSTART:20210328T010000
END:DAYLIGHT
BEGIN:STANDARD
TZOFFSETFROM:+0200
TZOFFSETTO:+0100
TZNAME:CET
DTSTART:20211031T010000
END:STANDARD
BEGIN:DAYLIGHT
TZOFFSETFROM:+0100
TZOFFSETTO:+0200
TZNAME:CEST
DTSTART:20220327T010000
END:DAYLIGHT
BEGIN:STANDARD
TZOFFSETFROM:+0200
TZOFFSETTO:+0100
TZNAME:CET
DTSTART:20221030T010000
END:STANDARD
END:VTIMEZONE
BEGIN:VEVENT
DTSTART;TZID=Europe/Vienna:20210303T190000
DTEND;TZID=Europe/Vienna:20210303T210000
DTSTAMP:20260425T141853
CREATED:20210301T204606Z
LAST-MODIFIED:20210301T210808Z
UID:10003818-1614798000-1614805200@8maerz.at
SUMMARY:FRAUEN.LEBEN: Die Erste… im Gespräch mit Bundeskanzlerin a.D. Brigitte Bierlein
DESCRIPTION:Mode­ra­ti­on: Maria Rauch-Kallat \nSie war die ers­te Vize­prä­si­den­tin des Ver­fas­sungs­ge­richts­ho­fes\, die ers­te Prä­si­den­tin des Vfgh und die ers­te Bun­des­kanz­le­rin Österreichs. \nGenau 219 Tage – vom 3. Juni 2019 bis 7. Jän­ner 2020 – stand Bri­git­te Bier­lein als ers­te Frau an der Spit­ze einer öster­rei­chi­schen Bun­des­re­gie­rung. Sie form­te\, gemein­sam mit Bun­des­prä­si­dent Alex­an­der Van der Bel­len ein Über­gangs­ka­bi­nett\, das nach den poli­ti­schen Tur­bu­len­zen rund um das Ibi­za-Video die Repu­blik wie­der in ruhi­ge­re Gewäs­ser steu­ern soll­te. Und sie erfüll­te die­se Auf­ga­be mit der ihr eige­nen Ruhe und Konsequenz. \nAls sie vom Bun­des­prä­si­den­ten gebe­ten wur­de\, die­se Auf­ga­be zu über­neh­men\, war ihre ers­te Ant­wort „Das kann ich nicht“. „Typisch weib­lich!“ hat der Bun­des­prä­si­dent gekon­tert. Doch nach dem Gespräch und der Klä­rung ihrer Ver­tre­tung im Ver­fas­sungs­ge­richts­hof sowie einer Nacht Bedenk­zeit hat sie dann doch zuge­sagt. Und es war ihr wich­tig\, dass die Minis­ter­äm­ter ihres Kabi­netts aus­ge­wo­gen mit Frau­en und Män­nern besetzt wurden. \nAuch wenn die­se „Beam­ten­re­gie­rung“ die Repu­blik „nur“ gut ver­wal­ten und nicht poli­tisch gestal­ten soll­te\, war es nicht immer leicht\, für die not­wen­di­gen Ent­schei­dun­gen auch die ent­spre­chen­de Ein­stim­mig­keit im Kabi­nett und die Mehr­heit im Par­la­ment zu fin­den. Da gehör­te poli­ti­sches und diplo­ma­ti­sches Geschick eben­so dazu wie bei den Ver­hand­lun­gen auf dem inter­na­tio­na­len Parkett. \nDr.in Bri­git­te Bierlein\ngeb. 1949 in Wien\, Jus­stu­di­um an der Uni­ver­si­tät Wien\, 1971 Promotion;\nzunächst Rich­te­rin\, dann Staats­an­wäl­tin\, 1990–2002 Gene­ral­an­wäl­tin in der Gene­ral­pro­ku­ra­tur beim Obers­ten Gerichtshof.\n2003 Vize­prä­si­den­tin\, 2008–2019 Prä­si­den­tin des Verfassungsgerichtshofs.\n3. Juni 2019 bis 7. Jän­ner 2020 Bun­des­kanz­le­rin der Repu­blik Österreich. \nAnmel­dung mög­lich bis 03.03.2021\, 12:00 Uhr hier: Link\nDen Zugangs­link erhal­ten Sie bis spä­tes­tens Anmel­de­schluss per Mail.
URL:https://8maerz.at/veranstaltung/frauen-leben-die-erste-im-gespraech-mit-bundeskanzlerin-ad-brigitte-bierlein/
LOCATION:Online\, Wien\, Österreich
END:VEVENT
BEGIN:VEVENT
DTSTART;TZID=Europe/Vienna:20210304T190000
DTEND;TZID=Europe/Vienna:20210304T203000
DTSTAMP:20260425T141854
CREATED:20210303T213058Z
LAST-MODIFIED:20210303T213637Z
UID:10003829-1614884400-1614889800@8maerz.at
SUMMARY:Lesung von Gertraud Klemm: Wann lehnt ihr euch endlich auf?
DESCRIPTION:Don­ners­tag\, 04. März 2021\, 19:00 \nWann lehnt ihr euch endlich auf?\nLesung von Ger­traud Klemm zum Inter­na­tio­na­len Frauentag \nSo vie­le Uto­pien gibt es\, die uns unter­hal­ten und zum Nach­den­ken anre­gen sol­len. (…) Nie­mand hat sich jemals aus­ge­dacht\, dass Frau­en sich auf­leh­nen und herr­schen könn­ten. Ist das so undenk­bar\, und wenn ja: warum? \nJetzt hat­ten wir schon drei Wel­len des Femi­nis­mus\, aber immer noch tei­len sich Män­ner Macht und Geld unter­ein­an­der auf. Kei­ne der Ver­än­de­run­gen ist je tief genug in das Sys­tem vor­ge­drun­gen\, um nach­hal­tig zu wir­ken: ins Pri­va­te. Genau dort setzt Ger­traud Klemms sechs­ter (noch nicht fer­tig­ge­stell­ter) Roman an. Ihre Prot­ago­nis­tin­nen pro­ben den Auf­stand gegen das Patriarchat. \nDie Autorin liest Aus­zü­ge aus Ihrem Manu­skript. Mit Diskussion. \nOrt: Online via Zoom\nEine Ver­an­stal­tung der Soli­dar­werk­statt in Koope­ra­ti­on mit der Frau­en­hetz und anderen.\nDie­se Ver­an­stal­tung ist offen für alle Geschlechter. \nAnmel­dung bis 3. März an office@solidarwerkstatt.at
URL:https://8maerz.at/veranstaltung/lesung-von-gertraud-klemm/
LOCATION:Online\, Wien\, Österreich
END:VEVENT
BEGIN:VEVENT
DTSTART;TZID=Europe/Vienna:20210305T100000
DTEND;TZID=Europe/Vienna:20210305T140000
DTSTAMP:20260425T141854
CREATED:20210209T210714Z
LAST-MODIFIED:20210209T211207Z
UID:10003561-1614938400-1614952800@8maerz.at
SUMMARY:Mehr Frauen auf Wikipedia - Edit-a-thon der WU zum Internationalen Frauentag 2021
DESCRIPTION:Schrei­ben Sie Bei­trä­ge über Frau­en für Wikipedia! \nWo sind die Frau­en auf Wiki­pe­dia? Nur rund 16% der Bio­gra­fien auf der deutsch­spra­chi­gen Wiki­pe­dia han­deln von Frau­en. Die WU möch­te das ändern und ver­an­stal­tet in Koope­ra­ti­on mit Wiki­me­dia Öster­reich erst­mals einen Online-Edit-a-thon. Ziel ist\, die Prä­senz von Frau­en\, ins­be­son­de­re aus der Wirt­schaft\, auf der deutsch­spra­chi­gen Wiki­pe­dia zu erhöhen. \nEin Online-Edit-a-thon ist eine digi­ta­le Schreib­werk­stät­te\, in der gemein­sam an Wiki­pe­dia-Arti­kel gear­bei­tet wird. Nach einer Ein­füh­rung in die Welt von Wiki­pe­dia wer­den in der Grup­pe gemein­sam Bei­trä­ge geschrie­ben. Nach dem Work­shop wer­den selb­stän­dig Arti­kel für Wiki­pe­dia ver­fasst\, zur Unter­stüt­zung gibt es Online-Sprechstunden. \nMöch­ten Sie wis­sen\, wie die wich­tigs­te Infor­ma­ti­ons­sei­te der Welt funktioniert? \nMöch­ten Sie erfah­ren\, was gute Recher­che aus­macht und wie sach­li­che\, neu­tra­le und fak­ten­ba­sier­te Arti­kel ver­fasst werden? \nMöch­ten Sie selbst ger­ne Bei­trä­ge für Wiki­pe­dia schrei­ben und die Sicht­bar­keit von Frau­en auf Wiki­pe­dia erhöhen? \nDann sind Sie herz­lich zum die­sem Edit-a-thon ein­ge­la­den. Mit­ma­chen kön­nen alle\, die Inter­es­se an der Mit­ar­beit haben\, WU-Ange­hö­ri­ge und Per­so­nen ohne WU-Bezug\, unab­hän­gig vom Geschlecht\, Wiki-Neu­lin­ge und jene\, die bereits Erfah­rung haben. Unter den Mit­schrei­ben­den wer­den 10 Gut­schei­ne im Wert von jeweils 50 EUR aus dem WU-Shop vergeben. \nAblauf:\nOnline-Schreib­work­shop: Frei­tag\, 5.3.\, 10 – 14 Uhr oder Diens­tag\, 9.3.\, 14 – 18 Uhr\nSchrei­ben eige­ner Wiki­pe­dia-Arti­kel: bis Sonn­tag\, 13.3.\nAbschluss­ver­an­stal­tung zur Prä­sen­ta­ti­on der Ergeb­nis­se: Diens­tag\, 15.3.\, 9 – 10 Uhr \nAuf­grund der Pan­de­mie-Situa­ti­on fin­den die Work­shops digi­tal statt. Es gibt 2 Ter­min­an­ge­bo­te\, bit­te mel­den Sie sich zu einem der bei­den Ter­min an. Die ver­füg­ba­ren Plät­ze für die Teil­nah­me sind begrenzt. Die Anmel­de­frist endet am 26.2. um 23:59 Uhr. Fra­gen rich­ten Sie bit­te an diversity-policy@wu.ac.at
URL:https://8maerz.at/veranstaltung/mehr-frauen-auf-wikipedia-edit-a-thon-der-wu-zum-internationalen-frauentag-2021/
LOCATION:Online\, Wien\, Österreich
END:VEVENT
BEGIN:VEVENT
DTSTART;TZID=Europe/Vienna:20210305T170000
DTEND;TZID=Europe/Vienna:20210305T201500
DTSTAMP:20260425T141854
CREATED:20210303T220322Z
LAST-MODIFIED:20210303T220435Z
UID:10003832-1614963600-1614975300@8maerz.at
SUMMARY:Online-Kinoabend: "We want Sex!"
DESCRIPTION:Die Grü­ne Frau­en Wien und ihre Spre­che­rin Vik­to­ria Spiel­mann laden herz­lich zum Online Kino­abend zum amü­san­ten Klas­sen- und Geschlech­ter­kampf mit den Waf­fen der Frau­en „We Want Sex!“ ein: 1968 begeh­ren die weni­gen Frau­en\, die im eng­li­schen Ford-Werk in Dagen­ham arbei­ten\, plötz­lich auf und for­dern erst­mals in der Geschich­te glei­chen Lohn wie ihre männ­li­chen Kol­le­gen – sehr befremd­lich für die Männerwelt. \nIm Anschluss folgt eine Dis­kus­si­on mit der Öko­no­min Katha­ri­na Mader von der WU Wien\, der grü­nen nicht-amts­füh­ren­den Stadt­rä­tin Judith Püh­rin­ger und der Spre­che­rin der Grü­nen Frau­en Wien Vik­to­ria Spiel­mann über die aktu­el­len Her­aus­for­de­run­gen für Frau­en in der Arbeits­welt auf­grund der Covid-19 Pandemie. \nBeginn des Films: 17.00 Uhr\, Film­dau­er: 113 Min.\nDis­kus­si­on via Zoom von 19.15 – 20.15 Uhr \nDie Links zum Film und zur Dis­kus­si­on wer­den recht­zei­tig zugesandt.\nBit­te unbe­dingt bis 5.3.\, 13 Uhr anmel­den bei gruene.frauen.wien@gruene.at
URL:https://8maerz.at/veranstaltung/online-kinoabend-we-want-sex/
LOCATION:Online\, Wien\, Österreich
END:VEVENT
END:VCALENDAR