BEGIN:VCALENDAR
VERSION:2.0
PRODID:-//8. März - ECPv6.15.20//NONSGML v1.0//EN
CALSCALE:GREGORIAN
METHOD:PUBLISH
X-ORIGINAL-URL:https://8maerz.at
X-WR-CALDESC:Veranstaltungen für 8. März
REFRESH-INTERVAL;VALUE=DURATION:PT1H
X-Robots-Tag:noindex
X-PUBLISHED-TTL:PT1H
BEGIN:VTIMEZONE
TZID:Europe/Vienna
BEGIN:DAYLIGHT
TZOFFSETFROM:+0100
TZOFFSETTO:+0200
TZNAME:CEST
DTSTART:20190331T010000
END:DAYLIGHT
BEGIN:STANDARD
TZOFFSETFROM:+0200
TZOFFSETTO:+0100
TZNAME:CET
DTSTART:20191027T010000
END:STANDARD
BEGIN:DAYLIGHT
TZOFFSETFROM:+0100
TZOFFSETTO:+0200
TZNAME:CEST
DTSTART:20200329T010000
END:DAYLIGHT
BEGIN:STANDARD
TZOFFSETFROM:+0200
TZOFFSETTO:+0100
TZNAME:CET
DTSTART:20201025T010000
END:STANDARD
BEGIN:DAYLIGHT
TZOFFSETFROM:+0100
TZOFFSETTO:+0200
TZNAME:CEST
DTSTART:20210328T010000
END:DAYLIGHT
BEGIN:STANDARD
TZOFFSETFROM:+0200
TZOFFSETTO:+0100
TZNAME:CET
DTSTART:20211031T010000
END:STANDARD
END:VTIMEZONE
BEGIN:VEVENT
DTSTART;TZID=Europe/Vienna:20200212T193000
DTEND;TZID=Europe/Vienna:20200212T220000
DTSTAMP:20260426T034640
CREATED:20200110T203916Z
LAST-MODIFIED:20200110T203916Z
UID:10003446-1581535800-1581544800@8maerz.at
SUMMARY:Galapremiere "Die Dohnal" zum Kinostart
DESCRIPTION:Galapremiere „Die Dohnal“ zum Kinostart\nDie Geschich­te und die Geschich­ten der Frau­en wur­den über Jahr­hun­der­te unter­drückt\, nicht erzählt\, vergessen… \n„DIE DOHNAL“ setzt Johan­na Dohnal\, einer der ers­ten Femi­nis­tin­nen in einer euro­päi­schen Regie­rung ein Denk­mal und schafft damit eine Iden­ti­fi­ka­ti­ons­fi­gur für heu­te und nach­kom­men­de Gene­ra­tio­nen. Wir fin­den uns in ihr wie­der\, in ihren Kämp­fen\, ihren Sie­gen\, ihrem Scheitern.\nEin Film gegen das Ver­ges­sen und für eine gleich­be­rech­tig­te Zukunft. \nIn Anwe­sen­heit von Regis­seu­rin Sabi­ne Derflinger. \nMehr Infos und Tickets sie­he hier.
URL:https://8maerz.at/veranstaltung/galapremiere-die-dohnal-zum-kinostart/
LOCATION:Gartenbaukino\, Parkring 12\, Wien\, Wien\, 1010\, Österreich
END:VEVENT
BEGIN:VEVENT
DTSTART;TZID=Europe/Vienna:20200213T200000
DTEND;TZID=Europe/Vienna:20200213T230000
DTSTAMP:20260426T034640
CREATED:20200110T211213Z
LAST-MODIFIED:20200110T211357Z
UID:10003447-1581624000-1581634800@8maerz.at
SUMMARY:Sisters Lumière x Widerstandskino: Die Dohnal
DESCRIPTION:Sisters Lumière x Widerstandskino: Die Dohnal\nSISTERS LUMIÈRE & WIDERSTANDSKINO prä­sen­tie­ren: DIE DOHNAL – Frauenministerin/Feministin/Visionärin \nEinen Tag vor dem offi­zi­el­len Start gibt es die Gele­gen­heit den groß­ar­ti­gen Film Die Dohnal – Ein Doku­men­tar­film von Sabi­ne Der­flin­ger im Stadt­ki­no im Künst­ler­haus zu sehen – in einer gemein­sa­men SISTERS LUMIÈRE & WIDERSTANDSKINO Ver­an­stal­tung! In Anwe­sen­heit von Sabi­ne Der­flin­ger – im Anschluss an den Film Gespräch im Saal! \nDon­ners­tag\, 13. Febru­ar um 20:00\nKar­ten reser­vie­ren unter: stadtkino@stadtkinowien.at und ONLINE TICKETS: https://ntry.at/shop/stadtkino \nDIE DOHNAL | Ein Film von Sabi­ne Def­lin­ger | A 2019\, 104 min | TRAILER: https://vimeo.com/366666368 \nEine Ver­an­stal­tung von Stadt­ki­no mit Soro­ri­ty und Widerstandskino.
URL:https://8maerz.at/veranstaltung/sisters-lumiere-x-widerstandskino-die-dohnal/
LOCATION:Stadtkino\, Akademiestraße 13\, Wien\, 1010
ORGANIZER;CN="Sorority":MAILTO:solidarity@sorority.at
GEO:48.2007294;16.3716369
X-APPLE-STRUCTURED-LOCATION;VALUE=URI;X-ADDRESS=Stadtkino Akademiestraße 13 Wien 1010;X-APPLE-RADIUS=500;X-TITLE=Akademiestraße 13:geo:16.3716369,48.2007294
END:VEVENT
BEGIN:VEVENT
DTSTART;TZID=Europe/Vienna:20200214T100000
DTEND;TZID=Europe/Vienna:20200214T120000
DTSTAMP:20260426T034640
CREATED:20200209T160412Z
LAST-MODIFIED:20200209T160942Z
UID:10003675-1581674400-1581681600@8maerz.at
SUMMARY:Straßenaktion: „Was Johanna sagt“
DESCRIPTION:Straßenaktion der SPÖ-Frauen: „Was Johanna sagt“\n  \n14.2.2020\, 10–12 Uhr\, Maria­hil­fer­stra­ße 1/Rahlstiege \nUnter dem Mot­to „Was Johan­na sagt“ laden die SPÖ-Frau­en anläss­lich des Geburts­ta­ges von Johan­na Dohnal zur Stra­ßen­ak­ti­on mit u.a. SPÖ-Frau­en­vor­sit­zen­der Gabrie­le Hei­nisch-Hosek\, SPÖ Wien-Frau­en­vor­sit­zen­der Mari­na Han­ke\, SPÖ-Bun­des­frau­en­ge­schäfts­füh­re­rin Andrea Brun­ner und der Wie­ner SPÖ-Frau­en­se­kre­tä­rin Nico­le Berger-Krotsch. \n 
URL:https://8maerz.at/veranstaltung/strassenaktion-was-johanna-sagt/
LOCATION:Mariahiilferstraße\, Mariahilferstraße\, Wien\, Wien\, 1060\, Österreich
END:VEVENT
BEGIN:VEVENT
DTSTART;TZID=Europe/Vienna:20200214T201500
DTEND;TZID=Europe/Vienna:20200214T231500
DTSTAMP:20260426T034640
CREATED:20200110T212153Z
LAST-MODIFIED:20200110T212258Z
UID:10003448-1581711300-1581722100@8maerz.at
SUMMARY:Die Dohnal - Kinostart Premiere im Filmcasino
DESCRIPTION:Die Dohnal – Kinostart Premiere im Filmcasino | Film + Podium\nDIE DOHNAL setzt Johan­na Dohnal\, der ers­ten Femi­nis­tin in einer euro­päi­schen Regie­rung\, ein Denk­mal und schafft damit eine Iden­ti­fi­ka­ti­ons­fi­gur für heu­te und nach­kom­men­de Gene­ra­tio­nen. Ein Film gegen das Ver­ges­sen und für eine gleich­be­rech­tig­te Zukunft. \nKINOSTART PREMIERE\n14.2. um 20:15 Uhr – Im Anschluss Podiumsdiskussion\n15.2. um 20:15 Uhr\n16.2. um 20:15 Uhr\n(wei­te­re Ter­mi­ne folgen) \nTer­mi­ne und Tickets: https://www.filmcasino.at/film/die-dohnal/ \nFilm­ca­si­no | Mar­ga­re­ten­str. 78 | 1050 Wien | www.filmcasino.at \n 
URL:https://8maerz.at/veranstaltung/die-dohnal-kinostart-premiere-im-filmcasino/2020-02-14/
LOCATION:Filmcasino\, Margaretenstraße 78\, Wien\, Wien\, 1050\, Österreich
END:VEVENT
BEGIN:VEVENT
DTSTART;TZID=Europe/Vienna:20200215T201500
DTEND;TZID=Europe/Vienna:20200215T231500
DTSTAMP:20260426T034640
CREATED:20200110T212153Z
LAST-MODIFIED:20200110T212258Z
UID:10003449-1581797700-1581808500@8maerz.at
SUMMARY:Die Dohnal - Kinostart Premiere im Filmcasino
DESCRIPTION:Die Dohnal – Kinostart Premiere im Filmcasino | Film + Podium\nDIE DOHNAL setzt Johan­na Dohnal\, der ers­ten Femi­nis­tin in einer euro­päi­schen Regie­rung\, ein Denk­mal und schafft damit eine Iden­ti­fi­ka­ti­ons­fi­gur für heu­te und nach­kom­men­de Gene­ra­tio­nen. Ein Film gegen das Ver­ges­sen und für eine gleich­be­rech­tig­te Zukunft. \nKINOSTART PREMIERE\n14.2. um 20:15 Uhr – Im Anschluss Podiumsdiskussion\n15.2. um 20:15 Uhr\n16.2. um 20:15 Uhr\n(wei­te­re Ter­mi­ne folgen) \nTer­mi­ne und Tickets: https://www.filmcasino.at/film/die-dohnal/ \nFilm­ca­si­no | Mar­ga­re­ten­str. 78 | 1050 Wien | www.filmcasino.at \n 
URL:https://8maerz.at/veranstaltung/die-dohnal-kinostart-premiere-im-filmcasino/2020-02-15/
LOCATION:Filmcasino\, Margaretenstraße 78\, Wien\, Wien\, 1050\, Österreich
END:VEVENT
BEGIN:VEVENT
DTSTART;TZID=Europe/Vienna:20200216T201500
DTEND;TZID=Europe/Vienna:20200216T231500
DTSTAMP:20260426T034640
CREATED:20200110T212153Z
LAST-MODIFIED:20200110T212258Z
UID:10003450-1581884100-1581894900@8maerz.at
SUMMARY:Die Dohnal - Kinostart Premiere im Filmcasino
DESCRIPTION:Die Dohnal – Kinostart Premiere im Filmcasino | Film + Podium\nDIE DOHNAL setzt Johan­na Dohnal\, der ers­ten Femi­nis­tin in einer euro­päi­schen Regie­rung\, ein Denk­mal und schafft damit eine Iden­ti­fi­ka­ti­ons­fi­gur für heu­te und nach­kom­men­de Gene­ra­tio­nen. Ein Film gegen das Ver­ges­sen und für eine gleich­be­rech­tig­te Zukunft. \nKINOSTART PREMIERE\n14.2. um 20:15 Uhr – Im Anschluss Podiumsdiskussion\n15.2. um 20:15 Uhr\n16.2. um 20:15 Uhr\n(wei­te­re Ter­mi­ne folgen) \nTer­mi­ne und Tickets: https://www.filmcasino.at/film/die-dohnal/ \nFilm­ca­si­no | Mar­ga­re­ten­str. 78 | 1050 Wien | www.filmcasino.at \n 
URL:https://8maerz.at/veranstaltung/die-dohnal-kinostart-premiere-im-filmcasino/2020-02-16/
LOCATION:Filmcasino\, Margaretenstraße 78\, Wien\, Wien\, 1050\, Österreich
END:VEVENT
BEGIN:VEVENT
DTSTART;TZID=Europe/Vienna:20200220T193000
DTEND;TZID=Europe/Vienna:20200220T220000
DTSTAMP:20260426T034640
CREATED:20200208T235638Z
LAST-MODIFIED:20200211T195458Z
UID:10003652-1582227000-1582236000@8maerz.at
SUMMARY:"Die Dohnal" - Film und Gespräch
DESCRIPTION:„Die Dohnal“ – Film & Gespräch\nDIE DOHNAL von Sabi­ne Der­flin­ger – Vor­stel­lung in Anwe­sen­heit der Regisseurin. \nIm Anschluss an den Film wird es ein Gespräch mit Sabi­ne Der­flin­ger\, Bea­tri­ce Frasl (femi­nis­ti­sche Pod­cas­te­rin)\, Mari­na Han­ke (SPÖ)\, Lena Jäger (Frauen*Volksbegehren) und Yas­mo (ange­fragt) geben.\nMode­riert von Meli­sa Erk­urt (Jour­na­lis­tin). \n20.02. / 19:30 Uhr\nVotiv Kino \nTickets gibt es hier:\nhttps://www.votivkino.at/film/die-dohnal/ \nZum Film:\nDIE DOHNAL erzählt vom Auf­stieg und Fall einer der ers­ten Femi­nis­tin­nen in einer euro­päi­schen Regie­rung\, die aus­ge­rech­net in einem kon­ser­va­ti­ven Land wie Öster­reich in den 1970er Jah­ren an die Macht kommt. Dohnals Lebens­part­ne­rin\, ihre Toch­ter\, ihre Enke­lin\, ihre Mit­ar­bei­te­rIn­nen\, Mit­strei­te­rIn­nen und Poli­ti­ke­rIn­nen von damals erin­nern sich. Johan­na Dohnal hat durch ihr kon­se­quen­tes Han­deln in 16 Jah­ren Regie­rungs­ar­beit viel für die öster­rei­chi­schen Frau­en erreicht. Dabei war ihr Kampf um Gleich­be­rech­ti­gung immer ein Kampf um eine Gesell­schaft mit mensch­li­chem Ant­litz. Femi­nis­tin­nen\, Poli­ti­ke­rin­nen und Jour­na­lis­tin­nen sind sich dem Erbe\, das Johan­na Dohnal ihnen hin­ter­las­sen hat\, bewusst und zie­hen Kraft aus dem Erreich­ten\, für das\, was noch zu errei­chen ist. Johan­na Dohnal selbst kommt im Archiv­ma­te­ri­al zu Wort. Sie zeigt uns\, wie humor­voll und intel­li­gent der kräf­te­rau­ben­de Kampf um eine gleich­be­rech­tig­te Zukunft geführt wer­den kann. Johan­na Dohnal war ein­fach groß­ar­tig\, sie ist eine Inspi­ra­ti­ons­quel­le für Frau­en und Män­ner von heute.
URL:https://8maerz.at/veranstaltung/die-dohnal-film-und-gespraech/
LOCATION:Votivkino\, Währinger Straße 12\, Wien\, 1090
GEO:48.2167778;16.3600738
X-APPLE-STRUCTURED-LOCATION;VALUE=URI;X-ADDRESS=Votivkino Währinger Straße 12 Wien 1090;X-APPLE-RADIUS=500;X-TITLE=Währinger Straße 12:geo:16.3600738,48.2167778
END:VEVENT
BEGIN:VEVENT
DTSTART;TZID=Europe/Vienna:20200222T103000
DTEND;TZID=Europe/Vienna:20200222T133000
DTSTAMP:20260426T034640
CREATED:20200208T202822Z
LAST-MODIFIED:20200208T202822Z
UID:10003487-1582367400-1582378200@8maerz.at
SUMMARY:Frauen*frühstück: Weltfrauenforum vor 25 Jahren
DESCRIPTION:Frauen*frühstück: Weltfrauenforum vor 25 Jahren\n1995: 4. UNO Welt­frau­en­kon­fe­renz – Teil­neh­me­rin­nen berichten \nPeking+25 ist das Stich­wort der UNO im heu­ri­gen Jahr 2020. Vor 25 Jah­ren fand in Peking die vier­te und bis­her größ­te inter­na­tio­na­le Frau­en­kon­fe­renz der UNO statt. 6.000 Vertreter*innen ver­han­del­ten auf Regie­rungs­ebe­ne. 30.000 Frau­en aus aller Welt ver­sam­mel­ten sich beim NGO-Forum\, um ihre Kräf­te für das Lob­by­ing zu bündeln. \nAm Ende der Kon­fe­renz stand die Pekin­ger Akti­ons­platt­form von 1995 (“The Bei­jing Decla­ra­ti­on and Plat­form for Action of 1995″). Die­ses Doku­ment gilt welt­weit als die visio­närs­te Agen­da für die Stär­kung von Frau­en und Mäd­chen. Die auf der vier­ten Welt­frau­en­kon­fe­renz in Peking (Chi­na) ent­wi­ckel­te Akti­ons­platt­form wur­de von 189 Regie­run­gen ange­nom­men. Sie waren ent­schlos­sen\, stra­te­gi­sche und muti­ge Maß­nah­men in zwölf Berei­chen zu ergrei­fen: Armut\, all­ge­mei­ne und beruf­li­che Bil­dung\, Gesund­heit\, Gewalt\, bewaff­ne­te Kon­flik­te\, Wirt­schaft\, Macht und Ent­schei­dungs­fin­dung\, insti­tu­tio­nel­le Mecha­nis­men\, Men­schen­rech­te\, Medi­en\, Umwelt und Mädchen. \nAuch aus Öster­reich reis­ten Frau­en zum NGO-Forum an. Ange­li­ka Hof­mann\, Bär­bel Dan­ne­berg\, Gun­di Dick u.a. berichten.
URL:https://8maerz.at/veranstaltung/frauenfruhstuck-weltfrauenforum-vor-25-jahren/
LOCATION:Frauenhetz\, Untere Weißgerberstraße 41\, Wien\, 1030
GEO:48.2084854;16.3946163
X-APPLE-STRUCTURED-LOCATION;VALUE=URI;X-ADDRESS=Frauenhetz Untere Weißgerberstraße 41 Wien 1030;X-APPLE-RADIUS=500;X-TITLE=Untere Weißgerberstraße 41:geo:16.3946163,48.2084854
END:VEVENT
BEGIN:VEVENT
DTSTART;TZID=Europe/Vienna:20200223T150000
DTEND;TZID=Europe/Vienna:20200223T170000
DTSTAMP:20260426T034640
CREATED:20200217T212821Z
LAST-MODIFIED:20200217T213003Z
UID:10003687-1582470000-1582477200@8maerz.at
SUMMARY:"Die Dohnal" - Film und Diskussion
DESCRIPTION:Die Dohnal – Frauenministerin / Feministin / Visionärin\nSabi­ne Der­flin­ger | Öster­reich 2019 | 105 min | DF\nSonn­tag\, 23.2. um 15 Uhr \nPodi­um: Elfrie­de Ham­merl\, Erna Dittl­bach. Mode­ra­ti­on: Lena Jäger \nDie Geschich­te und die Geschich­ten von Frau­en wur­den über Jahr­hun­der­te unter­drückt\, nicht erzählt\, ver­ges­sen. Die Dohnal setzt einer Iko­ne der öster­rei­chi­schen Poli­tik und Frau­en­be­we­gung ein Denk­mal und schafft damit eine Iden­ti­fi­ka­ti­ons­fi­gur für heu­ti­ge und nach­fol­gen­de Gene­ra­tio­nen. Johan­na Dohnal war seit 1956 in der SPÖ aktiv\, ab 1969 Bezirks­rä­tin\, ab 1972 in der Par­tei­zen­tra­le\, ab 1979 Staats­se­kre­tä­rin für Frau­en­fra­gen und von 1990 bis 94 Bun­des­mi­nis­te­rin für Frau­en­an­ge­le­gen­hei­ten und damit die ers­te Femi­nis­tin in einer euro­päi­schen Regie­rung. In all die­sen Funk­tio­nen hat sie weit­rei­chen­de Erfol­ge für die Rech­te der Frau­en erzielt: von der straf­recht­li­chen Ver­fol­gung der Ver­ge­wal­ti­gung in der Ehe und der Grün­dung des ers­ten Frau­en­hau­ses bis zur Anrech­nung von Kin­der­zei­ten in der Pensionsreform. \nNeben all die­sen Errun­gen­schaf­ten war Johan­na Dohnal vor allem aber auch eine Poli­ti­ke­rin mit Hal­tung und Herz. Sabi­ne Der­flin­gers Film zeigt Dohnals Kämp­fe\, ihre Sie­ge\, aber auch ihr Schei­tern und bringt sie uns dabei auf eine sehr zugäng­li­che und nach­emp­find­ba­re Wei­se nahe. Die Dohnal ist ein Doku­ment gegen das Ver­ges­sen und ein Plä­doy­er für eine gleich­be­rech­tig­te Zukunft.
URL:https://8maerz.at/veranstaltung/die-dohnal-film-und-diskussion/
LOCATION:Filmcasino\, Margaretenstraße 78\, Wien\, Wien\, 1050\, Österreich
END:VEVENT
BEGIN:VEVENT
DTSTART;TZID=Europe/Vienna:20200229T150000
DTEND;TZID=Europe/Vienna:20200229T173000
DTSTAMP:20260426T034640
CREATED:20200224T220931Z
LAST-MODIFIED:20200224T222424Z
UID:10003699-1582988400-1582997400@8maerz.at
SUMMARY:Frauen.Wahl.Recht | Stadtspaziergang
DESCRIPTION:Frauen.Wahl.Recht | Stadtspaziergang\n29. Febru­ar 2020 von 15:00 bis 17:30\, Kos­ten: 15 Euro \nVor 100 Jah­ren haben Akti­vis­tin­nen und Ver­tre­te­rin­nen der Ers­ten Frauen*Bewegung in Öster­reich das Frauen*Wahlrecht erstritten. \n1919 zie­hen die ers­ten acht Frau­en ins Par­la­ment ein. \nWie hat der Kampf um poli­ti­sche Mit­spra­che begonnen?\nWer waren die Protagonistinnen?\nWel­che Wider­stän­de waren zu überwinden? \nUnd heu­te?\nWel­che Frau­en* sind heu­te im Parlament?\nWer ver­tritt noch Frauen*Interessen?\nWel­che Frauen*Forderungen gibt es heute? \nEin Spa­zier­gang auf den Spu­ren der Frauen-Wahlrechtsgeschichte! \nDetails und Anmel­dung: sie­he Link unten
URL:https://8maerz.at/veranstaltung/frauen-wahl-recht-stadtspaziergang/
LOCATION:Altes Rathaus\, Wipplingerstraße 8\, Wien\, Wien\, 1010\, Österreich
END:VEVENT
END:VCALENDAR