BEGIN:VCALENDAR
VERSION:2.0
PRODID:-//8. März - ECPv6.15.17.1//NONSGML v1.0//EN
CALSCALE:GREGORIAN
METHOD:PUBLISH
X-WR-CALNAME:8. März
X-ORIGINAL-URL:https://8maerz.at
X-WR-CALDESC:Veranstaltungen für 8. März
REFRESH-INTERVAL;VALUE=DURATION:PT1H
X-Robots-Tag:noindex
X-PUBLISHED-TTL:PT1H
BEGIN:VTIMEZONE
TZID:Europe/Vienna
BEGIN:DAYLIGHT
TZOFFSETFROM:+0100
TZOFFSETTO:+0200
TZNAME:CEST
DTSTART:20240331T010000
END:DAYLIGHT
BEGIN:STANDARD
TZOFFSETFROM:+0200
TZOFFSETTO:+0100
TZNAME:CET
DTSTART:20241027T010000
END:STANDARD
BEGIN:DAYLIGHT
TZOFFSETFROM:+0100
TZOFFSETTO:+0200
TZNAME:CEST
DTSTART:20250330T010000
END:DAYLIGHT
BEGIN:STANDARD
TZOFFSETFROM:+0200
TZOFFSETTO:+0100
TZNAME:CET
DTSTART:20251026T010000
END:STANDARD
BEGIN:DAYLIGHT
TZOFFSETFROM:+0100
TZOFFSETTO:+0200
TZNAME:CEST
DTSTART:20260329T010000
END:DAYLIGHT
BEGIN:STANDARD
TZOFFSETFROM:+0200
TZOFFSETTO:+0100
TZNAME:CET
DTSTART:20261025T010000
END:STANDARD
END:VTIMEZONE
BEGIN:VEVENT
DTSTART;VALUE=DATE:20250227
DTEND;VALUE=DATE:20250526
DTSTAMP:20260421T173410
CREATED:20250105T225716Z
LAST-MODIFIED:20250105T225905Z
UID:10004238-1740614400-1748217599@8maerz.at
SUMMARY:Ausstellung: Radical Software: Women\, Art & Computing 1960–1991
DESCRIPTION:Dau­er: 28.2.2025 — 25.5.2025\nOrt: Museumsquartier \nEröff­nung: 27. Febru­ar 2025\, 19 Uhr \nRadi­cal Soft­ware: Women\, Art & Com­pu­ting 1960–1991 ist die ers­te einer Rei­he von for­schungs­ba­sier­ten Grup­pen­aus­stel­lun­gen. Die Wer­ke von etwa fünf­zig Künst­le­rin­nen aus den Berei­chen Male­rei\, Bild­haue­rei\, Instal­la­ti­on\, Foto­gra­fie\, Film sowie zahl­rei­che com­pu­ter­ge­nerier­te Zeich­nun­gen und Tex­te wer­den prä­sen­tiert. Die Aus­stel­lung betrach­tet die Geschich­te der künst­le­ri­schen Expe­ri­men­te in der Vor-Inter­net-Ära der Infor­ma­tik aus einer femi­nis­ti­schen Perspektive. \nDie Aus­stel­lung Radi­cal Soft­ware: Women\, Art and Com­pu­ting 1960–1991 wird von Michel­le Cot­ton kura­tiert und durch die Kunst­hal­le Wien und Mudam Luxem­bourg – Musée d’Art Moder­ne Grand-Duc Jean produziert.\nEine neue Publi­ka­ti­on mit 27 Künst­le­rin­nen­in­ter­views beglei­tet die Ausstellung. \nKünst­le­rin­nen:\nRebec­ca Allen (b. 1953\, Detroit)\, Ele­na Asins (b. 1940\, Madrid – d. 2015\, Navar­ra\, Spain)\, Colet­te Stue­be Ban­gert (b. 1934\, Colum­bus\, Ohio) & Charles Jef­fries Ban­gert (b. 1938\, Far­go\, North Dako­ta – d. 2019\, Law­rence\, Kan­sas)\, Gret­chen Ben­der (b. 1951\, Seaford\, Dela­ware – d. 2004\, New York)\, Gud­run Bielz (b. 1954\, Linz\, Aus­tria) & Ruth Schnell (b. 1956\, Feld­kirch\, Aus­tria)\, Dara Birn­baum (b. 1946\, New York)\, Inge Bor­chardt (b. 1935\, Szc­ze­cin\, Pol­and\, form­er­ly Stet­tin\, Ger­ma­ny)\, Bar­ba­ra Buck­ner (b. 1950\, Chi­ca­go)\, Doris Cha­se (b. 1923 – d. 2008\, Seat­tle\, Washing­ton)\, Analí­via Cord­ei­ro (b. 1954\, São Pau­lo)\, Bet­ty Danon (b. 1927\, Istan­bul – d. 2002\, Milan)\, Han­ne Dar­bo­ven (b. 1941\, Munich – d. 2009\, Ham­burg)\, Bia Davou (b. 1932 – d. 1996\, Athens)\, Agnes Denes (b. 1938\, Buda­pest)\, VALIE EXPORT (b. 1940\, Linz\, Aus­tria)\, Anna Bel­la Gei­ger (1933\, Rio de Janei­ro)\, Isa Genz­ken (b. 1948\, Bad Oldes­loe\, Ger­ma­ny)\, Domi­ni­que Gon­za­lez-Foers­ter (b. 1965\, Stras­bourg\, France)\, Lily Green­ham (b. 1924\, Vien­na – d. 2001\, Lon­don)\, Samia Hala­by (b. 1936\, Jeru­sa­lem)\, Bar­ba­ra Ham­mer (b. 1939\, Los Ange­les – d. 2019\, New York)\, Lynn Hersh­man Lee­son (b. 1941\, Cleve­land\, Ohio)\, Grace C. Hertlein (b. 1924\, Chi­ca­go – d. 2015\, Chi­co\, Cali­for­nia)\, Chan­na Hor­witz (b. 1932 – d. 2013\, Los Ange­les)\, Irma Hüner­fauth (b. 1907\, Donau­eschin­gen\, Ger­ma­ny – d. 1998\, Kreuth\, Ger­ma­ny)\, Char­lot­te Johan­nes­son (b. 1943\, Mal­mö)\, Ali­son Know­les (b. 1933\, New York)\, Beryl Korot (b. 1945\, New York)\, Kata­lin Ladik (b. 1942\, Novi Sad\, Ser­bia)\, Ruth Lea­vitt (b. 1944\, St. Paul\, Min­ne­so­ta)\, Lilia­ne Lijn (b. 1939\, New York)\, Vera Molnár (b. 1924\, Buda­pest – d. 2023\, Paris)\, Moni­que Nahas (b. 1940\, Paris) & Her­vé Huit­ric (b. 1945\, Paris)\, Kathe­ri­ne Nash (b. 1910 – 1982\, Min­nea­po­lis)\, Sonya Rapo­port (b. 1923\, Brook­li­ne – d. 2015\, Ber­ke­ley)\, Debo­rah Reming­ton (b. 1930\, Had­don­field\, New Jer­sey – d. 2010\, Moo­res­town\, New Jer­sey)\, Syl­via Rou­baud (b. 1941\, Munich)\, Miri­am Scha­pi­ro (b. 1923\, Toron­to – d. 2015\, Hamp­ton Bays\, New York)\, Lil­li­an Schwartz (b. 1927\, Cin­cin­na­ti\, Ohio)\, Sonia Sher­i­dan (b. 1925\, Newark\, Ohio – d. 2021\, Hano­ver\, Main)\, Nina Sobell (b. 1947\, Patcho­gue\, New York)\, Bar­ba­ra T. Smith (b. 1931\, Pasa­de­na\, Cali­for­nia)\, Tami­ko Thiel (b. 1957\, Oak­land\, Cali­for­nia)\, Rose­ma­rie Trockel (b. 1952\, Schwer­te\, Ger­ma­ny)\, Joan Tru­cken­brod (b. 1945\, Greens­bo­ro\, North Caro­li­na)\, Anne-Mie Van Kerck­ho­ven (b. 1951\, Ant­werp)\, Ulla Wig­gen (b. 1942\, Stockholm)
URL:https://8maerz.at/veranstaltung/ausstellung-radical-software-women-art-computing-1960-1991/
LOCATION:MuseumsQuartier\, Museumsplatz 1\, Wien\, 1070
GEO:48.2026499;16.3591421
X-APPLE-STRUCTURED-LOCATION;VALUE=URI;X-ADDRESS=MuseumsQuartier Museumsplatz 1 Wien 1070;X-APPLE-RADIUS=500;X-TITLE=Museumsplatz 1:geo:16.3591421,48.2026499
END:VEVENT
BEGIN:VEVENT
DTSTART;VALUE=DATE:20250305
DTEND;VALUE=DATE:20250312
DTSTAMP:20260421T173411
CREATED:20250223T212710Z
LAST-MODIFIED:20250302T214859Z
UID:10004281-1741132800-1741737599@8maerz.at
SUMMARY:Tricky Women / Tricky Realities 2025
DESCRIPTION:Tri­cky Women Tri­cky Rea­li­ties 2025\nInter­na­tio­nal Ani­ma­ti­on Filmfestival\n5.–9.3.2025 at the Cinemas\n5.–11.3.2025 Online \nZum Fes­ti­val­pro­gramm geht es hier: online.trickywomen.at
URL:https://8maerz.at/veranstaltung/tricky-women-tricky-realities-2025/
LOCATION:METRO Kinokulturhaus\, Johannesgasse 4\, Wien\, 1010\, Österreich
GEO:48.2049653;16.3719055
X-APPLE-STRUCTURED-LOCATION;VALUE=URI;X-ADDRESS=METRO Kinokulturhaus Johannesgasse 4 Wien 1010 Österreich;X-APPLE-RADIUS=500;X-TITLE=Johannesgasse 4:geo:16.3719055,48.2049653
END:VEVENT
BEGIN:VEVENT
DTSTART;TZID=Europe/Vienna:20250312T190000
DTEND;TZID=Europe/Vienna:20250312T210000
DTSTAMP:20260421T173411
CREATED:20250102T164437Z
LAST-MODIFIED:20250102T164503Z
UID:10004213-1741806000-1741813200@8maerz.at
SUMMARY:Diskussion: Barrieren sprengen! Allianzen bilden!
DESCRIPTION:Mitt­woch\, 12. März 2025\, 19:00	 \nDas Bewusst­sein für die Not­wen­dig­keit der Bar­rie­re­frei­heit hat auch die Wie­ner Kul­tur­sze­ne erreicht. Bis­her wur­den Maß­nah­men beson­ders von enga­gier­ten Ein­zel­per­so­nen vor­an­ge­trie­ben\, wel­che sich ihr Wis­sen selbst­stän­dig aneig­nen. Die­sem zer­streu­ten Wis­sen der Kul­tur­ar­beit haben sich eini­ge Initia­ti­ven ange­nom­men. Wie kön­nen Kräf­te am bes­ten gebün­delt wer­den\, um Ver­än­de­rung vor­an­zu­brin­gen? Wel­che For­de­run­gen müs­sen gestellt werden? \nJulia Haim­bur­ger\, Kunst­ver­mitt­le­rin\, Österr. Gale­rie Bel­ve­de­re\, Wien\nEli­sa­beth Magd­le­ner\, Kul­tur­wis­sen­schaf­te­rin\, Ver­ein CCC**\, Wien\nJen­nie Car­vill Schel­len­ba­cher\, ARGE Inklu­si­ves Muse­um\, Wien Museum \nMode­ra­ti­on: Julisch­ka Sten­ge­le\, Künst­le­rin und Per­for­me­rin\, Wien
URL:https://8maerz.at/veranstaltung/diskussion-barrieren-sprengen-allianzen-bilden/
LOCATION:Depot – Kunst und Diskussion\, Breite Gasse 3\, Wien\, 1070
GEO:48.2031754;16.3568226
X-APPLE-STRUCTURED-LOCATION;VALUE=URI;X-ADDRESS=Depot – Kunst und Diskussion Breite Gasse 3 Wien 1070;X-APPLE-RADIUS=500;X-TITLE=Breite Gasse 3:geo:16.3568226,48.2031754
END:VEVENT
BEGIN:VEVENT
DTSTART;TZID=Europe/Vienna:20250314T180000
DTEND;TZID=Europe/Vienna:20250314T210000
DTSTAMP:20260421T173411
CREATED:20250112T175202Z
LAST-MODIFIED:20250112T180243Z
UID:10004245-1741975200-1741986000@8maerz.at
SUMMARY:Workshop: Verbal Self-Defense (Teil 1)
DESCRIPTION:Sujet © vorvro.at \nVERBAL SELF-DEFENSE: WEHR DICH MIT WORTEN!\nVer­ba­le Selbst­ver­tei­di­gung für FLINTA*- Personen \n@ Kno­ten\, 1200 Wien\, Hein­zel­mann­gas­se 17 \nWEHR DICH MIT WORTEN!\nSPRICH UNGERECHTIGKEITEN AN!\nVERSCHAFF DIR RESPEKT!\nSAG DEINE MEINUNG! \nThea­ter­work­shop für FLINTA*-Personen\nFr\, 14.3.25 18–21:00\nSa\, 15.3.25 11–14:00 und 15–18:00 \nNach einem spie­le­ri­schen Ken­nen­ler­nen der ande­ren Teil­neh­men­den wer­den wir uns in Rol­len­spie­len dar­in üben\, für unse­re Mei­nung ein­zu­ste­hen und unse­re Bedürf­nis­se und Gren­zen zu for­mu­lie­ren. Dabei arbei­ten wir mit unter­schied­li­chen Metho­den des dra­ma­ti­schen Spiels (Thea­ter der Unter­drück­ten\, Impro­vi­sa­ti­ons­thea­ter\, psy­cho­dra­ma­ti­sches Rol­len­spiel usw.). Wir trai­nie­ren unse­re Wahr­neh­mung\, üben uns in Ver­trau­en zu Ande­ren\, erpro­ben unse­re Soli­da­ri­tät zu ein­an­der\, zeich­nen patri­ar­cha­le Ste­reo­ty­pen nach und stel­len ihnen que­er-femi­nis­ti­sche Super­power ent­ge­gen. (mehr infos unter www.vrovro.at) \nFLINTA*-Personen: FLINTA ist eine Abkür­zung\, die aus­drü­cken soll\, wer in bestimm­ten Räu­men oder zu bestimm­ten Ver­an­stal­tun­gen will­kom­men ist. Sie steht für Frau­en\, Les­ben\, Inter Per­so­nen\, Nicht­bi­nä­re Per­so­nen\, Trans Per­so­nen und A‑Gender Per­so­nen. Die Abkür­zun­gen FLINTA* bzw. Frau­en und LGBTIQA* bezeich­nen also die Per­so­nen\, die im Patri­ar­chat dis­kri­mi­niert wer­den & bei dem Work­shop geht es auch dar­um\, für die­se Per­so­nen einen Schutz­raum zu schaffen. \nAnmel­dung unter: vrovro.geiger@gmx.at\nFör­de­rung durch die ÖH Wien in Abklärung \n♥ ♥ ♥ Human Solidarity ♥ ♥ ♥ \nWORKSHOP-LEITUNG:\nVro­v­ro Gei­ger\, Mag. art.\,\nbildende/darstellende Künstlerin\nZirkus‑\, Kunst- und Theaterpädagogin \nSeit ihrem Abschluss an der Aka­de­mie der bil­den­den Küns­te 2011\, lebt und arbei­tet sie als frei­schaf­fen­de Künst­le­rin in Wien; sie beschäf­tigt sich ins­be­son­de­re mit Zir­kus\, Thea­ter\, bil­den­der Kunst\, Musik\, etc. Kunst in wel­cher Form auch immer ist für sie eine Form der Kom­mu­ni­ka­ti­on. Eine zeit­ge­nös­si­sche Kunst­pro­duk­ti­on zwi­schen sozia­len Kunst­pro­jek­ten und künst­le­ri­schen Sozi­al­pro­jek­ten\, eine Kombinationskünstlerin.\nNach­dem sie den Lehr­gang des Thea­ters der Unter­drück­ten been­det hat­te\, nahm sie an inter­na­tio­na­len Thea­ter­pro­jek­ten teil\, wie z.B. in Westbengalen/Indien und Bhaktapur/Nepal. 2016 schloss sie den Aus­bil­dungs­lehr­gang zur psy­cho­dra­ma­ti­schen Rol­len­spiel­lei­te­rin ab. Als Per­for­mance­künst­le­rin im Wie­ner Zir­kus­kol­lek­tiv C³\, dem Curious Cir­cus Coll­ec­ti­ve\, war sie an Pho­to-cre­dits: Andre­as Schnei­der 2024der Pla­nung und Durch­füh­rung von bis­lang zwei Zir­kus­stü­cken und zahl­rei­chen Varie­té-Aben­den betei­ligt. 2017–2022 per­form­te sie mit der Feu­er-Artis­tik-Grup­pe Fla­me Rain Theat­re. Seit 2016 singt sie als Lavan­da Kawumm\, als Clow­nin vom Mond\, ihre Lie­der\, wobei schon 2 Kon­zept­al­ben ent­stan­den sind. Auch bie­tet sie unter­schied­li­che Thea­ter­work­shops zu unter­schied­li­chen The­men\, v.a. in Rich­tung Selbst­er­mäch­ti­gung und Kon­flikt­lö­sungs­stra­te­gien an. Sie sieht gro­ßes Poten­ti­al im kol­lek­ti­ven Mit­ein­an­der und in der Ver­bin­dung mit Körperarbeit. \nKon­takt:\nVro­v­ro Gei­ger +436505802313\nwww.vrovro.at – alles im Überlblick\nwww.kawumm.rocks– Clown­thea­ter & Liedermacherei\nKünst­le­ri­sches Port­fo­lio hier: PDF
URL:https://8maerz.at/veranstaltung/workshop-verbal-self-defense-1/
LOCATION:derknoten.wien\, Heinzelmanngasse 17\, https://derknoten.wien\, Wien\, 1200
ATTACH;FMTTYPE=image/jpeg:https://8maerz.at/wp-content/uploads/sites/20/2025/01/verbal-self-defense_2025.jpg
END:VEVENT
BEGIN:VEVENT
DTSTART;TZID=Europe/Vienna:20250315T110000
DTEND;TZID=Europe/Vienna:20250315T180000
DTSTAMP:20260421T173411
CREATED:20250112T175356Z
LAST-MODIFIED:20250112T180218Z
UID:10004246-1742036400-1742061600@8maerz.at
SUMMARY:Workshop: Verbal Self-Defense (Teil 2)
DESCRIPTION:Sujet © vorvro.at \nVERBAL SELF-DEFENSE: WEHR DICH MIT WORTEN!\nVer­ba­le Selbst­ver­tei­di­gung für FLINTA*- Personen \n@ Kno­ten\, 1200 Wien\, Hein­zel­mann­gas­se 17 \nWEHR DICH MIT WORTEN!\nSPRICH UNGERECHTIGKEITEN AN!\nVERSCHAFF DIR RESPEKT!\nSAG DEINE MEINUNG! \nThea­ter­work­shop für FLINTA*-Personen\nFr\, 14.3.25 18–21:00\nSa\, 15.3.25 11–14:00 und 15–18:00 \nNach einem spie­le­ri­schen Ken­nen­ler­nen der ande­ren Teil­neh­men­den wer­den wir uns in Rol­len­spie­len dar­in üben\, für unse­re Mei­nung ein­zu­ste­hen und unse­re Bedürf­nis­se und Gren­zen zu for­mu­lie­ren. Dabei arbei­ten wir mit unter­schied­li­chen Metho­den des dra­ma­ti­schen Spiels (Thea­ter der Unter­drück­ten\, Impro­vi­sa­ti­ons­thea­ter\, psy­cho­dra­ma­ti­sches Rol­len­spiel usw.). Wir trai­nie­ren unse­re Wahr­neh­mung\, üben uns in Ver­trau­en zu Ande­ren\, erpro­ben unse­re Soli­da­ri­tät zu ein­an­der\, zeich­nen patri­ar­cha­le Ste­reo­ty­pen nach und stel­len ihnen que­er-femi­nis­ti­sche Super­power ent­ge­gen. (mehr infos unter www.vrovro.at) \nFLINTA*-Personen: FLINTA ist eine Abkür­zung\, die aus­drü­cken soll\, wer in bestimm­ten Räu­men oder zu bestimm­ten Ver­an­stal­tun­gen will­kom­men ist. Sie steht für Frau­en\, Les­ben\, Inter Per­so­nen\, Nicht­bi­nä­re Per­so­nen\, Trans Per­so­nen und A‑Gender Per­so­nen. Die Abkür­zun­gen FLINTA* bzw. Frau­en und LGBTIQA* bezeich­nen also die Per­so­nen\, die im Patri­ar­chat dis­kri­mi­niert wer­den & bei dem Work­shop geht es auch dar­um\, für die­se Per­so­nen einen Schutz­raum zu schaffen. \nAnmel­dung unter: vrovro.geiger@gmx.at\nFör­de­rung durch die ÖH Wien in Abklärung \n♥ ♥ ♥ Human Solidarity ♥ ♥ ♥ \nWORKSHOP-LEITUNG:\nVro­v­ro Gei­ger\, Mag. art.\,\nbildende/darstellende Künstlerin\nZirkus‑\, Kunst- und Theaterpädagogin \nSeit ihrem Abschluss an der Aka­de­mie der bil­den­den Küns­te 2011\, lebt und arbei­tet sie als frei­schaf­fen­de Künst­le­rin in Wien; sie beschäf­tigt sich ins­be­son­de­re mit Zir­kus\, Thea­ter\, bil­den­der Kunst\, Musik\, etc. Kunst in wel­cher Form auch immer ist für sie eine Form der Kom­mu­ni­ka­ti­on. Eine zeit­ge­nös­si­sche Kunst­pro­duk­ti­on zwi­schen sozia­len Kunst­pro­jek­ten und künst­le­ri­schen Sozi­al­pro­jek­ten\, eine Kombinationskünstlerin.\nNach­dem sie den Lehr­gang des Thea­ters der Unter­drück­ten been­det hat­te\, nahm sie an inter­na­tio­na­len Thea­ter­pro­jek­ten teil\, wie z.B. in Westbengalen/Indien und Bhaktapur/Nepal. 2016 schloss sie den Aus­bil­dungs­lehr­gang zur psy­cho­dra­ma­ti­schen Rol­len­spiel­lei­te­rin ab. Als Per­for­mance­künst­le­rin im Wie­ner Zir­kus­kol­lek­tiv C³\, dem Curious Cir­cus Coll­ec­ti­ve\, war sie an Pho­to-cre­dits: Andre­as Schnei­der 2024der Pla­nung und Durch­füh­rung von bis­lang zwei Zir­kus­stü­cken und zahl­rei­chen Varie­té-Aben­den betei­ligt. 2017–2022 per­form­te sie mit der Feu­er-Artis­tik-Grup­pe Fla­me Rain Theat­re. Seit 2016 singt sie als Lavan­da Kawumm\, als Clow­nin vom Mond\, ihre Lie­der\, wobei schon 2 Kon­zept­al­ben ent­stan­den sind. Auch bie­tet sie unter­schied­li­che Thea­ter­work­shops zu unter­schied­li­chen The­men\, v.a. in Rich­tung Selbst­er­mäch­ti­gung und Kon­flikt­lö­sungs­stra­te­gien an. Sie sieht gro­ßes Poten­ti­al im kol­lek­ti­ven Mit­ein­an­der und in der Ver­bin­dung mit Körperarbeit. \nKon­takt:\nVro­v­ro Gei­ger +436505802313\nwww.vrovro.at – alles im Überlblick\nwww.kawumm.rocks– Clown­thea­ter & Liedermacherei\nKünst­le­ri­sches Port­fo­lio hier: PDF
URL:https://8maerz.at/veranstaltung/workshop-verbal-self-defense-2/
LOCATION:derknoten.wien\, Heinzelmanngasse 17\, https://derknoten.wien\, Wien\, 1200
ATTACH;FMTTYPE=image/jpeg:https://8maerz.at/wp-content/uploads/sites/20/2025/01/verbal-self-defense_2025-1.jpg
END:VEVENT
END:VCALENDAR