BEGIN:VCALENDAR
VERSION:2.0
PRODID:-//8. März - ECPv6.15.17.1//NONSGML v1.0//EN
CALSCALE:GREGORIAN
METHOD:PUBLISH
X-ORIGINAL-URL:https://8maerz.at
X-WR-CALDESC:Veranstaltungen für 8. März
REFRESH-INTERVAL;VALUE=DURATION:PT1H
X-Robots-Tag:noindex
X-PUBLISHED-TTL:PT1H
BEGIN:VTIMEZONE
TZID:Europe/Vienna
BEGIN:DAYLIGHT
TZOFFSETFROM:+0100
TZOFFSETTO:+0200
TZNAME:CEST
DTSTART:20220327T010000
END:DAYLIGHT
BEGIN:STANDARD
TZOFFSETFROM:+0200
TZOFFSETTO:+0100
TZNAME:CET
DTSTART:20221030T010000
END:STANDARD
BEGIN:DAYLIGHT
TZOFFSETFROM:+0100
TZOFFSETTO:+0200
TZNAME:CEST
DTSTART:20230326T010000
END:DAYLIGHT
BEGIN:STANDARD
TZOFFSETFROM:+0200
TZOFFSETTO:+0100
TZNAME:CET
DTSTART:20231029T010000
END:STANDARD
BEGIN:DAYLIGHT
TZOFFSETFROM:+0100
TZOFFSETTO:+0200
TZNAME:CEST
DTSTART:20240331T010000
END:DAYLIGHT
BEGIN:STANDARD
TZOFFSETFROM:+0200
TZOFFSETTO:+0100
TZNAME:CET
DTSTART:20241027T010000
END:STANDARD
END:VTIMEZONE
BEGIN:VEVENT
DTSTART;TZID=Europe/Vienna:20230321T180000
DTEND;TZID=Europe/Vienna:20230321T200000
DTSTAMP:20260420T135754
CREATED:20230227T213225Z
LAST-MODIFIED:20230227T213334Z
UID:10003993-1679421600-1679428800@8maerz.at
SUMMARY:Podiumsdiskussion: Diversität im Feminismus
DESCRIPTION:Podi­ums­dis­kus­si­on am Diens­tag\, 21. März 2023\, 18:00 \nDiver­si­tät im Feminismus \nEs bestehen heu­te die viel­fäl­tigs­ten Vor­stel­lun­gen dar­über\, was Femi­nis­mus ist oder nicht ist und wofür es sich zu kämp­fen lohnt. Unter­schied­li­che Strö­mun­gen – Auto­no­mer Feminismus/ BiPoC-Femi­nis­mus/ Differenzfeminismus/ Gleichstellungsfeminismus/ Queerfeminismus/ Trans­fe­mi­nis­mus – ste­hen sich schein­bar unver­söhn­lich gegen­über oder im bes­ten Fall neben­ein­an­der. Aber gera­de in Zei­ten eines rechts­po­pu­lis­ti­schen und anti­fe­mi­nis­ti­schen Back­lashs ist es doch wich­tig mit­ein­an­der ins Gespräch zu kom­men\, Alli­an­zen zu bil­den und das Gemein­sa­me vor das Tren­nen­de zu stel­len. Mit die­ser Moti­va­ti­on hat die Frau­en­hetz die­se Ver­an­stal­tung organisiert. \nMit: Flo­ra Alva­ra­do-Dupuy\, Eva Geber\, Bar­ba­ra Grub­ner\, Han­na Hacker\, Zoe* Steins­ber­ger\, N.N.\nMode­ra­ti­on: Fan­ny Rasul\nOrt: C3\, Cen­trum für Inter­na­tio­na­le Ent­wick­lung\, Alo­is Wag­ner-Saal\, Sen­sen­gas­se 3\, 1090 Wien \nNach dem Podi­um wird zu Geträn­ken und Snacks geladen.\nDie Ver­an­stal­tung ist offen für alle. \nGeför­dert von dem Son­der­pro­jekt­topf der Öster­rei­chi­schen Hochschüler_innenschaft Bundesvertretung.
URL:https://8maerz.at/veranstaltung/podiumsdiskussion-diversitaet-im-feminismus/
LOCATION:C3 – Centrum für Internationale Entwicklung\, Sensengasse 3\, Wien\, Wien\, 1090\, Österreich
ORGANIZER;CN="Frauenhetz - feministische Bildung%2C Kultur und Politik":MAILTO:office@frauenhetz.at
GEO:48.2200549;16.354017
X-APPLE-STRUCTURED-LOCATION;VALUE=URI;X-ADDRESS=C3 – Centrum für Internationale Entwicklung Sensengasse 3 Wien Wien 1090 Österreich;X-APPLE-RADIUS=500;X-TITLE=Sensengasse 3:geo:16.354017,48.2200549
END:VEVENT
END:VCALENDAR