BEGIN:VCALENDAR
VERSION:2.0
PRODID:-//8. März - ECPv6.15.20//NONSGML v1.0//EN
CALSCALE:GREGORIAN
METHOD:PUBLISH
X-ORIGINAL-URL:https://8maerz.at
X-WR-CALDESC:Veranstaltungen für 8. März
REFRESH-INTERVAL;VALUE=DURATION:PT1H
X-Robots-Tag:noindex
X-PUBLISHED-TTL:PT1H
BEGIN:VTIMEZONE
TZID:Europe/Vienna
BEGIN:DAYLIGHT
TZOFFSETFROM:+0100
TZOFFSETTO:+0200
TZNAME:CEST
DTSTART:20180325T010000
END:DAYLIGHT
BEGIN:STANDARD
TZOFFSETFROM:+0200
TZOFFSETTO:+0100
TZNAME:CET
DTSTART:20181028T010000
END:STANDARD
BEGIN:DAYLIGHT
TZOFFSETFROM:+0100
TZOFFSETTO:+0200
TZNAME:CEST
DTSTART:20190331T010000
END:DAYLIGHT
BEGIN:STANDARD
TZOFFSETFROM:+0200
TZOFFSETTO:+0100
TZNAME:CET
DTSTART:20191027T010000
END:STANDARD
BEGIN:DAYLIGHT
TZOFFSETFROM:+0100
TZOFFSETTO:+0200
TZNAME:CEST
DTSTART:20200329T010000
END:DAYLIGHT
BEGIN:STANDARD
TZOFFSETFROM:+0200
TZOFFSETTO:+0100
TZNAME:CET
DTSTART:20201025T010000
END:STANDARD
END:VTIMEZONE
BEGIN:VEVENT
DTSTART;TZID=Europe/Vienna:20190316T183000
DTEND;TZID=Europe/Vienna:20190316T220000
DTSTAMP:20260425T213831
CREATED:20190312T162533Z
LAST-MODIFIED:20190312T162556Z
UID:10003532-1552761000-1552773600@8maerz.at
SUMMARY:Finissage: SIE! MICH AN
DESCRIPTION:Finissage: SIE! MICH AN\nDie Künstler*innen vom Kol­lek­tiv Kimä­re set­zen die Vul­va durch Male­rei­en\, Zeich­nun­gen\, Digi­tal Art\, Plas­ti­ken und Foto­gra­fien in Sze­ne. SIE! MICH AN ent­ta­bui­siert Mas­tur­ba­ti­on\, Mens­trua­ti­on und die Viel­falt der Vul­ven kunstvoll.\nFei­ert mit uns bei Live­mu­sik und Geträn­ken eine gelun­ge­ne Aus­stel­lung und bestaunt noch ein­mal last minu­te die Vul­va­kunst­wer­ke des Kol­lek­tivs Kimäre. \nDas Clo­sing Event wird natür­lich wie­der musi­ka­lisch unter­malt und es wird Get-Acti­ve-Tische geben. Zum eine klei­ne Erin­ne­run­gen mit­neh­men wird es wie­der Merch geben und eini­ge Kunst­wer­ke ste­hen zum Verkauf. \nEin­tritt: Freie Spende
URL:https://8maerz.at/veranstaltung/finissage-sie-mich-an/
LOCATION:Amerlinghaus\, Stiftgasse 8\, Wien\, 1070\, Österreich
GEO:48.2031259;16.3543246
X-APPLE-STRUCTURED-LOCATION;VALUE=URI;X-ADDRESS=Amerlinghaus Stiftgasse 8 Wien 1070 Österreich;X-APPLE-RADIUS=500;X-TITLE=Stiftgasse 8:geo:16.3543246,48.2031259
END:VEVENT
BEGIN:VEVENT
DTSTART;TZID=Europe/Vienna:20190322T190000
DTEND;TZID=Europe/Vienna:20190322T220000
DTSTAMP:20260425T213831
CREATED:20190312T171642Z
LAST-MODIFIED:20190312T171642Z
UID:10003538-1553281200-1553292000@8maerz.at
SUMMARY:Finissage: eigenART II
DESCRIPTION:eigenART II\ncura­ted by Petra M. Springer \nFinis­sa­ge: Frei­tag\, 22.03.2019\, 19:00\nPer­for­mance: Vivi­an Cre­spo Zurita \nGrü­ne Gale­rie 7 | Kura­tiert von Anna Bab­ka & Ursu­la Berner \nMit­wir­ken­de:\nOphi­ra Avi­sar • Ame­li­ta Bra­du • Kati Bru­der • Maga­ly Cureau • Ewa Dzied­zic • Anne­lie­se Erdem­gil-Brand­stät­ter • Sarah Fell­ner • Vero­ni­ka Jun­ger • Sophie Krü­ger • Aiko Kazu­ko Kur­o­sa­ki • Sara Merec • Mar­ti­na Mina • Mar­ti­na Mont­e­cuc­co­li • Doris Neidl • Petra Paul • Petra Röbl • Sabi­ne Schwaig­ho­fer • Abi­ga­il Stern • Julia Über­rei­ter • Valery Vil­lena • Judith Wag­ner • Vivi­an Cre­spo Zurita \n 
URL:https://8maerz.at/veranstaltung/finissage-eigenart-ii/
LOCATION:Grüne Galerie Sieben\, Herrmanngasse 25\, Wien\, Wien\, 1070\, Österreich
GEO:48.2029673;16.3467449
X-APPLE-STRUCTURED-LOCATION;VALUE=URI;X-ADDRESS=Grüne Galerie Sieben Herrmanngasse 25 Wien Wien 1070 Österreich;X-APPLE-RADIUS=500;X-TITLE=Herrmanngasse 25:geo:16.3467449,48.2029673
END:VEVENT
END:VCALENDAR