BEGIN:VCALENDAR
VERSION:2.0
PRODID:-//8. März - ECPv6.15.20//NONSGML v1.0//EN
CALSCALE:GREGORIAN
METHOD:PUBLISH
X-WR-CALNAME:8. März
X-ORIGINAL-URL:https://8maerz.at
X-WR-CALDESC:Veranstaltungen für 8. März
REFRESH-INTERVAL;VALUE=DURATION:PT1H
X-Robots-Tag:noindex
X-PUBLISHED-TTL:PT1H
BEGIN:VTIMEZONE
TZID:Europe/Vienna
BEGIN:DAYLIGHT
TZOFFSETFROM:+0100
TZOFFSETTO:+0200
TZNAME:CEST
DTSTART:20210328T010000
END:DAYLIGHT
BEGIN:STANDARD
TZOFFSETFROM:+0200
TZOFFSETTO:+0100
TZNAME:CET
DTSTART:20211031T010000
END:STANDARD
BEGIN:DAYLIGHT
TZOFFSETFROM:+0100
TZOFFSETTO:+0200
TZNAME:CEST
DTSTART:20220327T010000
END:DAYLIGHT
BEGIN:STANDARD
TZOFFSETFROM:+0200
TZOFFSETTO:+0100
TZNAME:CET
DTSTART:20221030T010000
END:STANDARD
BEGIN:DAYLIGHT
TZOFFSETFROM:+0100
TZOFFSETTO:+0200
TZNAME:CEST
DTSTART:20230326T010000
END:DAYLIGHT
BEGIN:STANDARD
TZOFFSETFROM:+0200
TZOFFSETTO:+0100
TZNAME:CET
DTSTART:20231029T010000
END:STANDARD
END:VTIMEZONE
BEGIN:VEVENT
DTSTART;VALUE=DATE:20220307
DTEND;VALUE=DATE:20220314
DTSTAMP:20260425T201849
CREATED:20220305T144558Z
LAST-MODIFIED:20220305T145151Z
UID:10003688-1646611200-1647215999@8maerz.at
SUMMARY:Festival: SKIN #3: “laughing & fighting: feminist resistance now!”
DESCRIPTION:Anar­chie und Wider­stand muss nicht bier­ernst und humor­los sein! Auf­be­geh­ren gegen Dis­kri­mi­nie­rung\, Nor­mie­rung und Regle­men­tie­rung kann und soll auch Lust und Freu­de machen. Die Mär von der Femi­nis­tin\, die kei­nen Spaß ver­steht\, wird hier und jetzt ver­ab­schie­det: Sie­ben Tage lang zei­gen uns Performer:innen mit tief­sin­ni­gem\, ent­lar­ven­dem und absur­dem Witz Wider­sprü­che in der glo­ba­len Herr­schafts­ord­nung auf. \nMit geball­ter\, lebens­fro­her Ener­gie wird Uto­pie gedacht und gelebt und patri­ar­cha­ler Macht­an­spruch ver­spot­tet. Par­ti­zi­pa­ti­ve For­ma­te laden euch ein\, teil­zu­neh­men\, mit­zu­la­chen und eure Ideen zu einer ande­ren Frau*schaftsform kundzutun. \nLet your humor gui­de the way! \nHier fin­det ihr das detail­lier­te Pro­gramm.\nHier geht’s zur Web­site des Fes­ti­vals. \nThe­men:\nFeminismen/Intersektionalität/Anarchie & Humor
URL:https://8maerz.at/veranstaltung/festival-skin-3-laughing-fighting-feminist-resistance-now/
LOCATION:Dschungel Wien\, Museumsplatz 1\, Wien\, 1070
GEO:48.2026499;16.3591421
X-APPLE-STRUCTURED-LOCATION;VALUE=URI;X-ADDRESS=Dschungel Wien Museumsplatz 1 Wien 1070;X-APPLE-RADIUS=500;X-TITLE=Museumsplatz 1:geo:16.3591421,48.2026499
END:VEVENT
BEGIN:VEVENT
DTSTART;VALUE=DATE:20220309
DTEND;VALUE=DATE:20220314
DTSTAMP:20260425T201849
CREATED:20220213T210746Z
LAST-MODIFIED:20220304T215445Z
UID:10003879-1646784000-1647215999@8maerz.at
SUMMARY:Tricky Women/Tricky Realities 2022
DESCRIPTION:Tricky Women/Tricky Realities\nInter­na­tio­nal Ani­ma­ti­on Filmfestival\nMarch 9–13\, 2022 \nFemi­nis­tisch\, divers\, lei­den­schaft­lich: Seit 2001 enga­giert sich Tri­cky Women/Tricky Rea­li­ties dafür den künst­le­ri­schen Ani­ma­ti­ons­film von Frau­en* sicht­bar zu machen. Die­se Aus­rich­tung ist ein­zig­ar­tig in der inter­na­tio­na­len Festivallandschaft. \nEnd­lich wie­der im Kino! Und Online! Vom 9. bis 13. März fei­ert Tri­cky Women/Tricky Rea­li­ties 2022 die Strahl­kraft\, den Witz und die Viel­falt des Ani­ma­ti­ons­films von Frau­en* mit einer hybri­den Fes­ti­val­aus­ga­be. Wir freu­en uns schon sehr auf Film­pro­gram­me\, Lec­tures und Künster:innengepräche in unse­rem Fes­ti­val­ki­no dem Metro Kino­kul­tur­haus\, die Eröff­nung im Gar­ten­bau­ki­no\, sowie Vor­trä­ge und Pro­gram­me im Öster­rei­chi­schen Film­mu­se­um und in der Brun­nen­pas­sa­ge und online auf unse­rer Festivalplattform. \nZum Fes­ti­val­pro­gramm geht es hier: www.trickywomen.at. \n#twtr2022\n#tri­cky­wo­men­tri­cky­rea­li­ties
URL:https://8maerz.at/veranstaltung/tricky-women-tricky-realities-2022/
LOCATION:Wien\, Österreich
GEO:48.2081743;16.3738189
END:VEVENT
END:VCALENDAR