BEGIN:VCALENDAR
VERSION:2.0
PRODID:-//8. März - ECPv6.15.17.1//NONSGML v1.0//EN
CALSCALE:GREGORIAN
METHOD:PUBLISH
X-ORIGINAL-URL:https://8maerz.at
X-WR-CALDESC:Veranstaltungen für 8. März
REFRESH-INTERVAL;VALUE=DURATION:PT1H
X-Robots-Tag:noindex
X-PUBLISHED-TTL:PT1H
BEGIN:VTIMEZONE
TZID:Europe/Vienna
BEGIN:DAYLIGHT
TZOFFSETFROM:+0100
TZOFFSETTO:+0200
TZNAME:CEST
DTSTART:20230326T010000
END:DAYLIGHT
BEGIN:STANDARD
TZOFFSETFROM:+0200
TZOFFSETTO:+0100
TZNAME:CET
DTSTART:20231029T010000
END:STANDARD
BEGIN:DAYLIGHT
TZOFFSETFROM:+0100
TZOFFSETTO:+0200
TZNAME:CEST
DTSTART:20240331T010000
END:DAYLIGHT
BEGIN:STANDARD
TZOFFSETFROM:+0200
TZOFFSETTO:+0100
TZNAME:CET
DTSTART:20241027T010000
END:STANDARD
BEGIN:DAYLIGHT
TZOFFSETFROM:+0100
TZOFFSETTO:+0200
TZNAME:CEST
DTSTART:20250330T010000
END:DAYLIGHT
BEGIN:STANDARD
TZOFFSETFROM:+0200
TZOFFSETTO:+0100
TZNAME:CET
DTSTART:20251026T010000
END:STANDARD
END:VTIMEZONE
BEGIN:VEVENT
DTSTART;TZID=Europe/Vienna:20240307T170000
DTEND;TZID=Europe/Vienna:20240307T220000
DTSTAMP:20260422T132853
CREATED:20240203T233821Z
LAST-MODIFIED:20240205T204013Z
UID:10004093-1709830800-1709848800@8maerz.at
SUMMARY:m/others Frauentagsparty
DESCRIPTION:Ear­ly Club­bing mit stünd­lich neu­en DJs aus der m/o­thers-Com­mu­ni­ty. \nm/others erwei­tert ihren „Raum für femi­nis­ti­sche Müt­ter*“ auf den Club-Kel­ler der legen­dä­ren THE HIVE Que­er­bar am Nasch­markt! Gemein­sam fei­ern wir den 8. März schon am Tag davor zu baby­sit­ting­freund­li­chen Uhr­zei­ten von 17–22 Uhr. Offen für alle FLINTA* Personen. \nTHE HIVE (Insta­gram: @hive_vie) besteht aus ent­spann­ter Knei­pe\, chil­li­gem Loun­ge­be­reich\, lie­be­voll gemix­ten Cock­tails und Drinks sowie dem uns ver­füg­ba­rem Club-Kel­ler mit – einem uto­pi­schen Ort\, der sich aus Aus­ge­las­sen­heit und Lie­be zusam­men­setzt und an wel­chem Zeit nicht exis­tiert. Des­halb kön­nen wir getrost schon um 17:00 Uhr zu tan­zen beginnen. \nSafe­ty: Die Que­erbR THE HIVE ver­steht sich als eine all-gen­der-Begeg­nungs­zo­ne. Selbst­ver­ständ­lich gibt es all-gen­der-Toi­let­ten. Das Team vor Ort ist dei­ne Anlauf­stel­le wenn du dich nicht wohl oder sicher fühlst. Bar­rie­re­frei ist im Lokal gar nix. Vor dem Ein­gang und dem Schank­be­reich gibt es jeweils eine Stu­fe\, zum engen WC sind es 5 Stu­fen und in den Kel­ler führt eine Wen­del­trep­pe. Bit­te gib uns über hallo@mothers.at Bescheid\, wie wir dich unter­stüt­zen kön­nen\, den Abend trotz­dem zu genießen. \nEin­tritt frei – Kon­sum erbeten! \nSujet © m/others
URL:https://8maerz.at/veranstaltung/m-others-frauentagsparty/
LOCATION:The Hive\, Magdalenenstraße 2\, Wien\, Wien\, 1060\, Österreich
ATTACH;FMTTYPE=image/jpeg:https://8maerz.at/wp-content/uploads/sites/20/2024/02/m-others-frauentagsparty-2024.jpeg
END:VEVENT
BEGIN:VEVENT
DTSTART;TZID=Europe/Vienna:20240307T173000
DTEND;TZID=Europe/Vienna:20240307T220000
DTSTAMP:20260422T132854
CREATED:20240127T221832Z
LAST-MODIFIED:20240127T221925Z
UID:10004091-1709832600-1709848800@8maerz.at
SUMMARY:Frauen*fest: FRAU* LEBEN FREIHEIT
DESCRIPTION:7. März 2024 | 17:30 Uhr\nVHS Döb­ling\, Gat­ter­burgg. 2A\, 1190 Wien \nMit Musik\, Tanz\, Per­for­mance und vie­lem mehr wol­len wir an die­sem Abend ein Zei­chen für die Soli­da­ri­tät set­zen und die Kraft und Stär­ke von Frau­en* aus aller Welt feiern. \nKünstler*innen:\nNas­rin Hob­bi & Ensemble\nZahra Tavakoli\nBisan Dabke\nBar­ba­ra Alli und Band\nLiud­my­la Mieshkova\nDJ Leo Wang \nGruß­wor­te:\nKath­rin Gaál\, Vize­bür­ger­meis­te­rin Wien\nShou­ra Zehet­ner-Hash­e­mi\, Amnes­ty International\nAlex­an­dra Gröl­ler\, Dia­ko­nie Flüchtlingsdienst\nNilo­far Nadi­mi\, Dia­ko­nie Flüchtlingsdienst \nMit Musik\, Tanz und Mode aus dem Iran\, der Ukrai­ne\, Nige­ria\, Afgha­ni­stan\,  Paläs­ti­na uvm. \nFrei­er Eintritt. \nSujet © Dia­ko­nie Flüchtlingsdienst
URL:https://8maerz.at/veranstaltung/frauenfest-frau-leben-freiheit/
LOCATION:VHS Döbling\, Gatterburggasse 2a\, Wien\, 1190
ATTACH;FMTTYPE=image/jpeg:https://8maerz.at/wp-content/uploads/sites/20/2024/01/Frauenfest-2024-Diakonie.jpg
GEO:48.2389799;16.3500379
X-APPLE-STRUCTURED-LOCATION;VALUE=URI;X-ADDRESS=VHS Döbling Gatterburggasse 2a Wien 1190;X-APPLE-RADIUS=500;X-TITLE=Gatterburggasse 2a:geo:16.3500379,48.2389799
END:VEVENT
BEGIN:VEVENT
DTSTART;TZID=Europe/Vienna:20240308T190000
DTEND;TZID=Europe/Vienna:20240308T220000
DTSTAMP:20260422T132854
CREATED:20240309T151316Z
LAST-MODIFIED:20240309T151316Z
UID:10004198-1709924400-1709935200@8maerz.at
SUMMARY:„Frauen des Jahres“ – Preisverleihung
DESCRIPTION:08.03.2024 | „Frau­en des Jah­res“ – Preisverleihung\n19:00 Uhr (Ein­lass ab 18.30) | in der Haus­wirt­schaft\, Bru­no-Marek-Allee 5\, Tür 1\, 1020 Wien | \nZum Inter­na­tio­na­len Frau­en­kampf­tag ver­lei­hen die Grü­nen Leo­pold­stadt wie­der den Preis für die „Frau­en des Jah­res“ an loka­le Akteur:innen\, die eine wich­ti­ge Säu­le für ein gutes Mit­ein­an­der und die Lebens­qua­li­tät in den Grätzln sind. | \nAnmel­dung ist nicht erfor­der­lich | sie­he auch: www.facebook.com/events/FrauenDesJahres
URL:https://8maerz.at/veranstaltung/frauen-des-jahres-preisverleihung/
LOCATION:Hauswirtschaft\, Bruno-Marek-Allee 5/1\, Wien\, 1020
END:VEVENT
BEGIN:VEVENT
DTSTART;TZID=Europe/Vienna:20240308T190000
DTEND;TZID=Europe/Vienna:20240308T235000
DTSTAMP:20260422T132854
CREATED:20240306T210337Z
LAST-MODIFIED:20240306T210637Z
UID:10004188-1709924400-1709941800@8maerz.at
SUMMARY:Club U zum feministischen Kampftag
DESCRIPTION:@muschik­raft\, @girlstown_party und @clubu.karlundotto sto­ßen am 08.03. auf die bis­he­ri­gen Errun­gen­schaf­ten des Femi­nis­mus an und atmen ein­mal kurz durch um dann wei­ter mit aller Muschik­raft gegen das Patri­ar­chat vorzugehen. \nMuschik­raft wur­de am 08.03.2022 gegrün­det und fei­ert daher gleich­zei­tig das 2‑Jah­res-Jubi­lä­um. Tickets über @girlstown_party. \nKommt direkt nach der 8. März Demo zu uns es wird ab 19:00 Uhr auf der Ter­as­se vom Club U gemein­sam mit lei­wi Auf­le­ge­rei und Muschi­craft Bier drau­ßen losgehen. \nDie Ver­an­stal­tung ist eine FLIN­TA-Par­ty. Wir ver­ste­hen uns als ein Schutz­raum für Frau­en\, Les­ben\, inter\, nicht­bi­nä­ren\, trans\, bise­xu­el­len und agen­der Per­so­nen. Freun­de sind willkommen!\nUnse­re Türsteher:innen haben jedoch das Recht\, Beglei­tun­gen\, die nicht pas­send schei­nen\, den Zutritt zu verwehren. \nEin Teil des Erlö­ses geht an den Ver­ein der auto­no­men Frauenhäuser. \nIn die­sem Sin­ne: Femi­nis­mus is unser aller Bier & auf bald! \nInfos und Sujet © muschicraft
URL:https://8maerz.at/veranstaltung/club-u-zum-feministischen-kampftag/
LOCATION:Club U\, Karlsplatz Obj. U26\, Wien\, 1010
ATTACH;FMTTYPE=image/jpeg:https://8maerz.at/wp-content/uploads/sites/20/2024/03/Club-U_muschikraft_8Maerz24.jpg
END:VEVENT
BEGIN:VEVENT
DTSTART;TZID=Europe/Vienna:20240309T103000
DTEND;TZID=Europe/Vienna:20240309T140000
DTSTAMP:20260422T132854
CREATED:20240121T200321Z
LAST-MODIFIED:20240121T200914Z
UID:10004056-1709980200-1709992800@8maerz.at
SUMMARY:bdfö-frauen*frühstück extended
DESCRIPTION:sams­tag\, 9. märz\, 10.30 – 14 uhr\nfrau­en­hetz (1030\, unte­re weiss­ger­ber­str. 41) \nbdfö-frauen*frühstück exten­ded. \nfei­er zum inter­na­tio­na­len frauentag!\nein­ge­la­den sind beson­ders unse­re ira­ni­schen\, afgha­ni­schen und kur­di­schen freun­din­nen\, sowie unse­re frie­dens­freun­din­nen von WILPF. \ngenaue­res pro­gramm wird noch bekannt gegeben.
URL:https://8maerz.at/veranstaltung/bdfoe-frauenfruehstueck-extended/
LOCATION:Frauenhetz\, Untere Weißgerberstraße 41\, Wien\, 1030
GEO:48.2084854;16.3946163
X-APPLE-STRUCTURED-LOCATION;VALUE=URI;X-ADDRESS=Frauenhetz Untere Weißgerberstraße 41 Wien 1030;X-APPLE-RADIUS=500;X-TITLE=Untere Weißgerberstraße 41:geo:16.3946163,48.2084854
END:VEVENT
END:VCALENDAR