BEGIN:VCALENDAR
VERSION:2.0
PRODID:-//8. März - ECPv6.15.20//NONSGML v1.0//EN
CALSCALE:GREGORIAN
METHOD:PUBLISH
X-WR-CALNAME:8. März
X-ORIGINAL-URL:https://8maerz.at
X-WR-CALDESC:Veranstaltungen für 8. März
REFRESH-INTERVAL;VALUE=DURATION:PT1H
X-Robots-Tag:noindex
X-PUBLISHED-TTL:PT1H
BEGIN:VTIMEZONE
TZID:Europe/Vienna
BEGIN:DAYLIGHT
TZOFFSETFROM:+0100
TZOFFSETTO:+0200
TZNAME:CEST
DTSTART:20180325T010000
END:DAYLIGHT
BEGIN:STANDARD
TZOFFSETFROM:+0200
TZOFFSETTO:+0100
TZNAME:CET
DTSTART:20181028T010000
END:STANDARD
BEGIN:DAYLIGHT
TZOFFSETFROM:+0100
TZOFFSETTO:+0200
TZNAME:CEST
DTSTART:20190331T010000
END:DAYLIGHT
BEGIN:STANDARD
TZOFFSETFROM:+0200
TZOFFSETTO:+0100
TZNAME:CET
DTSTART:20191027T010000
END:STANDARD
BEGIN:DAYLIGHT
TZOFFSETFROM:+0100
TZOFFSETTO:+0200
TZNAME:CEST
DTSTART:20200329T010000
END:DAYLIGHT
BEGIN:STANDARD
TZOFFSETFROM:+0200
TZOFFSETTO:+0100
TZNAME:CET
DTSTART:20201025T010000
END:STANDARD
END:VTIMEZONE
BEGIN:VEVENT
DTSTART;TZID=Europe/Vienna:20190402T190000
DTEND;TZID=Europe/Vienna:20190402T210000
DTSTAMP:20260425T233025
CREATED:20190331T193003Z
LAST-MODIFIED:20190331T193003Z
UID:10003552-1554231600-1554238800@8maerz.at
SUMMARY:Podiumsdiskussion: Sprache\, Recht und Geschlecht
DESCRIPTION:Spra­che\, Recht und Geschlecht \nDie Spra­che des Rechts schafft Lebens­rea­li­tä­ten in Bezug auf Geschlechts­zu­schrei­bung und Geschlechts­iden­ti­tät. Am 15. Juni 2018 hat der Ver­fas­sungs­ge­richts­hof ent­schie­den\, dass Men­schen in Öster­reich ein Recht auf indi­vi­du­el­le Geschlechts­iden­ti­tät zuge­stan­den wer­den muss. Staat­li­che Geschlechts­zu­schrei­bung und indi­vi­du­el­le Geschlechts­iden­ti­tät sol­len auch in der Rechts­spra­che ange­mes­sen abge­bil­det wer­den (z.B. inter\, divers oder offen statt männ­lich oder weib­lich). Men­schen sol­len also nur sol­che Geschlechts­zu­schrei­bun­gen akzep­tie­ren müs­sen\, die auch ihrer tat­säch­li­chen Geschlechts­iden­ti­tät ent­spre­chen. In die­ser Podi­ums­dis­kus­si­on befas­sen wir uns mit den Her­aus­for­de­run­gen staat­li­cher Geschlechts­zu­schrei­bung und sprach­li­cher Gleich­be­hand­lung in Rechts­tex­ten und Urkun­den. Begüns­tigt die Rechts­spra­che Ungleich­heit auf­grund des Geschlechts? Wie kann Geschlechts­zu­ge­hö­rig­keit heu­te in Rechts­tex­ten adäquat rea­li­siert werden? \nDie Öster­rei­chi­sche Gesell­schaft für Rechts­lin­gu­is­tik (ÖGRL) beschäf­tigt sich im Rah­men der Par­ti­zi­pa­ti­ons­for­schung mit den zeit­ge­nös­si­schen Her­aus­for­de­run­gen der Rechts­spra­che in Öster­reich und Europa. \nIn Koope­ra­ti­on mit den Büche­rei­en Wien
URL:https://8maerz.at/veranstaltung/podiumsdiskussion-sprache-recht-und-geschlecht/
LOCATION:Hauptbücherei Wien\, Urban-Loritzplatz 2a\, Wien\, Wien\, 1070\, Österreich
GEO:48.203018;16.3372142
X-APPLE-STRUCTURED-LOCATION;VALUE=URI;X-ADDRESS=Hauptbücherei Wien Urban-Loritzplatz 2a Wien Wien 1070 Österreich;X-APPLE-RADIUS=500;X-TITLE=Urban-Loritzplatz 2a:geo:16.3372142,48.203018
END:VEVENT
BEGIN:VEVENT
DTSTART;TZID=Europe/Vienna:20190403T190000
DTEND;TZID=Europe/Vienna:20190403T213000
DTSTAMP:20260425T233025
CREATED:20190329T205533Z
LAST-MODIFIED:20190329T205549Z
UID:10003549-1554318000-1554327000@8maerz.at
SUMMARY:Talk Patriarchy - Spanbauer\, Susemichel\, Maurer
DESCRIPTION:DISORDER UNDER HELL \nVanes­sa Span­bau­er\, Lea Sus­e­mi­chel und Sigi Mau­rer diskutieren: \nOur situa­ti­on is dan­ge­rous\, the­re are uncer­tain­ties and ele­ments of cha­os in our patri­ar­chal socie­ty\, in gen­der rela­ti­ons\, in white pri­vi­le­ge\, in sexu­al rela­ti­ons… But it is here that we should remem­ber bell hooks’ old mot­to: “We have to con­stant­ly cri­tique impe­ria­list white supre­macist patri­ar­chal cul­tu­re becau­se it is nor­ma­li­zed by mass media and ren­de­red unpro­ble­ma­tic.” Let’s not lose ner­ves\, let’s exploit the con­fu­si­on as a chan­ce to pro­po­se a new radi­cal vision. \nDanach: Stand-Up von Denice Bour­bon\nLesung von Ste­fa­nie Sargnagel \n3. April\, 19:00–21:30 Uhr\nFH Cam­pus Wien Vien­na Bio­cen­ter\, Hel­mut-Qual­tin­ger-Gas­se 2\, 1030 Wien \nTeil­nah­me gegen freie Spen­de\, ver­pflich­ten­de Anmel­dung unter\nreservierung@maletears.at
URL:https://8maerz.at/veranstaltung/talk-patriarchy-spanbauer-susemichel-maurer/
LOCATION:FH Campus Wien Vienna Biocenter\, Helmut-Qualtinger-Gasse 2\, Wien\, Wien\, 1030\, Österreich
ORGANIZER;CN="Frauen*Volksbegehren":MAILTO:office@frauenvolksbegehren.at
GEO:48.1884595;16.4029263
X-APPLE-STRUCTURED-LOCATION;VALUE=URI;X-ADDRESS=FH Campus Wien Vienna Biocenter Helmut-Qualtinger-Gasse 2 Wien Wien 1030 Österreich;X-APPLE-RADIUS=500;X-TITLE=Helmut-Qualtinger-Gasse 2:geo:16.4029263,48.1884595
END:VEVENT
BEGIN:VEVENT
DTSTART;TZID=Europe/Vienna:20190405T180000
DTEND;TZID=Europe/Vienna:20190405T193000
DTSTAMP:20260425T233025
CREATED:20190331T202227Z
LAST-MODIFIED:20190331T202530Z
UID:10003566-1554487200-1554492600@8maerz.at
SUMMARY:Podiumsdiskussion: Hass im Netz
DESCRIPTION:Vier hoch­ka­rä­ti­ge Exper­tin­nen und Exper­ten ihrer jewei­li­gen Fach­be­rei­che (Poli­tik\, Wis­sen­schaft\, Opfer­hil­fe und Täter­ar­beit) dis­ku­tie­ren zum The­ma Hass im Netz: \nSig­rid Mau­rer\, ehem. Poli­ti­ke­rin der Günen und per­sön­lich Betroffene \nFritz Haus­jell\, stv. Insti­tuts­vor­stand der Publi­zis­tik- und Kom­mu­ni­ka­ti­ons­wis­sen­schaft an der Uni Wien und stv. Vor­sit­zen­der der BSA Mediengruppe \nDina Nach­baur\, Geschäfts­füh­re­rin beim Weis­sen Ring – Verbrechensopferhilfe.\nhttp://www.weisser-ring.at \nNiko­laus Tse­kas\, Lei­ter von NEUSTART Wien\nhttps://www.neustart.at \nMode­ra­ti­on: Flo­ri­an Brand \nThe­men­be­rei­che:\nWas ist Hass im Netz (und was nicht)?\nWel­che Funk­tio­nen erfüllt Hass im Netz auf indi­vi­du­el­ler und gesell­schaft­li­cher Ebene?\nWie lässt sich Hass im Netz effek­tiv bekämpfen?\nSind die aktu­el­len (und geplan­ten) gesetz­li­chen Bestim­mun­gen ausreichend? \nAblauf:\nEin­lass: ab 17:00 Uhr\nDis­kus­si­on: ab 18:00 Uhr\nPubli­kums­fra­gen: ab ca. 19:00 Uhr\nEnde: gegen 19:30 Uhr\nEin­tritt frei.
URL:https://8maerz.at/veranstaltung/podiumsdiskussion-hass-im-netz/
LOCATION:SPÖ Neubau\, Lindengasse 64\, Wien\, Wien\, 1070\, Österreich
GEO:48.1991861;16.3433843
X-APPLE-STRUCTURED-LOCATION;VALUE=URI;X-ADDRESS=SPÖ Neubau Lindengasse 64 Wien Wien 1070 Österreich;X-APPLE-RADIUS=500;X-TITLE=Lindengasse 64:geo:16.3433843,48.1991861
END:VEVENT
END:VCALENDAR