BEGIN:VCALENDAR
VERSION:2.0
PRODID:-//8. März - ECPv6.15.20//NONSGML v1.0//EN
CALSCALE:GREGORIAN
METHOD:PUBLISH
X-ORIGINAL-URL:https://8maerz.at
X-WR-CALDESC:Veranstaltungen für 8. März
REFRESH-INTERVAL;VALUE=DURATION:PT1H
X-Robots-Tag:noindex
X-PUBLISHED-TTL:PT1H
BEGIN:VTIMEZONE
TZID:Europe/Vienna
BEGIN:DAYLIGHT
TZOFFSETFROM:+0100
TZOFFSETTO:+0200
TZNAME:CEST
DTSTART:20180325T010000
END:DAYLIGHT
BEGIN:STANDARD
TZOFFSETFROM:+0200
TZOFFSETTO:+0100
TZNAME:CET
DTSTART:20181028T010000
END:STANDARD
BEGIN:DAYLIGHT
TZOFFSETFROM:+0100
TZOFFSETTO:+0200
TZNAME:CEST
DTSTART:20190331T010000
END:DAYLIGHT
BEGIN:STANDARD
TZOFFSETFROM:+0200
TZOFFSETTO:+0100
TZNAME:CET
DTSTART:20191027T010000
END:STANDARD
BEGIN:DAYLIGHT
TZOFFSETFROM:+0100
TZOFFSETTO:+0200
TZNAME:CEST
DTSTART:20200329T010000
END:DAYLIGHT
BEGIN:STANDARD
TZOFFSETFROM:+0200
TZOFFSETTO:+0100
TZNAME:CET
DTSTART:20201025T010000
END:STANDARD
END:VTIMEZONE
BEGIN:VEVENT
DTSTART;TZID=Europe/Vienna:20190312T200000
DTEND;TZID=Europe/Vienna:20190312T220000
DTSTAMP:20260426T033516
CREATED:20190311T184303Z
LAST-MODIFIED:20190311T184339Z
UID:10003403-1552420800-1552428000@8maerz.at
SUMMARY:4. Nachtgespräch über Antidiskriminierung
DESCRIPTION:Das vier­te Nacht­ge­spräch in Meid­ling wid­met sich kurz nach dem Welt­frau­en­tag der Anti­dis­kri­mi­nie­rung. Zu Gast sind Maria Lee-Nowot­ny\, Uni:docs-Forscherin und Uni­ver­si­täts­as­sis­ten­tin am Insti­tut für Rechts­phi­lo­so­phie der Uni­ver­si­tät Wien und Hans Die­ter Schind­lau­er\, Geschäfts­füh­rer von ZARA\, Ver­ein für Zivil­cou­ra­ge und Anti-Ras­sis­mus-Arbeit. Das Gespräch mode­riert Ange­li­ka Kurz\, Dis­ser­tan­tin am Juri­di­cum der Uni­ver­si­tät Wien. \n\nWie ist struk­tu­rel­le Benach­tei­li­gung wis­sen­schaft­lich fass­bar? Wie kann sie recht­lich ein­ge­ord­net und sank­tio­niert wer­den? Wel­chen Her­aus­for­de­run­gen steht die prak­ti­sche Anti­dis­kri­mi­nie­rungs­ar­beit heu­te gegenüber? \nAnmel­dun­gen wer­den unter courtroom@gmx.at entgegengenommen.
URL:https://8maerz.at/veranstaltung/4-nachtgesprach-uber-antidiskriminierung/
LOCATION:Bezirksgericht Meidling\, Schönbrunner Str. 222-228/3/5.OG\, Wien\, Wien\, 1120\, Österreich
GEO:48.1835193;16.3282687
X-APPLE-STRUCTURED-LOCATION;VALUE=URI;X-ADDRESS=Bezirksgericht Meidling Schönbrunner Str. 222-228/3/5.OG Wien Wien 1120 Österreich;X-APPLE-RADIUS=500;X-TITLE=Schönbrunner Str. 222-228/3/5.OG:geo:16.3282687,48.1835193
END:VEVENT
BEGIN:VEVENT
DTSTART;TZID=Europe/Vienna:20190313T183000
DTEND;TZID=Europe/Vienna:20190313T203000
DTSTAMP:20260426T033517
CREATED:20190311T192015Z
LAST-MODIFIED:20190311T192015Z
UID:10003405-1552501800-1552509000@8maerz.at
SUMMARY:Release: Verfassungslos # 2
DESCRIPTION:RELEASE Ver­fas­sungs­los # 2\, 13. März\, 18:30 Uhr\, Sem10\, Juridicum \nDie zwei­te Aus­ga­be von Ver­fas­sungs­los ist da. Gleich­heits­wid­ri­ge Maß­nah­men\, exten­si­ve Grund­rechts­ein­grif­fe und der „neue“\, fast schon par­la­ments­feind­li­che Stil in Gesetz­ge­bungs­ver­fah­ren sind ent­schie­de­ne Angrif­fe auf unse­re Demo­kra­tie und den Rechts­staat. Es wird ana­ly­siert\, was juris­tisch dahin­ter steht\, und wie die­se Maß­nah­men über­haupt mit der Ver­fas­sung und den inter­na­tio­na­len Ver­pflich­tun­gen Öster­reichs ver­ein­bar sind. \nBei die­ser Prä­sen­ta­ti­ons­ver­an­stal­tung wird über die grö­ße­ren Zusam­men­hän­ge zwi­schen der aktu­el­len Rechts­po­li­tik sowie Öko­no­mie\, Geschlecht­er­ord­nung und ras­sis­ti­scher Dis­kri­mi­nie­rung gespro­chen. Auch  die­se über­ge­ord­ne­ten Per­spek­ti­ven\, die am Juri­di­cum viel zu kurz kom­men\, sol­len hier Raum finden. \nZu Gast sind Lukas Obern­dor­fer und Nico­le Schöndorfer.
URL:https://8maerz.at/veranstaltung/release-verfassungslos-2/
LOCATION:Juridicum – Rechtswissenschaftliche Fakultät der Universität Wien\, Schottenbastei 10-16\, Wien\, 1010
GEO:48.2139758;16.3650598
X-APPLE-STRUCTURED-LOCATION;VALUE=URI;X-ADDRESS=Juridicum – Rechtswissenschaftliche Fakultät der Universität Wien Schottenbastei 10-16 Wien 1010;X-APPLE-RADIUS=500;X-TITLE=Schottenbastei 10-16:geo:16.3650598,48.2139758
END:VEVENT
END:VCALENDAR