BEGIN:VCALENDAR
VERSION:2.0
PRODID:-//8. März - ECPv6.15.20//NONSGML v1.0//EN
CALSCALE:GREGORIAN
METHOD:PUBLISH
X-ORIGINAL-URL:https://8maerz.at
X-WR-CALDESC:Veranstaltungen für 8. März
REFRESH-INTERVAL;VALUE=DURATION:PT1H
X-Robots-Tag:noindex
X-PUBLISHED-TTL:PT1H
BEGIN:VTIMEZONE
TZID:UTC
BEGIN:STANDARD
TZOFFSETFROM:+0000
TZOFFSETTO:+0000
TZNAME:UTC
DTSTART:20180101T000000
END:STANDARD
END:VTIMEZONE
BEGIN:VEVENT
DTSTART;TZID=UTC:20190224T100000
DTEND;TZID=UTC:20190224T140000
DTSTAMP:20260426T033517
CREATED:20190126T102406Z
LAST-MODIFIED:20190126T103656Z
UID:10003435-1551002400-1551016800@8maerz.at
SUMMARY:Time is up - Die Gleichstellungsfilmreihe des abz*circle
DESCRIPTION:Der ABZ*CIRCLE\, das über­par­tei­li­che Netz­werk für Frau­en aus Wirt­schaft\, Bil­dung und Ver­wal­tung\, lädt ein zur Film­rei­he über Gleich­stel­lung\, Frau­en und ihre indi­vi­du­el­len Lebensentwürfe. \nAnläss­lich von 100 Jah­ren Frau­en­wahl­recht ver­an­stal­tet der ABZ*CIRCLE 2019 eine Film­rei­he zum The­ma Gleich­stel­lung. Gezeigt wer­den Fil­me von Frau­en\, denen ein selbst­be­stimm­ter Weg nicht von vorn­her­ein gege­ben war\, die aber durch die Art und Wei­se\, wie sie ihr Leben gemeis­tert haben\, heu­te noch inspirieren. \nDen Auf­takt am 24. Febru­ar 2019 macht der Kino­film „Astrid“\, die Ver­fil­mung der Lebens­ge­schich­te der Kin­der­buch­au­to­rin Astrid Lind­gren\, bevor sie zu einer der berühm­tes­ten Schrift­stel­le­rin­nen der Welt wur­de. „Astrid Lind­gren hat Gene­ra­tio­nen von Mäd­chen geprägt und ihnen gezeigt\, dass die Scha­blo­ne\, in die sie glau­ben pas­sen zu müs­sen\, gesprengt wer­den kann“\, schreibt Han­na Herbst in ihrer Rezen­si­on auf derstandard.at. \nIm Anschluss an den Film dis­ku­tie­ren Anna Stei­ger\, Vize­rek­to­rin der TU Wien und Lena Jäger\, Pro­jekt­lei­te­rin des Frau­en­volks­be­geh­rens zum The­ma „Die Welt braucht viel mehr Pip­pi Lang­strumpf“. Aus­klang bei Sekt und inter­es­san­ten Gesprächen! \nDer Film wird in deut­scher Fas­sung gezeigt.
URL:https://8maerz.at/veranstaltung/time-is-up-die-gleichstellungsfilmreihe-des-abzcircle/
LOCATION:Top Kino\, Rahlgasse 1\, Wien\, 1060
GEO:48.2012244;16.361548
X-APPLE-STRUCTURED-LOCATION;VALUE=URI;X-ADDRESS=Top Kino Rahlgasse 1 Wien 1060;X-APPLE-RADIUS=500;X-TITLE=Rahlgasse 1:geo:16.361548,48.2012244
END:VEVENT
END:VCALENDAR