BEGIN:VCALENDAR
VERSION:2.0
PRODID:-//8. März - ECPv6.15.20//NONSGML v1.0//EN
CALSCALE:GREGORIAN
METHOD:PUBLISH
X-WR-CALNAME:8. März
X-ORIGINAL-URL:https://8maerz.at
X-WR-CALDESC:Veranstaltungen für 8. März
REFRESH-INTERVAL;VALUE=DURATION:PT1H
X-Robots-Tag:noindex
X-PUBLISHED-TTL:PT1H
BEGIN:VTIMEZONE
TZID:Europe/Vienna
BEGIN:DAYLIGHT
TZOFFSETFROM:+0100
TZOFFSETTO:+0200
TZNAME:CEST
DTSTART:20210328T010000
END:DAYLIGHT
BEGIN:STANDARD
TZOFFSETFROM:+0200
TZOFFSETTO:+0100
TZNAME:CET
DTSTART:20211031T010000
END:STANDARD
BEGIN:DAYLIGHT
TZOFFSETFROM:+0100
TZOFFSETTO:+0200
TZNAME:CEST
DTSTART:20220327T010000
END:DAYLIGHT
BEGIN:STANDARD
TZOFFSETFROM:+0200
TZOFFSETTO:+0100
TZNAME:CET
DTSTART:20221030T010000
END:STANDARD
BEGIN:DAYLIGHT
TZOFFSETFROM:+0100
TZOFFSETTO:+0200
TZNAME:CEST
DTSTART:20230326T010000
END:DAYLIGHT
BEGIN:STANDARD
TZOFFSETFROM:+0200
TZOFFSETTO:+0100
TZNAME:CET
DTSTART:20231029T010000
END:STANDARD
END:VTIMEZONE
BEGIN:VEVENT
DTSTART;TZID=Europe/Vienna:20220308T150000
DTEND;TZID=Europe/Vienna:20220308T190000
DTSTAMP:20260424T153727
CREATED:20220221T144355Z
LAST-MODIFIED:20220221T144355Z
UID:10003890-1646751600-1646766000@8maerz.at
SUMMARY:Aktion: Feministische Literatur zu verschenken
DESCRIPTION:Wir redu­zie­ren unse­re Biblio­thek und freu­en uns auf Besucher*innen\, die Inter­es­se für femi­nis­ti­sche Liter­tur haben. Kom­men Sie schmö­kern! Viel­leicht ist für Sie sogar das ver­schol­le­ne Lieb­lings­buch dabei. \nWann: am Frau­en­tag\, den 8. März 2022\, 15 bis 19 Uhr \nWo: Insti­tut Ina Biechl\, Hüt­tel­dor­fer Stra­ße 81b/Stiege 2/Top 3\, 1150 Wien
URL:https://8maerz.at/veranstaltung/aktion-feministische-literatur-zu-verschenken/
LOCATION:Institut Ina Biechl\, Hütteldorfer Straße 81b/Stiege 2/Top 3\, Wien\, Wien\, 1150\, Österreich
END:VEVENT
BEGIN:VEVENT
DTSTART;TZID=Europe/Vienna:20220308T190000
DTEND;TZID=Europe/Vienna:20220308T210000
DTSTAMP:20260424T153727
CREATED:20220308T165720Z
LAST-MODIFIED:20220308T165720Z
UID:10003932-1646766000-1646773200@8maerz.at
SUMMARY:Matriarchat und Staatskunst: mit Mieze Medusa und Dominika Meindl
DESCRIPTION:aus der Rei­he „Wir fei­ern Femi­nis­mus“ – Ver­an­stal­tun­gen rund um den 8. März der Büche­rei­en Wien \nSeit einem Jahr herrscht in der Bun­des­re­pu­blik Öster­reich das Matri­ar­chat. Aus­ge­ru­fen wur­de es von der seit 2017 amtie­ren­den Prä­si­den­tin Domi­ni­ka Meindl. Da sie auf­grund ihrer umfang­rei­chen Herr­sche­rin­nen­tä­tig­kei­ten selbst kaum noch dazu kommt\, ihrem »Brot«beruf nach­zu­ge­hen\, ernennt sie von nun an jähr­lich eine Groß- und Staats­künst­le­rin. Den Beginn macht – wenig über­ra­schend! – Mie­ze Medu­sa\, die Pio­nie­rin der öster­rei­chi­schen Slam-Poet­ry. »Die Kunst ist frei\, aber wenn sie nicht dem Matri­ar­chat dient\, kann sie nichts Gschei­tes sein«\, sagt Meindl. Am 8. März prä­sen­tiert Medu­sa ihr Oeu­vre dem Volk\, im Anschluss wird es zum Gespräch kommen. \nMie­ze Medu­sa ist Autorin\, Poet­ry Slam­me­rin und Rap­pe­rin. Zuletzt erschie­nen ist ihr Roman »Du bist dran«. Die Lie­be zu Rap ist in allen Text spür­bar: Die Tex­te sind bild­haft\, sprachmächtig\,\nsti­lis­tisch sou­ve­rän und immer im Flow. \nDomi­ni­ka Meindl ist seit 2017 selbst­er­nann­te Bun­des­prä­si­den­tin von Öster­reich. In ihrer Frei­zeit ist sie Schrift­stel­le­rin und Lei­te­rin der »Ori­gi­nal Lin­zer Wor­te«\, der dienst­äl­tes­ten Lese­büh­ne des Lan­des. Spre­che­rin der GAV OÖ.
URL:https://8maerz.at/veranstaltung/matriarchat-und-staatskunst-mit-mieze-medusa-und-dominika-meindl/
LOCATION:Hauptbücherei Wien\, Urban-Loritzplatz 2a\, Wien\, Wien\, 1070\, Österreich
GEO:48.203018;16.3372142
X-APPLE-STRUCTURED-LOCATION;VALUE=URI;X-ADDRESS=Hauptbücherei Wien Urban-Loritzplatz 2a Wien Wien 1070 Österreich;X-APPLE-RADIUS=500;X-TITLE=Urban-Loritzplatz 2a:geo:16.3372142,48.203018
END:VEVENT
BEGIN:VEVENT
DTSTART;TZID=Europe/Vienna:20220310T190000
DTEND;TZID=Europe/Vienna:20220310T210000
DTSTAMP:20260424T153727
CREATED:20220308T220023Z
LAST-MODIFIED:20220308T220023Z
UID:10003935-1646938800-1646946000@8maerz.at
SUMMARY:Buchpräsentation: "Mich hat nicht gewundert\, dass sie auf Mädchen steht."
DESCRIPTION:Lisa Boly­os\, Caro­li­na Frank:\nMich hat nicht gewun­dert\, dass sie auf Mäd­chen steht. Gesprä­che mit Eltern quee­rer Kinder\nAch­se Ver­lag 2021\, 280 Sei­ten\, 20 Euro\, ISBN 978−3−9504831−9−2 \nWie erle­ben Eltern das Coming-out ihrer les­bi­schen\, schwu­len\, bise­xu­el­len\, tran­si­den­ten\, inter­ge­schlecht­li­chen\, nicht-binä­ren Kin­der? War es immer schon klar\, kommt es uner­war­tet? Was irri­tiert\, was ver­un­si­chert die Eltern\, und auf wel­che Res­sour­cen kön­nen sie zurück­grei­fen\, um ihre Kin­der zu unterstützen? \nIn 18 Por­träts wid­men sich die Autorin Lisa Boly­os und die Foto­gra­fin Caro­li­na Frank der Eltern­per­spek­ti­ve aufs Coming-out von schwu­len\, les­bi­schen\, bise­xu­el­len\, trans*\, inter und non­bi­nä­ren Kindern. \nBuch­prä­sen­ta­ti­on in der WIENXTRA-Kinderinfo.\n10.03.2022\, 19:00\, Wien\nMuseumsQuartier/Hof 2\, Muse­ums­platz 1\, 1070 Wien \nLesung\, Gespräch & Dis­kus­si­on mit den Autor:innen \nEin­tritt frei
URL:https://8maerz.at/veranstaltung/buchpraesentation-mich-hat-nicht-gewundert-dass-sie-auf-maedchen-steht/
LOCATION:WIENXTRA-Kinderinfo\, MuseumsQuartier/Hof 2\, Museumsplatz 1\, Wien\, Wien\, 1070\, Österreich
END:VEVENT
BEGIN:VEVENT
DTSTART;TZID=Europe/Vienna:20220311T180000
DTEND;TZID=Europe/Vienna:20220311T200000
DTSTAMP:20260424T153727
CREATED:20220309T204726Z
LAST-MODIFIED:20220309T204821Z
UID:10003936-1647021600-1647028800@8maerz.at
SUMMARY:Lesung: Wimpernschlag – Kahlschlag
DESCRIPTION:Im Rah­men des inter­na­tio­na­len Frau­en­ta­ges­fin­det in den Räu­men der Frau­en­hetz eine Lesung der Schreib­grup­pen­teil­neh­me­rin­nen der IG femi­nis­ti­sche Autorin­nen und Sprach­Kunst statt. \nEs lesen:\nGer­lin­de Hacker: Schrift­stel­le­rin\, Lite­ra­tur­ak­ti­vis­tin\, Mul­ti-Media-Künst­le­rin\, Prä­si­den­tin der IG fem\, SprachKunst\nDoro­thea Point­ner: Autorin\, Publi­ka­ti­on von Lyrik und Kurz­pro­sa in diver­sen Medi­en\, zahl­rei­che Lesun­gen\, Mit­be­grün­de­rin IG fem\nWal­traud Schopf-Suchy: Thea­ter- und Dra­ma­päd­ago­gin\, Mit­glied IG fem\, Autorin (Lyrik\, Kurz­pro­sa\, Dramolette)\nJas­min Gerst­mayr: Autorin\, per­for­med Dia­lekt­ly­rik u.a. bei Poet­ry-Slams\, Unter­stüt­ze­rin der IG fem\nGer­da Sengst­bratl: Autorin\, Femi­nis­ti­sche Päd­ago­gik\, Schrei­ben mit Jugend­li­chen\, Mühl­vier­tel-Wald­vier­tel\, Gale­rie: MÜWA\, Aus­stel­lun­gen\, Krea­ti­ves Schrei­ben-Kur­se\, Lesun­gen. Malt auch. \nEine Ver­an­stal­tung der IG femi­nis­ti­sche Autorin­nen in Koope­ra­ti­on mit der Frau­en­hetz und SprachKunst. \nOrt Frau­en­hetz\, Unte­re Weiß­ger­ber­stra­ße 41\, 1030 Wien \nAnmel­dung: news@igfem.at\nEs gel­ten die der­zei­ti­gen Corona-Maßnahmen.
URL:https://8maerz.at/veranstaltung/lesung-wimpernschlag-kahlschlag/
LOCATION:Frauenhetz\, Untere Weißgerberstraße 41\, Wien\, 1030
GEO:48.2084854;16.3946163
X-APPLE-STRUCTURED-LOCATION;VALUE=URI;X-ADDRESS=Frauenhetz Untere Weißgerberstraße 41 Wien 1030;X-APPLE-RADIUS=500;X-TITLE=Untere Weißgerberstraße 41:geo:16.3946163,48.2084854
END:VEVENT
END:VCALENDAR