BEGIN:VCALENDAR
VERSION:2.0
PRODID:-//8. März - ECPv6.15.17.1//NONSGML v1.0//EN
CALSCALE:GREGORIAN
METHOD:PUBLISH
X-ORIGINAL-URL:https://8maerz.at
X-WR-CALDESC:Veranstaltungen für 8. März
REFRESH-INTERVAL;VALUE=DURATION:PT1H
X-Robots-Tag:noindex
X-PUBLISHED-TTL:PT1H
BEGIN:VTIMEZONE
TZID:Europe/Vienna
BEGIN:DAYLIGHT
TZOFFSETFROM:+0100
TZOFFSETTO:+0200
TZNAME:CEST
DTSTART:20230326T010000
END:DAYLIGHT
BEGIN:STANDARD
TZOFFSETFROM:+0200
TZOFFSETTO:+0100
TZNAME:CET
DTSTART:20231029T010000
END:STANDARD
BEGIN:DAYLIGHT
TZOFFSETFROM:+0100
TZOFFSETTO:+0200
TZNAME:CEST
DTSTART:20240331T010000
END:DAYLIGHT
BEGIN:STANDARD
TZOFFSETFROM:+0200
TZOFFSETTO:+0100
TZNAME:CET
DTSTART:20241027T010000
END:STANDARD
BEGIN:DAYLIGHT
TZOFFSETFROM:+0100
TZOFFSETTO:+0200
TZNAME:CEST
DTSTART:20250330T010000
END:DAYLIGHT
BEGIN:STANDARD
TZOFFSETFROM:+0200
TZOFFSETTO:+0100
TZNAME:CET
DTSTART:20251026T010000
END:STANDARD
END:VTIMEZONE
BEGIN:VEVENT
DTSTART;TZID=Europe/Vienna:20240308T140000
DTEND;TZID=Europe/Vienna:20240308T170000
DTSTAMP:20260420T153844
CREATED:20240301T234935Z
LAST-MODIFIED:20240301T235034Z
UID:10004162-1709906400-1709917200@8maerz.at
SUMMARY:Aktionistische Lesung der ≠igfem IG feministische Autorinnen
DESCRIPTION:Sich nicht dar­an gewöh­nen\, an die Rah­men\, an die Beschwich­ti­gun­gen. Frau­en ent­wer­fen sich selbst\, Frau­en schrei­ben die Welt\, denn Lite­ra­tur beschreibt nicht nur unse­re Wirk­lich­keit\, son­dern bringt die­se hervor.  \nLesen­de: Ger­lin­de Hacker\, Judith Haunold\, Ba Osse­ge\, Andrea Kers­t­in­ger\, Han­nah Oppol­zer\, Kat­rin Ober­ho­fer\, Ingrid Draxl\, Johan­na Schmidt\, Clau­dia Ander­sag\, Una Stei­ner\, Doro Pointner. \nDie IG femi­nis­ti­sche Autorin­nen ≠igfem for­dert eine femi­nis­ti­sche Agen­da in Lite­ra­tur\, Poli­tik und Öffent­lich­keit! Wir ver­ste­hen uns als Labor sowie Inter­es­sens­ge­mein­schaft von und für femi­nis­ti­sche und gesell­schafts­kri­ti­sche Autorin­nen. Und öff­nen – vir­tu­el­le – Räu­me\, damit Lite­ra­tur\, damit Kunst ent­ste­hen kann.
URL:https://8maerz.at/veranstaltung/aktionistische-lesung-der-ig-feministische-autorinnen/
LOCATION:Hauptbücherei Wien\, Urban-Loritzplatz 2a\, Wien\, Wien\, 1070\, Österreich
GEO:48.203018;16.3372142
X-APPLE-STRUCTURED-LOCATION;VALUE=URI;X-ADDRESS=Hauptbücherei Wien Urban-Loritzplatz 2a Wien Wien 1070 Österreich;X-APPLE-RADIUS=500;X-TITLE=Urban-Loritzplatz 2a:geo:16.3372142,48.203018
END:VEVENT
END:VCALENDAR