BEGIN:VCALENDAR
VERSION:2.0
PRODID:-//8. März - ECPv6.15.17.1//NONSGML v1.0//EN
CALSCALE:GREGORIAN
METHOD:PUBLISH
X-ORIGINAL-URL:https://8maerz.at
X-WR-CALDESC:Veranstaltungen für 8. März
REFRESH-INTERVAL;VALUE=DURATION:PT1H
X-Robots-Tag:noindex
X-PUBLISHED-TTL:PT1H
BEGIN:VTIMEZONE
TZID:Europe/Vienna
BEGIN:DAYLIGHT
TZOFFSETFROM:+0100
TZOFFSETTO:+0200
TZNAME:CEST
DTSTART:20210328T010000
END:DAYLIGHT
BEGIN:STANDARD
TZOFFSETFROM:+0200
TZOFFSETTO:+0100
TZNAME:CET
DTSTART:20211031T010000
END:STANDARD
BEGIN:DAYLIGHT
TZOFFSETFROM:+0100
TZOFFSETTO:+0200
TZNAME:CEST
DTSTART:20220327T010000
END:DAYLIGHT
BEGIN:STANDARD
TZOFFSETFROM:+0200
TZOFFSETTO:+0100
TZNAME:CET
DTSTART:20221030T010000
END:STANDARD
BEGIN:DAYLIGHT
TZOFFSETFROM:+0100
TZOFFSETTO:+0200
TZNAME:CEST
DTSTART:20230326T010000
END:DAYLIGHT
BEGIN:STANDARD
TZOFFSETFROM:+0200
TZOFFSETTO:+0100
TZNAME:CET
DTSTART:20231029T010000
END:STANDARD
END:VTIMEZONE
BEGIN:VEVENT
DTSTART;VALUE=DATE:20220301
DTEND;VALUE=DATE:20220309
DTSTAMP:20260422T014904
CREATED:20220301T232433Z
LAST-MODIFIED:20220301T232730Z
UID:10003915-1646092800-1646783999@8maerz.at
SUMMARY:Feministische Aktionswoche: Jeder Tag ist 8. März!
DESCRIPTION:Vom 1. bis zum 8. März star­tet eine Akti­ons­wo­che zum femi­nis­ti­schen Kampf­tag unter dem Mot­to: Jeder Tag ist 8. März! \nDas The­ma ist Aneig­nung des Öffent­li­chen Raums und Inter­sek­tio­na­li­tät. Wir müs­sen den patri­ar­chal gepräg­ten Raum aktiv umstruk­tu­rie­ren und wol­len poli­ti­sche Kämp­fe mit femi­nis­ti­scher Kri­tik verknüpfen! \nAlle Aktio­nen (aus­ge­nom­men Tan­zen am Karls­platz) sind für Frau­en\, Les­ben\, Inter‑\, Non-bina­ry\, Trans- und Agen­der-Per­so­nen (FLINTA*) only. \nDi\, 1.3.\, 19 Uhr: Tan­zen am Karlsplatz \nMi\, 2.3. 16 Uhr:  Ban­ner­ma­len und Sturm­hau­ben stri­cken am Held*innenplatz \nDo\, 3.3.\, 15 Uhr: Offe­nes Anti­fa Tref­fen FINTA*-Spaziergang\, Spittelau\n(Ströck in der U‑Bahn-Sta­ti­on) \nSa\, 5.3.\, 10 Uhr: FLINTA* Früh­stück\, Platz der Menschenrechte\nSa\, 5.3.: Graf­fi­ti auf lega­ler Wand (Ort und Zeit fol­gen noch) \nSo\, 6.3.\, 13–17 Uhr: Krei­de­ak­ti­on von Cat­calls of Vien­na\, Platz der\nMenschenrechte\nSo\, 6.3.\, 15–18 Uhr: FLINTA* Ska­ten & Haa­re schnei­den im öffentlichen\nRaum\, ehe­ma­li­ger Karlsplatz\nSo\, 6.3.\, 14 Uhr: offe­ne Sing­pro­be der Sire­nen vom „Can­ción sin mie­do“ (Lied\nohne Angst) im Ksssd \nMo\, 7.3.\, 14−16.30 Uhr: FLINTA* rage space im Augarten \nDi\, 8.3.: Femi­nis­ti­scher Kampftag \nFra­gen und Detail­in­fos zu den ein­zel­nen Ter­mi­nen per E‑Mail an die Organisator*innen: jedertagist8maerz@riseup.net
URL:https://8maerz.at/veranstaltung/feministische-aktionswoche-jeder-tag-ist-8-maerz/
LOCATION:diverse Veranstaltungsorte\, siehe Eintrag\, Wien\, Wien\, Österreich
ORGANIZER;CN="Jeder Tag ist 8. M%C3%A4rz":MAILTO:jedertagist8maerz@riseup.net
END:VEVENT
BEGIN:VEVENT
DTSTART;TZID=Europe/Vienna:20220308T150000
DTEND;TZID=Europe/Vienna:20220308T190000
DTSTAMP:20260422T014904
CREATED:20220221T144355Z
LAST-MODIFIED:20220221T144355Z
UID:10003890-1646751600-1646766000@8maerz.at
SUMMARY:Aktion: Feministische Literatur zu verschenken
DESCRIPTION:Wir redu­zie­ren unse­re Biblio­thek und freu­en uns auf Besucher*innen\, die Inter­es­se für femi­nis­ti­sche Liter­tur haben. Kom­men Sie schmö­kern! Viel­leicht ist für Sie sogar das ver­schol­le­ne Lieb­lings­buch dabei. \nWann: am Frau­en­tag\, den 8. März 2022\, 15 bis 19 Uhr \nWo: Insti­tut Ina Biechl\, Hüt­tel­dor­fer Stra­ße 81b/Stiege 2/Top 3\, 1150 Wien
URL:https://8maerz.at/veranstaltung/aktion-feministische-literatur-zu-verschenken/
LOCATION:Institut Ina Biechl\, Hütteldorfer Straße 81b/Stiege 2/Top 3\, Wien\, Wien\, 1150\, Österreich
END:VEVENT
BEGIN:VEVENT
DTSTART;TZID=Europe/Vienna:20220308T170000
DTEND;TZID=Europe/Vienna:20220308T200000
DTSTAMP:20260422T014904
CREATED:20220201T221504Z
LAST-MODIFIED:20220201T221504Z
UID:10003862-1646758800-1646769600@8maerz.at
SUMMARY:Demo: Internationaler feministischer Kampftag 2022
DESCRIPTION:Take Back The Streets Demo und Kund­ge­bung zum inter­na­tio­na­len femi­nis­ti­schen Kampf­tag am 8. März 2022 \nDie­ses Jahr legt Take Back The Streets den inhalt­li­chen Fokus auf das The­ma Soli­da­ri­tät. Die­ser Begriff wird häu­fig ver­kürzt ver­stan­den\, als die indi­vi­du­el­le Ein­zel­ver­ant­wor­tung von uns allen zu mehr gesell­schaft­li­chem Zusammenhalt.\nTake Back The Streets begreift Soli­da­ri­tät anders: Soli­da­ri­tät ist unse­re Waf­fe gegen Ver­ein­ze­lung. Es geht um das Ver­ständ­nis\, dass alle von Kapi­ta­lis­mus\, Pan­de­mie und Kri­sen unter­schied­lich betrof­fen sind. Soli­da­risch kämp­fen bedeu­tet\, die­se viel­fäl­ti­gen\, ungleich­zei­ti­gen Kämp­fe zu ver­knüp­fen und zusam­men zu führen. \nDetails sie­he hier. \nHygie­ne­kon­zept:\nAktu­el­ler PCR-Test\, zwei Meter Abstand hal­ten\, regel­mä­ßi­ge Hand­des­in­fek­ti­on und das Tra­gen einer FFP2-Maske \nRou­te:\nab Wien Mit­te bis Praterstern \nZeit­plan:\nRede­bei­trä­ge ab 17 Uhr\, Details: tba \nEs wird eine Kin­der­be­treu­ung vor Ort geben (tba).\nDie Demo ist offen für alle Geschlechter.\nAktu­el­le Infos am Demo­tag sel­ber unter: https://twitter.com/takeback8m
URL:https://8maerz.at/veranstaltung/demo-internationaler-feministischer-kampftag-2022/
LOCATION:Wien Mitte\, Wien\, 1030\, Österreich
END:VEVENT
BEGIN:VEVENT
DTSTART;TZID=Europe/Vienna:20220308T202000
DTEND;TZID=Europe/Vienna:20220308T222000
DTSTAMP:20260422T014904
CREATED:20220308T164951Z
LAST-MODIFIED:20220308T165034Z
UID:10003931-1646770800-1646778000@8maerz.at
SUMMARY:Zivilcourage im Licht der Kunst: Solidarität - zum 111. Internationalen Frauentag
DESCRIPTION:Zivil­cou­ra­ge im Licht der Kunst\n16. AKT\nSOLIDARITÄT\nzum 111. Inter­na­tio­na­len Frauentag \nDiens­tag\, 8. März 2022\nTreff­punkt 20:20 Uhr vor der U4-Sta­ti­on Stadtpark/Johannesgasse\nOrte auf Goog­le Maps \nPer­for­ma­ti­ve Kundgebungen:\nVic­to­ria Coeln\, Žiga Jereb\, Bri­git­te Böde­nau­er\, Simon Spit­zer\, Tini Tramp­ler & Play­back­dolls\, EsRAP\, Saki­na Tey­na\, Bas­ma Jabr\, Özlem Bulut \nGeför­dert durch:\nStadt Wien und Bezirks­kul­tur 3. und 8. Bezirk\nWie­ner Städ­ti­sche Versicherungsverein
URL:https://8maerz.at/veranstaltung/zivilcourage-im-licht-der-kunst-solidaritaet/
LOCATION:diverse Veranstaltungsorte\, siehe Eintrag\, Wien\, Wien\, Österreich
END:VEVENT
BEGIN:VEVENT
DTSTART;TZID=Europe/Vienna:20220309T111500
DTEND;TZID=Europe/Vienna:20220309T131500
DTSTAMP:20260422T014904
CREATED:20220302T000624Z
LAST-MODIFIED:20220302T001348Z
UID:10003918-1646824500-1646831700@8maerz.at
SUMMARY:Infostand der Grünen Meidling mit StoP - Stadtteile ohne Partnergewalt
DESCRIPTION:Info­stand der Grü­nen Meid­ling anläss­lich des Inter­na­tio­na­len Frauentags\nmit Kaf­fee und Kuchen\, zusam­men mit StoP – Stadt­tei­le ohne Part­ner­ge­walt Meidling \nOrt und Zeit; 9.3.2022\, 11:15–13:15 am Meid­lin­ger Markt
URL:https://8maerz.at/veranstaltung/infostand-der-gruenen-meidling-mit-stop-stadtteile-ohne-partnergewalt/
LOCATION:Meidlinger Markt\, zwischen Reschgasse und Niederhofstraße\, Wien\, Wien\, 1120\, Österreich
END:VEVENT
END:VCALENDAR