BEGIN:VCALENDAR
VERSION:2.0
PRODID:-//8. März - ECPv6.15.17.1//NONSGML v1.0//EN
CALSCALE:GREGORIAN
METHOD:PUBLISH
X-WR-CALNAME:8. März
X-ORIGINAL-URL:https://8maerz.at
X-WR-CALDESC:Veranstaltungen für 8. März
REFRESH-INTERVAL;VALUE=DURATION:PT1H
X-Robots-Tag:noindex
X-PUBLISHED-TTL:PT1H
BEGIN:VTIMEZONE
TZID:Europe/Vienna
BEGIN:DAYLIGHT
TZOFFSETFROM:+0100
TZOFFSETTO:+0200
TZNAME:CEST
DTSTART:20220327T010000
END:DAYLIGHT
BEGIN:STANDARD
TZOFFSETFROM:+0200
TZOFFSETTO:+0100
TZNAME:CET
DTSTART:20221030T010000
END:STANDARD
BEGIN:DAYLIGHT
TZOFFSETFROM:+0100
TZOFFSETTO:+0200
TZNAME:CEST
DTSTART:20230326T010000
END:DAYLIGHT
BEGIN:STANDARD
TZOFFSETFROM:+0200
TZOFFSETTO:+0100
TZNAME:CET
DTSTART:20231029T010000
END:STANDARD
BEGIN:DAYLIGHT
TZOFFSETFROM:+0100
TZOFFSETTO:+0200
TZNAME:CEST
DTSTART:20240331T010000
END:DAYLIGHT
BEGIN:STANDARD
TZOFFSETFROM:+0200
TZOFFSETTO:+0100
TZNAME:CET
DTSTART:20241027T010000
END:STANDARD
END:VTIMEZONE
BEGIN:VEVENT
DTSTART;TZID=Europe/Vienna:20230308T100000
DTEND;TZID=Europe/Vienna:20230308T103000
DTSTAMP:20260420T135551
CREATED:20230302T201503Z
LAST-MODIFIED:20230302T201906Z
UID:10004006-1678269600-1678271400@8maerz.at
SUMMARY:#keineBlumen: 8.März – frei für alle! Aktion & Kundgebung
DESCRIPTION:Am 8.März frei für alle! Komm vors Bun­des­mi­nis­te­ri­um für Arbeit und Wirt­schaft und zei­ge dei­nen Sup­port für unse­re Petition.\nDie­ses Jahr #kei­ne­Blu­men! \nAm 8. März fin­det seit mehr als 100 Jah­ren der Welt­frau­en­tag bzw. der femi­nis­ti­sche Kampf­tag statt. Er erin­nert an Erreich­tes und dar­an\, dass es noch vie­les zu tun gibt\, bevor alle Men­schen – unab­hän­gig von Geschlecht\, Her­kunft\, sexu­el­ler Ori­en­tie­rung\, Haut­far­be und Behin­de­rung – frei leben können. \nWas ist geplant?\nIm Rah­men unse­rer Peti­ti­on fin­det am 8.März vor dem Bun­des­mi­nis­te­ri­um für Arbeit und Wirt­schaft eine Akti­on & Kund­ge­bung statt.\nMit­zu­brin­gen sind: Eine Blu­me (Schnitt­blu­me\, plas­tik\, im Blu­men­topf) und dei­nen ganz per­sön­li­chen Grund\, war­um du fin­dest\, dass der 8.März ein Fei­er­tag wer­den muss.\nWir wer­den vor dem Minis­ter­um sym­bo­lisch einen Hau­fen Blu­men legen und dabei unse­re Gründe/Statements lesen.\nWir bit­ten dich nach der Akti­on dei­ne Blu­me wie­der mitz­neh­men\, um Umwelt­ver­schmut­zung und Ver­schwen­dung zu vermeiden. \nWie­so?\nWelt­weit ist der Inter­na­tio­na­le Frau­en­tag in 26 Län­dern ein Fei­er­tag. In Ber­lin wur­de er auf­grund einer Peti­ti­on 2019 zum gesetz­li­chen Fei­er­tag. Ab 2023 zieht auch Meck­len­burg-Vor­pom­mern nach. Höchs­te Zeit\, dass wir es unse­ren Nachbar*innen gleich­tun: Der Welt­frau­en­tag muss auch in Öster­reich ein gesetz­li­cher Fei­er­tag werden! \nEs geht nicht um einen Tag Urlaub oder einen arbeits­frei­en Tag nur für Frau­en. Der Welt­frau­en­tag ist ein Tag des Dan­kes\, Geden­kens und der Mah­nung\, dass der Kampf um Gleich­be­rech­ti­gung noch nicht vor­bei ist. Das betrifft uns alle\, unab­hän­gig von Geschlecht und Geschlechtsidentität. \nDes­halb schenkt uns die­ses Jahr kei­ne Blu­men\, son­dern eure Unterschrift!\n#kei­ne­Blu­men \nWer steht dahinter? \nDie Initia­to­rin­nen:\nSophie Tschan­nett\, Grün­de­rin Muschikraft\nSofia Sur­ma\, Grün­de­rin Vul­va Shop & Viva La Vulva \nMehr als 8 000 Men­schen haben bereits unter­schrie­ben. Unter­zeich­ne jetzt. \nLink zur Petition \nErstunterzeichner*innen:\nMade­lei­ne Ali­z­adeh\, Daria Daria\nVik­to­ria Spiel­frau\, Grü­ne Gemein­de­rä­tin und Landtagsabgeordnete\nJulia Gru­ber\, trinksaufmich\nKat­rin Grab­ner\, Vor­stands­mit­glied Viva La Vulva\nHan­nah May­lou\, MAYLOU\nTama­ra Fel­bin­ger\, Ver­ein Vemina\nWieb­ke Schen­ter\, Piepmadame\nDesi­ree Jonek-Lus­tyk\, Womentor\nManu­el Rubey\, Sän­ger\, Schau­spie­ler und Kabarettist\nAna Bad­ho­fer\, Grün­de­rin & Stell­ver­tre­ten­de Obfrau Viva La Vulva\nSophie Zanel­li\, Vor­stands­mit­glied Viva La Vulva\nMarie Sie­vers\, Vor­stands­mit­glied Viva La Vulva\nLisa Maria Cen­te­no\, Grün­de­rin & Pod­cas­te­rin (Busi­ness Basics)\nFre­de­ri­ka Fer­ko­va\, Grün­de­rin Haus­ge­macht in Wien & Pod­cas­te­rin (krypto.logisch)\nBet­ti­na Stein­brug­ger\, Grün­de­rin & CEO Erdbeerwoche\nRika Mader\, Busi­ness Lead Erdbeerwoche\nAnge­li­ka Ade­nsa­mer\, Links Wien Sprecherin\nJaque­line Schei­ber\, Autorin und Con­tent Crea­tor (minus­gold)\nLena Jäger\, Initia­to­rin & Obfrau Frauen*Volksbegehren\nMaria Rös­sel­hu­mer\, Geschäfts­füh­re­rin des Ver­eins Auto­no­me Öster­rei­chi­sche Frau­en­häu­ser (AÖF)\nMireil­le Ngos­so\, Ärz­tin\, Poli­ti­ke­rin (SPÖ) und Aktivistin\nMelin­da Tamás\, Wis­sen­schaft­li­che For­sche­rin und Antidiskriminierungsexpertin\nNoor Soli­man\, Vor­stand Sorority\nIsa­bel­la Ett­may­er\, Vor­stand Sorority\nIri­na Kuh­nert\, Vor­stand Sorority\nEle­na Star­müh­ler\, Vor­stand Sorority\nLisa Mar­tha Jan­ka\, Vor­stand Sorority\nSibel Ada\, Vor­stand Sorority\nMar­le­ne Fischer\, Vor­stand Sorority\nKat­ja Grafl\, Vor­stand Sorority\nNina Braith\, ohvulvina\nAnge­li­ca Con­raths\, fembites\nJana Deckel­mann\, fembites\nBrit­ta Mühl­bau­er\, Autorin\nStef­fi Grötz\, Bun­des­frau­en­spre­che­rin der Jun­gen Gene­ra­ti­on der SPÖ \nDie Akti­on wird orga­ni­siert von den Initia­to­rin­nen & aufstehn.at. \nSujet © die Initiatorinnen
URL:https://8maerz.at/veranstaltung/keineblumen-8-maerz-frei-fuer-alle-aktion-kundgebung/
LOCATION:Bundesministerium für Arbeit und Wirtschaft\, Stubenring 1\, Wien\, 1010
ATTACH;FMTTYPE=image/jpeg:https://8maerz.at/wp-content/uploads/sites/20/2023/03/keineblumen-e1677788242454.jpeg
END:VEVENT
BEGIN:VEVENT
DTSTART;TZID=Europe/Vienna:20230308T150000
DTEND;TZID=Europe/Vienna:20230308T170000
DTSTAMP:20260420T135551
CREATED:20230224T201445Z
LAST-MODIFIED:20230224T201757Z
UID:10003984-1678287600-1678294800@8maerz.at
SUMMARY:Betriebsversammlungen und Kundgebung am 8. März
DESCRIPTION:8. März: Inter­na­tio­na­ler Frauenkampftag \nEin chro­nisch\, unter­fi­nan­zier­tes Bildungs‑\, Gesundheits‑\, Pfle­ge- und Sozi­al­sys­tem trifft vor allem Frauen!\nHier bes­se­re Arbeits­be­din­gun­gen zu schaf­fen\, ist eine femi­nis­ti­sche Forderung! \nDes­halb am Mitt­woch\, den 8. März 2023\, 15 Uhr\, Neubaugasse/Mariahilfer Straße: \nKund­ge­bung und Betriebs­ver­samm­lun­gen im öffent­li­chen Raum!\nFür alle Arbei­ten­den in den Berei­chen Bil­dung\, Gesund­heit\, Pfle­ge- und Sozia­les sowie soli­da­ri­sche Menschen! \nVer­an­stal­tet von Frau­en­streik\, Sozi­al aber nicht blöd und anderen. \nDetails im Face­book-Event.
URL:https://8maerz.at/veranstaltung/betriebsversammlungen-und-kundgebung-am-8-maerz/
LOCATION:Mariahiilferstraße\, Mariahilferstraße\, Wien\, Wien\, 1060\, Österreich
END:VEVENT
BEGIN:VEVENT
DTSTART;TZID=Europe/Vienna:20230308T160000
DTEND;TZID=Europe/Vienna:20230308T173000
DTSTAMP:20260420T135551
CREATED:20230219T194039Z
LAST-MODIFIED:20230219T194039Z
UID:10003743-1678291200-1678296600@8maerz.at
SUMMARY:8. März 2023 - Claim The Space & Feministisches* Bloco Descolonial
DESCRIPTION:Kommt am 8. März zum Richard-Wag­ner-Platz in den 16. Bezirk! \nWann: Von 16:00 Uhr bis 17:30\, danach Demo von take back the streets am Yppenplatz!\nWer: Cla­im the Space\, Femi­nis­ti­sches* Blo­co Des­co­lo­ni­al\, alle gegen Patri­ar­cha­le Gewalt kämp­fen­de\, femi­nis­tisch Strei­ken­de\, uvm. \nCla­im the Space ist ein Zusam­men­schluss von ver­schie­de­nen que­er-femi­nis­ti­schen Kol­lek­ti­ven und Ein­zel­per­so­nen\, die sich seit 2\,5 Jah­ren gegen patri­ar­cha­le Gewalt und Femi(ni)zide orga­ni­sie­ren. Wir wol­len Femi(ni)zide\, als Mor­de an Frau­en\, Les­ben\, inter\, nicht-binä­re\, trans und agen­der Per­so­nen (kurz FLINTA) benen­nen\, und die gesell­schaft­li­chen Struk­tu­ren\, in denen die­se ver­übt wer­den\, sicht­bar machen.\nDurch die vie­len femi­nis­ti­schen Inter­ven­tio­nen sind vie­le For­men von Gewalt bereits im öffent­li­chen Raum sicht­ba­rer gewor­den\, vie­le ken­nen den Begriff Femi(ni)zid. \nWir ver­sam­meln uns am 8. März am Richard-Wag­ner-Platz um noch­mal deut­lich zu machen\, dass vie­le Lebens­rea­li­tä­ten und Gewalt­for­men aber nach wie vor weni­ger the­ma­ti­siert werden!\nWir ver­sam­meln uns vor der MA35\, der soge­nann­ten Ein­wan­de­rungs­be­hör­de\, weil wir dar­auf auf­merk­sam machen wol­len\, dass ras­sis­ti­sche Insti­tu­tio­nen Teil patri­ar­cha­ler Gewalt sind.\nFemi­nis­tisch strei­ken bedeu­tet für uns\, die­se Aus­beu­tung und Pre­ka­ri­at sicht­bar zu machen! \nUm uns auf den 8M Marsch ein­zu­stim­men und Kol­lek­ti­vi­tät zu weben\, wol­len wir Pla­ka­te und Later­nen bas­teln\, gemein­sam sin­gen\, femi­nis­ti­sche Kämp­fe fei­ern und unse­re Ableh­nung von insti­tu­tio­nel­lem Ras­sis­mus und patri­ar­cha­ler Gewalt aus­drü­cken. In Soli­da­ri­tät mit den femi­nis­ti­schen Kämp­fen in Peru\, Iran\, Tür­kei\, Syri­en und Kurdistan.\nPatri­ar­chat\, Ras­sis­mus und Kapi­tal: Nie­der mit der kolo­nia­len Allianz. \n#deko­lo­nia­le­ak­ti­on #aler­ta­fe­mi­nis­ta #claimt­he­space #auf­zum­fe­mi­nist­schen­streik \nVoll­stän­di­ger Auf­ruf­ext (DE\, EN\, ES) sie­he Face­book-Event.
URL:https://8maerz.at/veranstaltung/8-maerz-2023-claim-the-space-feministisches-bloco-descolonial/
LOCATION:Richard-Wagner-Platz\, Richard-Wagner-Platz\, Wien\, Wien\, 1160\, Österreich
END:VEVENT
BEGIN:VEVENT
DTSTART;TZID=Europe/Vienna:20230308T160000
DTEND;TZID=Europe/Vienna:20230308T190000
DTSTAMP:20260420T135551
CREATED:20230224T202853Z
LAST-MODIFIED:20230224T202853Z
UID:10003985-1678291200-1678302000@8maerz.at
SUMMARY:Kundgebung und Demo: 8. März - Internationaler Frauentag 2023
DESCRIPTION:8. März – Inter­na­tio­na­ler Frau­en­tag 2023 \nKampf dem Patri­ar­chat\, dem Impe­ria­lis­mus und dem Kapi­tal! Bestreikt den Krieg – über­all! Auf zum Frauenstreik! \nKund­ge­bung: 16:00–18:00\, Maria­hil­fer Stra­ße / Ecke Otto Bau­er Gasse\nDemo zum Platz der Men­schen­rech­te: 18:00–19:00 \nAfter-Demo-Treff: Gemüt­li­cher Aus­klang im Anschluss an die Demo im Auto­no­men Frau­en­Zen­trum – FZ-Wien mit Musik\, Mini-Buf­fet und Geträn­ke gegen freie Spende.\nFür Frauen \nDetails im Face­book-Event.
URL:https://8maerz.at/veranstaltung/kundgebung-und-demo-internationaler-frauentag-2023/
LOCATION:Mariahiilferstraße\, Mariahilferstraße\, Wien\, Wien\, 1060\, Österreich
END:VEVENT
BEGIN:VEVENT
DTSTART;TZID=Europe/Vienna:20230308T170000
DTEND;TZID=Europe/Vienna:20230308T200000
DTSTAMP:20260420T135551
CREATED:20230302T210912Z
LAST-MODIFIED:20230302T210957Z
UID:10004008-1678294800-1678305600@8maerz.at
SUMMARY:RAD Performance: Soundride x Take Back The Streets
DESCRIPTION:Sound­ri­de x TAKE BACK THE STREETS\nInter­na­tio­nal Femi­nist Day!\n08-03-2023 | Mee­ting Point 17:00h Yppenplatz\nw/ mix by Juke­box Utopia \nOn the 8th of March\, we cla­im space and draw atten­ti­on to the struc­tu­ral ine­qua­li­ties that affect FLINTA peo­p­le and all peo­p­le who do not fit into a white patri­ar­chal\, cis\, and hete­ro­nor­ma­ti­ve socie­ty. By chal­len­ging the city along its social boun­da­ries and our phy­si­cal depen­dence on infra­struc­tu­re\, espe­ci­al­ly in times of cli­ma­te cri­sis\, it is important to build rela­ti­onships and bonds\, to enga­ge\, to build alli­ances\, and to find allies. \nEvery day is 8 March. The­r­e­fo­re: get out on the streets for the femi­nist day of action! \nWe meet tog­e­ther with #Take­Back­t­heStreets Demo\, ride par­al­lel in cir­cles and end tog­e­ther in Sig­mund Freud Park. Many other coll­ec­ti­ves on wheels join us\, so come with your bike\, rol­ler-skates or skateboards! \nBBI­PoC FLINTA* VIENNA BIKE KITCHEN\nFLINKTAS_VIENNA\nFLINTA* BIKEPOLO VIENNA\nINTERNATIONAL ASSociation\nTAKE BACK THE STREETS\nRAD PERFORMANCE\nRADS\nROLLERSTRIZZIS\nVEREIN 1240\nQUEER MUSEUM VIENNA \nRESPECT EXISTENCE OR EXPECT RESISTANCE\n#Take­Back­T­heStreets #sound­ri­des #rad­per­for­mance \nSujet © RAD Performance
URL:https://8maerz.at/veranstaltung/rad-performance-soundride-x-take-back-the-streets/
LOCATION:Yppenplatz\, Yppenplatz\, Wien\, Wien\, 1160\, Österreich
ATTACH;FMTTYPE=image/jpeg:https://8maerz.at/wp-content/uploads/sites/20/2023/03/RAD-takebackthestreets-e1677791328280.jpg
END:VEVENT
BEGIN:VEVENT
DTSTART;TZID=Europe/Vienna:20230308T170000
DTEND;TZID=Europe/Vienna:20230308T210000
DTSTAMP:20260420T135551
CREATED:20230212T213156Z
LAST-MODIFIED:20230217T164430Z
UID:10003977-1678294800-1678309200@8maerz.at
SUMMARY:Demo - Internationaler feministischer Kampftag 2023
DESCRIPTION:Take Back The Streets Demo und Kund­ge­bung zum inter­na­tio­na­len femi­nis­ti­schen Kampf­tag am 8. März 2023. \n17:00 Start der Kund­ge­bung am Yppenplatz\n18:00 Start des Demozugs\n19:30 Ankunft im Sig­mund Freud Park\n21:00 Ende der Kund­ge­bung und Auflösung \nEin­la­dungs­text:\nEs heißt wie­der: Raus auf die Stra­ßen am 8. März 2023!\nDie­ses Jahr legen wir den inhalt­li­chen Fokus auf das The­ma INTERNATIONALE FEMINISTISCHE KÄMPFE.\nEin femi­nis­ti­scher Kampf­tag braucht\, die­ses Jahr umso mehr\, inter­na­tio­na­le Soli­da­ri­tät: für ein bes­se­res\, selbst­be­stimm­tes Leben für alle! Im Iran\, in Afgha­ni­stan und Ugan­da wer­den die Rech­te von Frau­en\, inter*\, trans und nicht-binä­ren Per­so­nen immer wei­ter ein­ge­schränkt. Russ­land feu­ert die Gewalt in der Ukrai­ne wei­ter an. Welt­weit kommt es zu Unter­drü­ckung von LGBTQI*A+ Orga­ni­sa­tio­nen\, deren Mit­glie­der wer­den an vie­len Orten ver­folgt und ermor­det. Gleich­zei­tig ver­fol­gen Öster­reich und die EU eine gna­den­lo­se Asyl­po­li­tik mit zuneh­men­der Brutalität. \nMehr Infos auf Face­book.
URL:https://8maerz.at/veranstaltung/demo-internationaler-feministischer-kampftag-2023/
LOCATION:Wien\, Österreich
GEO:48.2081743;16.3738189
END:VEVENT
BEGIN:VEVENT
DTSTART;TZID=Europe/Vienna:20230311T110000
DTEND;TZID=Europe/Vienna:20230311T130000
DTSTAMP:20260420T135551
CREATED:20230310T220951Z
LAST-MODIFIED:20230311T175013Z
UID:10004038-1678532400-1678539600@8maerz.at
SUMMARY:**ABGESAGT** Musik*Cometogether in Hietzing
DESCRIPTION:Musik*Cometogether zum Inter­na­tio­na­len Frauen*tag der Grü­nen Frau­en Hiet­zing am Sams­tag\, 11.3. von 11 bis 13 Uhr am Wochen­markt Altgasse \nSujet © Grü­ne Hietzing
URL:https://8maerz.at/veranstaltung/musik-cometogether-in-hietzing/
LOCATION:Wochenmarkt Altgasse\, Altgasse 21\, Wien\, Wien\, 1130\, Österreich
ATTACH;FMTTYPE=image/jpeg:https://8maerz.at/wp-content/uploads/sites/20/2023/03/musik-cometogether-gruene-hietzing-e1678486263350.jpg
END:VEVENT
BEGIN:VEVENT
DTSTART;VALUE=DATE:20230313
DTEND;VALUE=DATE:20230320
DTSTAMP:20260420T135551
CREATED:20230107T163819Z
LAST-MODIFIED:20230305T223419Z
UID:10003705-1678665600-1679270399@8maerz.at
SUMMARY:Queer-feministische Aktionswoche mit Wikipedia-Edit-a-thon
DESCRIPTION:Public Pro­gram: Que­er-femi­nis­ti­sche Akti­ons­wo­che. Edit-a-thon \nFrau­en und que­e­re Per­so­nen sind immer noch unter­re­prä­sen­tiert auf Wiki­pe­dia. Frau­en machen nur etwa zehn Pro­zent der akti­ven Frei­wil­li­gen aus\, die an der Online-Enzy­klo­pä­die mit­ar­bei­ten. Und auch die Inhal­te sind weit von Gleich­be­rech­ti­gung ent­fernt: Bio­gra­fien wich­ti­ger Frau­en\, FLINTA* und quee­rer Per­so­nen feh­len\, que­er-femi­nis­ti­sche Kunst und Kul­tur sind noch nicht genü­gend abge­deckt. Inter­es­sier­te sind des­halb dazu ein­ge­la­den\, Autor*innen zu wer­den und gemein­sam Wiki­pe­dia-Ein­trä­ge zu erstel­len\, um so dem Ungleich­ge­wicht entgegenzuwirken. \nTERMINE UND TREFFPUNKTE: \nDI\, 14.03. von 12 bis 16 Uhr (Treff­punkt: Bel­ve­de­re 21)\nEdit-a-thon zu que­er-femi­nis­ti­scher Kunstproduktion \nMI\, 15.03. von 11 bis 15 Uhr (Treff­punkt: Rese­arch Center)\nEdit-a-thon zu que­er-femi­nis­ti­scher Kunstproduktion \nDO\, 16.03. von 12 bis 18 Uhr (Treff­punkt: Bel­ve­de­re 21)\nEdit-a-thon zu que­er-femi­nis­ti­scher Kunstproduktion \nFR\, 17.03. von 11 bis 17 Uhr (Treff­punkt: Rese­arch Center)\nEdit-a-thon zu que­er-femi­nis­ti­scher Kunst­pro­duk­ti­on und Füh­rung Bel­ve­de­re Rese­arch Center \nSA\, 18.03. von 12 bis 16 Uhr (Treff­punkt: Bel­ve­de­re 21)\nEdit-a-thon zu que­er-femi­nis­ti­scher Kunstproduktion\nZusam­men­fas­sung und Folgeprojekte \nDas gesam­te Pro­gramm und die Anmel­dung fin­den Sie hier.\nWei­te­re Fra­gen ger­ne an c.erharter@belvedere.at
URL:https://8maerz.at/veranstaltung/queer-feministische-aktionswoche-mit-wikipedia-edit-a-thon/
LOCATION:Belvedere 21\, Arsenalstraße 1\, Wien\, Wien\, 1030\, Österreich
END:VEVENT
END:VCALENDAR