BEGIN:VCALENDAR
VERSION:2.0
PRODID:-//8. März - ECPv6.15.17.1//NONSGML v1.0//EN
CALSCALE:GREGORIAN
METHOD:PUBLISH
X-ORIGINAL-URL:https://8maerz.at
X-WR-CALDESC:Veranstaltungen für 8. März
REFRESH-INTERVAL;VALUE=DURATION:PT1H
X-Robots-Tag:noindex
X-PUBLISHED-TTL:PT1H
BEGIN:VTIMEZONE
TZID:Europe/Vienna
BEGIN:DAYLIGHT
TZOFFSETFROM:+0100
TZOFFSETTO:+0200
TZNAME:CEST
DTSTART:20210328T010000
END:DAYLIGHT
BEGIN:STANDARD
TZOFFSETFROM:+0200
TZOFFSETTO:+0100
TZNAME:CET
DTSTART:20211031T010000
END:STANDARD
BEGIN:DAYLIGHT
TZOFFSETFROM:+0100
TZOFFSETTO:+0200
TZNAME:CEST
DTSTART:20220327T010000
END:DAYLIGHT
BEGIN:STANDARD
TZOFFSETFROM:+0200
TZOFFSETTO:+0100
TZNAME:CET
DTSTART:20221030T010000
END:STANDARD
BEGIN:DAYLIGHT
TZOFFSETFROM:+0100
TZOFFSETTO:+0200
TZNAME:CEST
DTSTART:20230326T010000
END:DAYLIGHT
BEGIN:STANDARD
TZOFFSETFROM:+0200
TZOFFSETTO:+0100
TZNAME:CET
DTSTART:20231029T010000
END:STANDARD
END:VTIMEZONE
BEGIN:VEVENT
DTSTART;TZID=Europe/Vienna:20220505T193000
DTEND;TZID=Europe/Vienna:20220505T220000
DTSTAMP:20260421T063145
CREATED:20220130T214308Z
LAST-MODIFIED:20220130T214308Z
UID:10003626-1651779000-1651788000@8maerz.at
SUMMARY:One Billion Rising Vienna | Austria 2022
DESCRIPTION:One Billion Rising Vienna | Austria 2022\nunter dem Ehren­schutz von Frau Mag.a Doris Schmidauer \nDer Haupt­ak­ti­ons­tag der glo­ba­len Bewe­gung One Bil­li­on Rising wird 2022 welt­weit und auch bei uns in Wien dies­mal zum 10. Mal stattfinden!\nDaher soll das Event One Bil­li­on Rising Vien­na 2022 | Aus­tria 2022 etwas ganz Beson­de­res werden. \nAuf­grund der pro­gnos­ti­zier­ten Coro­na-Neu­in­fek­ti­ons­zah­len für Mit­te Febru­ar und in Anbe­tracht der Beson­der­heit und Wich­tig­keit die­ses Events haben wir beschlos­sen\, die Haupt­ver­an­stal­tung One Bil­li­on Rising Vien­na | Aus­tria 2022 auf den 5. Mai 2022 zu verschieben! \nAm eigent­li­chen V‑Day\, am 14. Febru­ar 2022 tref­fen wir uns online und tan­zen gemein­sam „Break the Chain“ im digi­ta­len Raum.\nBit­te mel­det euch an unter: event@1billionrising.at – dann bekommt ihr die Zugangsdaten! \nDas Pro­gramm für das Event im rea­len Raum ist schon fer­tig und wir freu­en uns\, dass wir dies­mal sowohl Künstler*innen vom aller­ers­ten Mal wie die Tän­ze­rin Karin Label aus Hai­ti\, die Sän­ge­rin­nen Mar­ga­ret Car­ter und Ami­na­ta Sey­di oder Künstler*innen wie Maren Rah­mann\, Kita­na Pro­ject\, Laris­sa Brei­ten­eg­ger\, stars­ky\, oder Grup­pie­run­gen wie EsRAP und DanceA­bi­li­ty\, die uns durch die gan­zen Jah­re hin­durch immer wie­der mit ihren Bei­trä­gen unter­stützt haben\, aber auch wun­der­ba­re Neu­zu­gän­ge\, wie die Trommler*innen Mara­ca­tu Nos­sa Luz oder Peta Klotz­berg für die­ses Jubi­lä­ums­e­vent gewin­nen konnten. \nWIr hof­fen\, dass wir die­sen Ter­min nun hal­ten kön­nen. Alle Ände­run­gen und wei­te­re Rah­men­ver­an­stal­tun­gen geben wir noch zeit­ge­recht bekannt.
URL:https://8maerz.at/veranstaltung/one-billion-rising-vienna-austria-2022/
LOCATION:Ballhausplatz\, Ballhausplatz\, 1010\, Wien\, Österreich
GEO:48.2082817;16.3638789
X-APPLE-STRUCTURED-LOCATION;VALUE=URI;X-ADDRESS=Ballhausplatz Ballhausplatz 1010 Wien Österreich;X-APPLE-RADIUS=500;X-TITLE=Ballhausplatz:geo:16.3638789,48.2082817
END:VEVENT
END:VCALENDAR