BEGIN:VCALENDAR
VERSION:2.0
PRODID:-//8. März - ECPv6.15.20//NONSGML v1.0//EN
CALSCALE:GREGORIAN
METHOD:PUBLISH
X-WR-CALNAME:8. März
X-ORIGINAL-URL:https://8maerz.at
X-WR-CALDESC:Veranstaltungen für 8. März
REFRESH-INTERVAL;VALUE=DURATION:PT1H
X-Robots-Tag:noindex
X-PUBLISHED-TTL:PT1H
BEGIN:VTIMEZONE
TZID:Europe/Vienna
BEGIN:DAYLIGHT
TZOFFSETFROM:+0100
TZOFFSETTO:+0200
TZNAME:CEST
DTSTART:20200329T010000
END:DAYLIGHT
BEGIN:STANDARD
TZOFFSETFROM:+0200
TZOFFSETTO:+0100
TZNAME:CET
DTSTART:20201025T010000
END:STANDARD
BEGIN:DAYLIGHT
TZOFFSETFROM:+0100
TZOFFSETTO:+0200
TZNAME:CEST
DTSTART:20210328T010000
END:DAYLIGHT
BEGIN:STANDARD
TZOFFSETFROM:+0200
TZOFFSETTO:+0100
TZNAME:CET
DTSTART:20211031T010000
END:STANDARD
BEGIN:DAYLIGHT
TZOFFSETFROM:+0100
TZOFFSETTO:+0200
TZNAME:CEST
DTSTART:20220327T010000
END:DAYLIGHT
BEGIN:STANDARD
TZOFFSETFROM:+0200
TZOFFSETTO:+0100
TZNAME:CET
DTSTART:20221030T010000
END:STANDARD
END:VTIMEZONE
BEGIN:VEVENT
DTSTART;TZID=Europe/Vienna:20210208T160000
DTEND;TZID=Europe/Vienna:20210208T173000
DTSTAMP:20260425T005930
CREATED:20210128T193537Z
LAST-MODIFIED:20210128T194532Z
UID:10003790-1612800000-1612805400@8maerz.at
SUMMARY:Let's keep claiming our space! - Open Feminist Meeting
DESCRIPTION:[de] Auf­grund der neu­en Coro­na-Maß­nah­men wird das Tref­fen Online statt­fin­den. Bit­te um Anmel­dung per Mail (sie­he wei­ter unten) – so kommt ihr auch zum Link.\nOffen für FLINT* (Frau­en*\, inter\, trans* und nicht-binä­re Personen)!\n[eng] Due to the new mea­su­res regar­ding Coro­na\, the mee­ting has to be held online. Plea­se regis­ter by mail (see below) – that way you will also get the link.\nOpen for women*\, inter\, trans\, non binary! \nOffenes feministisches Treffen\nam 8. jedes Monats\, 16:00 bis 17:30 bis zum 8. März\, dem inter­na­tio­na­len Frauen*/Feministischen Kampftag \nAnmel­dung:\nIhr müsst kei­nen Namen ange­ben\, schreibt ein­fach die Anzahl der Per­so­nen\, die ihr anmel­det\, an: gegenpatriarchatundkapital@riseup.net\nGer­ne könnt ihr auch Fra­gen bzgl. Coro­na und Ablauf schicken. \nEs lädt ein auto­no­mes\, femi­nis­ti­sches Kol­lek­tiv ein\, mit u.a. der AG Femi­nis­ti­scher Streik\, Kol­lek­tiv lau­ter*\, Ni Una Menos Aus­tria\, His­pa­no femi­nis­tas\, Kol­lek­tiv anti­ko­lo­nia­le Inter­ven­tio­nen und vie­len mehr. \nDetails sie­he unten im Facebook-Link.
URL:https://8maerz.at/veranstaltung/lets-keep-claiming-our-space-open-feminist-meeting-08-02/
LOCATION:Online\, Wien\, Österreich
END:VEVENT
BEGIN:VEVENT
DTSTART;TZID=Europe/Vienna:20210214T150000
DTEND;TZID=Europe/Vienna:20210214T190000
DTSTAMP:20260425T005930
CREATED:20210128T200132Z
LAST-MODIFIED:20210213T134022Z
UID:10003794-1613314800-1613329200@8maerz.at
SUMMARY:One Billion Rising Austria 2021
DESCRIPTION:One Billion Rising Austria 2021\nSonn­tag\, 14.2.2021\, 15:00 bis 19:00\, via Zoom und YouTube \nOne Bil­li­on Rising Aus­tria 2021 am 14. Febru­ar 2021 wird auf Grund der der­zei­ti­gen Lage im digi­ta­len Raum statt­fin­den. Wir wol­len aus der Not eine Tugend machen und dies­mal städ­te- und bun­des­län­der­über­grei­fend strea­men und via digi­ta­le Medi­en uns tref­fen und auch gemein­sam tan­zen. Gera­de in der der­zei­ti­gen Lebens­si­tua­ti­on sind Frau­en* und Mäd­chen* ver­stärkt von Gewalt bedroht und daher ist es umso wich­ti­ger\, ein Zei­chen zu setzen. \nUm die Online-Zugangs­da­ten zu erhal­ten\, bit­ten wir um Anmel­dung bis 14.2.\, 13 Uhr per E‑Mail an: event@1billionrising.at \nPro­gramm:\n15:00–17:00: OBRAustria2021 – Fem*inar (via Zoom)\nBegrü­ßung und Mode­ra­ti­on: Aiko Kazu­ko Kur­o­sa­ki\, Obfrau und Lei­te­rin von OBRA\, aus dem Kos­mos­Thea­ter in Wien\nBegrü­ßung: Vero­ni­ka Stein­böck\, Künst­le­ri­sche Lei­tung\, Kos­mos­Thea­ter\, Wien \nLive-State­ments:\nKlau­dia Frie­ben (ÖFR)\, Maria Rösslhu­mer (AÖF)\, Eli­sa­beth Klat­zer (Femme Fis­ca­le)\, Hei­di Ambrosch (Platt­form 20000frauen) und Petra Unger (Wie­ner Frauen*Spaziergänge)\, Andrea Czak (FEM.A) \nKünst­le­ri­sche Live-Interventionen:\nVanes­sa Pay­er Kumar\, Maren Rah­mann\, Frant­sche­sko Slow­man\, starsky.\nBei­trä­ge von OBR-Initia­ti­ven in Öster­reich: OBR Mäd­chen­zen­trum Kla­gen­furt\, Stadt Kla­gen­furt und Stadt Vil­lach\, OBR-Krems\, OBR-Mit­tel­schu­le17­Linz\, OBR-Möd­ling\, OBR-Salz­kam­mer­gut (Gmun­den\, Eben­see\, u.a.)\, OBR-St.Pölten\, OBR-Stadt­Salz­burg\, OBR-Tirol (Inns­bruck)\, OBR-Vien­na\, OBR-Vor­arl­berg u.a. \n17:00–18:00: OBRAustria2021 – Das Rising\nWir tan­zen gemein­sam live im digi­ta­len Raum: Break the Chain\, We are Rising und mehr!\nAnge­lei­tet von: Lisa Moser – abun­DANCE (OBR-Stadt­Salz­burg)\, The­re­sia W. Nest­lang – abun­DAN­CER (OBR-Möd­ling) und Aiko Kazu­ko Kur­o­sa­ki (OBRA) \n17:30: Live-Ein­schal­tung von OBR-International\nV (form­er­ly Eve Ens­ler)\, Sus­an Celia Swan und Moni­que Wilson \n18:00–19:00: OBRAustria2021 – Kunst – Stream – After­par­ty (via YouTube)\nKünst­le­ri­sche Bei­trä­ge und Video­clips von:\nAÖF – Ver­ein Auto­no­me Öster­rei­chi­sche Frau­en­häu­ser\, Ste­pUp!\, WAVE – Women against Vio­lence Euro­pe\, Caritas/Divan\, Laris­sa Brei­ten­eg­ger\, DanceA­bi­li­ty\, Kita­na\, Nen­da\, Petra Paul\, Maren Rah­mann\, Nina Rosa\, stars­ky\, Kris­ti­na Vie­ra Wolf\, u.a. \nTeam:\nGesamt­ko­or­di­na­ti­on und künst­le­ri­sche Lei­tung: Aiko Kazu­ko Kurosaki\nLay­out\, Gra­fik\, Foto- u. Video-Doku­men­ta­ti­on: Petra Paul\nOnline-Betreu­ung\, OBRA-Web­site: Cla­ra Landler\nÖffent­lich­keits­ar­beit\, Pres­se\, Social Media (fb\, twit­ter): Eva Maria Zenz\nOBRA-Insta­gram: Tar­sha Grant\nSilent Host auf ZOOM: Bar­ba­ra Steiner \nOBRAustria2021 wird gespon­sert vom Öster­rei­chi­schen Städ­te­bund und unter­stützt vom Pres­se­club Con­cor­dia\, Kos­mos­Thea­ter Wien\, Kunst­hal­le Krems\, AÖF – Ver­ein Auto­no­me Öster­rei­chi­sche Frau­en­häu­ser und dem Öster­rei­chi­schen Frau­en­ring (ÖFR). \nOBRA ist Teil der Alli­anz GewaltFREI leben\, Femme Fis­ca­le und der Platt­form 20000frauen.
URL:https://8maerz.at/veranstaltung/one-billion-rising-austria-2021/
LOCATION:Online\, Wien\, Österreich
ATTACH;FMTTYPE=image/jpeg:https://8maerz.at/wp-content/uploads/sites/20/2021/01/obra-flyer_2021_mit-logos.jpg
END:VEVENT
BEGIN:VEVENT
DTSTART;VALUE=DATE:20210221
DTEND;VALUE=DATE:20210222
DTSTAMP:20260425T005930
CREATED:20210209T205500Z
LAST-MODIFIED:20210209T210111Z
UID:10003559-1613865600-1613951999@8maerz.at
SUMMARY:Mitmach-Kampagne zum Equal Pay Day 2021
DESCRIPTION:MITMACH-KAMPAGNE zum EQUAL PAY DAY 2021 \nSor­gen wir gemein­sam für #trans­pa­renz. Tei­le auf Social-Media dei­ne Mei­nung über die­se Ein­kom­men­sUN­ge­rech­tig­keit\, erzäh­le dei­ne Geschich­te\, per­sön­li­che Schick­sa­le und Fall­bei­spie­le aus dei­nem Umfeld. Berich­te über posi­ti­ve Bei­spie­le und zeit­ge­mä­ße Arbeit­ge­ber! Nut­ze dazu die Hash­tags #trans­pa­renz und #equal­pay­JETZT. Pos­te für ein Foto mit dem “Time­out-Zei­chen” für noch mehr Sicht­bar­keit für das The­ma Equal-Pay\, denn es ist Zeit für Bewusst­seins­bil­dung und Zeit für Veränderung! \nBusi­ness and Pro­fes­sio­nal Women haben den Akti­ons­tag Equal Pay Day nach Euro­pa gebracht und berech­nen seit 2009 den Equal Pay Day für Öster­reich. Es braucht Trans­pa­renz\, um den Pay Gap in sei­ner Unge­rech­tig­keit auf­zu­zei­gen. Die­ses Jahr ist es der 21. Febru­ar 2021. \nMehr auf equal-pay-day.at \nEine Akti­on der BPW Aus­tria – Busi­ness & Pro­fes­sio­nal Women
URL:https://8maerz.at/veranstaltung/mitmach-kampagne-zum-equal-pay-day-2021/
LOCATION:Online\, Wien\, Österreich
END:VEVENT
END:VCALENDAR