BEGIN:VCALENDAR
VERSION:2.0
PRODID:-//8. März - ECPv6.15.17.1//NONSGML v1.0//EN
CALSCALE:GREGORIAN
METHOD:PUBLISH
X-ORIGINAL-URL:https://8maerz.at
X-WR-CALDESC:Veranstaltungen für 8. März
REFRESH-INTERVAL;VALUE=DURATION:PT1H
X-Robots-Tag:noindex
X-PUBLISHED-TTL:PT1H
BEGIN:VTIMEZONE
TZID:UTC
BEGIN:STANDARD
TZOFFSETFROM:+0000
TZOFFSETTO:+0000
TZNAME:UTC
DTSTART:20170101T000000
END:STANDARD
END:VTIMEZONE
BEGIN:VEVENT
DTSTART;TZID=UTC:20180217T100000
DTEND;TZID=UTC:20180217T143000
DTSTAMP:20260421T153042
CREATED:20180209T201355Z
LAST-MODIFIED:20180209T201355Z
UID:10003351-1518861600-1518877800@8maerz.at
SUMMARY:Workshop: Historische Familienrecherche und Biographiearbeit
DESCRIPTION:Workshop: Historische Familienrecherche und Biographiearbeit im zeithistorischen Kontext\nSams­tag\, 17. Febru­ar 2018\, 10:00–14:30 Uhr\nErfah­rungs­aus­tausch und Anlei­tungs­hil­fe für Recher­chen in der eige­nen Familiengeschichte \nWir befas­sen uns mit Fra­gen wie: Was wis­sen wir über unse­re Groß-/Müt­ter und Groß-/Vä­ter\, Tan­ten\, Onkel …? Wel­che Erzäh­lun­gen in der Fami­lie gibt es? Gibt es etwas\, wor­über nicht gespro­chen wurde/wird? Was wol­len wir wis­sen? Wie kom­men wir an die­ses Wissen? \nDie Ver­an­stal­tung besteht aus drei Teilen:\n– vier­stün­di­ger Inten­siv-Block. Wich­tig: Bit­te Unter­la­gen zu Euren/Ihren Fra­ge­stel­lun­gen mit­brin­gen: Doku­men­te\, Fotos\, alte Brie­fe etc.\n– Exkur­si­on zum The­ma Fami­li­en­re­cher­che ins Wie­ner Stadt- und Landesarchiv\n– vier­stün­di­ger Reflexions-Block. \nUm sowohl Kor­re­spon­den­zen mit Ämtern\, als auch Gesprä­che in den Fami­li­en zu ermög­li­chen\, fin­den die bei­den Arbeits­tref­fen in einem grö­ße­ren zeit­li­chen Abstand statt. \nAus­drück­lich will­kom­men sind Frau­en ver­schie­de­ner sozia­ler\, geo­gra­phi­scher u. a. Her­künf­te. Teil­neh­me­rin­nen: min. 5/max. 10 \nDie wei­te­ren Termine:\nFr. 23. Febru­ar: 17:00–19:00 Uhr: Füh­rung im Wie­ner Stadt- und Landesarchiv\nFr. 27. April: 16:30–20:30 Uhr: in der Frauenhetz \n! Anmel­dung bis spä­tes­tens 14. Febru­ar bei: \nVer­ein Frau­en­hetz unter office@frauenhetz.at ! \nUnkos­ten­bei­trag für Kopien\, Geträn­ke und Exkur­si­on: 20 €\nLei­tung: Dr.in Eli­sa­beth Mal­lei­er. His­to­ri­ke­rin mit lang­jäh­ri­ger Erfah­rung in der Erfor­schung von Frau­en­bio­gra­phien. Publi­ka­tio­nen u.a.: Jüdi­sche Frau­en in Wien\, 2003; „Kin­der­schutz“ und „Kin­der­ret­tung“. Ver­ei­ne zum Schutz miss­han­del­ter Kin­der im 19. und frü­hen 20. Jahr­hun­dert\, 2014; Raben­mut­ter­land. Edi­ti­on Alpha­be­ta\, 2. erw. Aufl. \nOrt/e: Frau­en­bil­dungs­stät­te Frau­en­hetz\, Unte­re Weiß­ger­ber­str. 41\, 1030 Wien\nExkur­si­on zum Wie­ner Stadt- und Landesarchiv
URL:https://8maerz.at/veranstaltung/workshop-historische-familienrecherche-und-biographiearbeit/
LOCATION:Frauenhetz\, Untere Weißgerberstraße 41\, Wien\, 1030
ORGANIZER;CN="Frauenhetz - feministische Bildung%2C Kultur und Politik":MAILTO:office@frauenhetz.at
GEO:48.2084854;16.3946163
X-APPLE-STRUCTURED-LOCATION;VALUE=URI;X-ADDRESS=Frauenhetz Untere Weißgerberstraße 41 Wien 1030;X-APPLE-RADIUS=500;X-TITLE=Untere Weißgerberstraße 41:geo:16.3946163,48.2084854
END:VEVENT
END:VCALENDAR