BEGIN:VCALENDAR
VERSION:2.0
PRODID:-//8. März - ECPv6.15.17.1//NONSGML v1.0//EN
CALSCALE:GREGORIAN
METHOD:PUBLISH
X-ORIGINAL-URL:https://8maerz.at
X-WR-CALDESC:Veranstaltungen für 8. März
REFRESH-INTERVAL;VALUE=DURATION:PT1H
X-Robots-Tag:noindex
X-PUBLISHED-TTL:PT1H
BEGIN:VTIMEZONE
TZID:UTC
BEGIN:STANDARD
TZOFFSETFROM:+0000
TZOFFSETTO:+0000
TZNAME:UTC
DTSTART:20170101T000000
END:STANDARD
END:VTIMEZONE
BEGIN:VEVENT
DTSTART;VALUE=DATE:20180212
DTEND;VALUE=DATE:20180213
DTSTAMP:20260421T185834
CREATED:20180119T211100Z
LAST-MODIFIED:20180127T105714Z
UID:10003329-1518393600-1518479999@8maerz.at
SUMMARY:Beginn Unterstützungserklärungen Frauen*volksbegehren
DESCRIPTION:Ab 12.2.2018 ist es mög­lich\, Unter­stüt­zungs­er­klä­run­gen für das neue Frauen*volksbegehren zu unter­schrei­ben. Die Unter­stüt­zungs­er­klä­run­gen wer­den den Unter­schrif­ten der spä­te­ren Ein­tra­gungs­wo­che angerechnet. \nDetail­in­for­ma­tio­nen dazu fin­det ihr auf frauenvolksbegehren.at (run­ter­scrol­len)\, facebook.com/frauenvolksbegehren und twitter.com/frauenvb.
URL:https://8maerz.at/veranstaltung/beginn-unterstuetzungserklaerungen-frauenvolksbegehren-2018/
LOCATION:Wien
ORGANIZER;CN="Frauen*Volksbegehren":MAILTO:office@frauenvolksbegehren.at
END:VEVENT
BEGIN:VEVENT
DTSTART;TZID=UTC:20180212T100000
DTEND;TZID=UTC:20180212T110000
DTSTAMP:20260421T185834
CREATED:20180205T171144Z
LAST-MODIFIED:20180205T171259Z
UID:10003347-1518429600-1518433200@8maerz.at
SUMMARY:Pressekonferenz One Billion Rising Austria
DESCRIPTION:Die dies­jäh­ri­ge Pres­se­kon­fe­renz von OBRA und die Prä­sen­ta­ti­on des Pro­gramms für One Bil­li­on Rising 2018 fin­det am Mon­tag\, 12. Febru­ar 2018\, 10:00 Uhr im Dschun­gel Wien\, Büh­ne 1 (Muse­ums­Quar­tier\, Muse­ums­platz 1\, 1070 Wien) statt. \nAm Podi­um: Bun­des­rä­tin Ewa Dzied­zic (Spre­che­rin der Grü­nen Frau­en Öster­reich)\, Bri­git­te Hor­ny­ik (Öster­rei­chi­scher Frau­en­ring)\, Gabrie­le Hei­nisch-Hosek (SPÖ-Frau­en­spre­che­rin und Frau­en­vor­sit­zen­de)\, Lena Jäger (Pro­jekt­lei­tung Frauen*Volksbegehren 2.0)\, Corin­ne Ecken­stein (Lei­tung Dschun­gel Wien)\, Aiko Kazu­ko Kur­o­sa­ki (Künst­le­ri­sche Lei­tung OBRA). \nDas Pro­gramm von One Bil­li­on Rising Vien­na 2018 fin­det ihr / fin­den Sie hier und hier.
URL:https://8maerz.at/veranstaltung/pressekonferenz-one-billion-rising-austria/
LOCATION:Dschungel Wien\, Museumsplatz 1\, Wien\, 1070
GEO:48.2026499;16.3591421
X-APPLE-STRUCTURED-LOCATION;VALUE=URI;X-ADDRESS=Dschungel Wien Museumsplatz 1 Wien 1070;X-APPLE-RADIUS=500;X-TITLE=Museumsplatz 1:geo:16.3591421,48.2026499
END:VEVENT
END:VCALENDAR