BEGIN:VCALENDAR
VERSION:2.0
PRODID:-//8. März - ECPv6.15.17.1//NONSGML v1.0//EN
CALSCALE:GREGORIAN
METHOD:PUBLISH
X-ORIGINAL-URL:https://8maerz.at
X-WR-CALDESC:Veranstaltungen für 8. März
REFRESH-INTERVAL;VALUE=DURATION:PT1H
X-Robots-Tag:noindex
X-PUBLISHED-TTL:PT1H
BEGIN:VTIMEZONE
TZID:UTC
BEGIN:STANDARD
TZOFFSETFROM:+0000
TZOFFSETTO:+0000
TZNAME:UTC
DTSTART:20170101T000000
END:STANDARD
END:VTIMEZONE
BEGIN:VEVENT
DTSTART;TZID=UTC:20180123T190000
DTEND;TZID=UTC:20180123T220000
DTSTAMP:20260421T185801
CREATED:20180109T193949Z
LAST-MODIFIED:20180109T194737Z
UID:10003319-1516734000-1516744800@8maerz.at
SUMMARY:Frauen*kämpfe reloaded: Strategien für feminist. Mobilisierung
DESCRIPTION:Den reak­tio­nä­ren Kräf­ten\, die aller­orts Fuß fas­sen\, steht ein femi­nis­ti­scher Auf­bruch ent­ge­gen: Anfang 2017 war es eine Frauen*bewegung\, die in den USA zum Wider­stand gegen die ras­sis­ti­sche und sexis­ti­sche Poli­tik des neu gewähl­ten Prä­si­den­ten mobil mach­te. Auch in Polen hat die Frauen*bewegung ein kräf­ti­ges Lebens­zei­chen von sich gege­ben – und im Netz lös­ten femi­nis­ti­sche Akti­vis­tin­nen* mit #metoo eine glo­ba­le Debat­te über sexu­el­le Gewalt aus. 2018 star­tet in Öster­reich das Frauen*Volksbegehen\, um sich dem Back­lash ent­ge­gen­zu­stel­len und die Regie­rung dar­an zu erin­nern\, dass jede zwei­te Per­son in Öster­reich Toch­ter die­ser Repu­blik ist. \nEin Dis­kus­si­ons­abend über bewähr­te und mög­li­che neue Mobi­li­sie­rungs­stra­te­gien im Stich­wort\, Archiv der Frau­en- und Les­ben­be­we­gung\, in Koope­ra­ti­on mit an.schläge – das femi­nis­ti­sche Maga­zin und Frau­en­volks­be­geh­ren 2.0 \nAm Podi­um:\nLena Jäger\, Frau­en­volks­be­geh­ren 2.0\nGit­ti Gei­ger\, Stichwort\nLea Sus­e­mi­chel\, an.schläge\n+ t.b.a.\nMode­ra­ti­on: Bri­git­te Theißl \nFLIT only! (Das Stich­wort ist ein Frauen*-Raum)
URL:https://8maerz.at/veranstaltung/frauenkaempfe-reloaded-strategien-fuer-feminist-mobilisierung/
LOCATION:Stichwort – Archiv der Frauen- und Lesbenbewegung\, Gusshausstraße 20/1A+B\, Wien\, 1040
ORGANIZER;CN="an.schl%C3%A4ge %E2%80%93 das feministische Magazin":MAILTO:redaktion@anschlaege.at
GEO:48.1970463;16.3705004
X-APPLE-STRUCTURED-LOCATION;VALUE=URI;X-ADDRESS=Stichwort – Archiv der Frauen- und Lesbenbewegung Gusshausstraße 20/1A+B Wien 1040;X-APPLE-RADIUS=500;X-TITLE=Gusshausstraße 20/1A+B:geo:16.3705004,48.1970463
END:VEVENT
BEGIN:VEVENT
DTSTART;TZID=UTC:20180123T190000
DTEND;TZID=UTC:20180123T220000
DTSTAMP:20260421T185801
CREATED:20180117T202356Z
LAST-MODIFIED:20180117T203220Z
UID:10003323-1516734000-1516744800@8maerz.at
SUMMARY:Filmscreening: Die Frau\, die Arbeit\, die Kunst und das Geld
DESCRIPTION:Film­scree­ning mit anschlie­ßen­dem Gespräch\nIm Rah­men von Kunst & Geld \nDie Frau\, die Arbeit\, die Kunst und das Geld\nEin Doku­men­tar­film von Eli­sa­beth Maria (SI. SI.) Klo­cker\, A 2007\, Dau­er: 72 Min \nIn die­ser leb­haf­ten\, iro­ni­schen Moment­auf­nah­me wer­den unter­schied­li­che Zugän­ge in Bezug auf Geld\, Arbeit und Kunst selbst­kri­tisch\, aber auch hei­ter reflek­tiert. Mehr­fach­be­las­tung\, unsi­che­re und unre­gel­mä­ßi­ge Arbeits­be­din­gun­gen\, Exis­tenz­ängs­te etc. prägen den All­tag der Prot­ago­nis­tin­nen. Sie alle erzäh­len vom Under­ground Kampf krea­tiv schaf­fen­der Frau­en\, sie berich­ten von ihren Gue­ril­la-Tak­ti­ken\, Sehn­süch­ten und Wün­schen. Künst­le­rin­nen aus meh­re­ren Regio­nen: Wien\, Ber­lin\, Vor­arl­berg und San Fran­cis­co bezie­hen dazu Stel­lung\, dabei ste­hen sich unter­schied­li­che Auf­fas­sun­gen der ein­zel­nen Künst­le­rin­nen gegenüber.\n \nFoto­ga­le­rie Wien im WUK\, Kino Stie­ge 5\n In Koope­ra­ti­on mit: Aus­tria Film Coop und Foto­ga­le­rie Wien\nEin­tritt: freie Spende \nEvent auf Facebook
URL:https://8maerz.at/veranstaltung/filmscreening-die-frau-die-arbeit-die-kunst-und-das-geld/
LOCATION:WUK\, Währingerstraße 59\, Wien\, 1090\, Österreich
ORGANIZER;CN="IG Bildende Kunst":MAILTO:office@igbildendekunst.at
GEO:48.2232818;16.3514158
X-APPLE-STRUCTURED-LOCATION;VALUE=URI;X-ADDRESS=WUK Währingerstraße 59 Wien 1090 Österreich;X-APPLE-RADIUS=500;X-TITLE=Währingerstraße 59:geo:16.3514158,48.2232818
END:VEVENT
END:VCALENDAR