BEGIN:VCALENDAR
VERSION:2.0
PRODID:-//8. März - ECPv6.15.17.1//NONSGML v1.0//EN
CALSCALE:GREGORIAN
METHOD:PUBLISH
X-WR-CALNAME:8. März
X-ORIGINAL-URL:https://8maerz.at
X-WR-CALDESC:Veranstaltungen für 8. März
REFRESH-INTERVAL;VALUE=DURATION:PT1H
X-Robots-Tag:noindex
X-PUBLISHED-TTL:PT1H
BEGIN:VTIMEZONE
TZID:UTC
BEGIN:STANDARD
TZOFFSETFROM:+0000
TZOFFSETTO:+0000
TZNAME:UTC
DTSTART:20170101T000000
END:STANDARD
END:VTIMEZONE
BEGIN:VEVENT
DTSTART;TZID=UTC:20180305T170000
DTEND;TZID=UTC:20180305T200000
DTSTAMP:20260421T203331
CREATED:20180304T212820Z
LAST-MODIFIED:20180304T213533Z
UID:10003415-1520269200-1520280000@8maerz.at
SUMMARY:Sexarbeiter*innenrechte sind Frauen*rechte
DESCRIPTION:Workshop: Sexarbeiter*innenrechte sind Frauen*rechte – in Theorie und Praxis\nMitt­woch\, 5.3.\, 17–20 Uhr\, Ket­ten­brü­cken­gas­se 15⁄4\, 1050 Wien\, Austria\nEin­la­dungs­po­li­tik: FLINT\nZugäng­lich­keit: Teilnehmerinnen*anzahl: min. 10\, max. 20\nAnmel­dung:  frauenreferat@oeh.univie.ac.at \nDie­ser Work­shop soll einen Raum für Inter­es­sier­te bie­ten\, sich mit dem The­ma Sex­ar­beit aus einer femi­nis­ti­schen Per­spek­ti­ve aus­ein­an­der zu set­zen. Anläss­lich des Inter­na­tio­na­len Frauen*(Kampf)Tages wol­len wir uns der Fra­ge wid­men\, was es bedeu­tet\, sich für die Rech­te von (migran­ti­schen) Sexarbeiter*innen ein­zu­set­zen und was die­se Posi­tio­nie­rung aus unse­rer Sicht kon­kret beinhal­tet. Anschlie­ßend wol­len wir in einem prak­ti­schen Teil gemein­sam über­le­gen\, wie wir die Kämp­fe von Sexarbeiter*innen unter­stüt­zen kön­nen und uns dann gleich aktiv an die Arbeit machen (Flash­mob\, Krea­ti­ves für Ver­an­stal­tun­gen\, Trans­pa­ren­te malen\, etc.). Behan­delt wer­den soll unter anderem: \n\nSen­si­bi­li­sie­rung für das Thema\nRechtliche/Soziale Situa­ti­on von migran­ti­schen Sexarbeiter*innen in Österreich\nPosi­tio­nie­rung\, Arbeit und Ange­bo­te von LEFÖ/TAMPEP
URL:https://8maerz.at/veranstaltung/sexarbeiterinnenrechte-sind-frauenrechte/
LOCATION:LEFÖ\, Kettenbrückengasse 15/4\, Wien\, 1050
GEO:48.1956353;16.3600869
X-APPLE-STRUCTURED-LOCATION;VALUE=URI;X-ADDRESS=LEFÖ Kettenbrückengasse 15/4 Wien 1050;X-APPLE-RADIUS=500;X-TITLE=Kettenbrückengasse 15/4:geo:16.3600869,48.1956353
END:VEVENT
END:VCALENDAR